BEGIN:VCALENDAR
VERSION:2.0
PRODID:-//Cordova District Library - ECPv6.15.20//NONSGML v1.0//EN
CALSCALE:GREGORIAN
METHOD:PUBLISH
X-WR-CALNAME:Cordova District Library
X-ORIGINAL-URL:https://www.cordovalibrary.com
X-WR-CALDESC:Events for Cordova District Library
REFRESH-INTERVAL;VALUE=DURATION:PT1H
X-Robots-Tag:noindex
X-PUBLISHED-TTL:PT1H
BEGIN:VTIMEZONE
TZID:America/Chicago
BEGIN:DAYLIGHT
TZOFFSETFROM:-0600
TZOFFSETTO:-0500
TZNAME:CDT
DTSTART:20280312T080000
END:DAYLIGHT
BEGIN:STANDARD
TZOFFSETFROM:-0500
TZOFFSETTO:-0600
TZNAME:CST
DTSTART:20281105T070000
END:STANDARD
BEGIN:DAYLIGHT
TZOFFSETFROM:-0600
TZOFFSETTO:-0500
TZNAME:CDT
DTSTART:20290311T080000
END:DAYLIGHT
BEGIN:STANDARD
TZOFFSETFROM:-0500
TZOFFSETTO:-0600
TZNAME:CST
DTSTART:20291104T070000
END:STANDARD
BEGIN:DAYLIGHT
TZOFFSETFROM:-0600
TZOFFSETTO:-0500
TZNAME:CDT
DTSTART:20300310T080000
END:DAYLIGHT
BEGIN:STANDARD
TZOFFSETFROM:-0500
TZOFFSETTO:-0600
TZNAME:CST
DTSTART:20301103T070000
END:STANDARD
END:VTIMEZONE
BEGIN:VEVENT
DTSTART;TZID=America/Chicago:20291102T090000
DTEND;TZID=America/Chicago:20291102T093000
DTSTAMP:20260424T212642
CREATED:20240808T233504Z
LAST-MODIFIED:20251120T223457Z
UID:10001920-1888304400-1888306200@www.cordovalibrary.com
SUMMARY:Chair Exercise
DESCRIPTION:Join friends for chair exercise. Exercise is led by a DVD instructor.
URL:https://www.cordovalibrary.com/event/chair-exercise/2029-11-02/
LOCATION:Cordova Library\, 402 Main Ave\, Cordova\, IL\, 61242\, United States
CATEGORIES:Adults
ORGANIZER;CN="Cordova Library":MAILTO:cfornero-green@cordovalibrary.com
END:VEVENT
BEGIN:VEVENT
DTSTART;TZID=America/Chicago:20291102T100000
DTEND;TZID=America/Chicago:20291102T110000
DTSTAMP:20260424T212642
CREATED:20240809T002629Z
LAST-MODIFIED:20260102T160037Z
UID:10001945-1888308000-1888311600@www.cordovalibrary.com
SUMMARY:Story Time
DESCRIPTION:Books\, singing\, dancing and playing…at Story Time! All ages are welcome to attend our Story Time in the Library. On May 23rd…we will be having Story Time at the Civic Center Park. If there is bad weather\, we will be in the library.
URL:https://www.cordovalibrary.com/event/story-time-2/2029-11-02/
LOCATION:Cordova Library\, 402 Main Ave\, Cordova\, IL\, 61242\, United States
CATEGORIES:Children's
ATTACH;FMTTYPE=image/jpeg:https://www.cordovalibrary.com/wp-content/uploads/2024/07/IMG_5543.jpg
ORGANIZER;CN="Cordova Library":MAILTO:cfornero-green@cordovalibrary.com
END:VEVENT
BEGIN:VEVENT
DTSTART;TZID=America/Chicago:20291105T090000
DTEND;TZID=America/Chicago:20291105T093000
DTSTAMP:20260424T212642
CREATED:20240808T233504Z
LAST-MODIFIED:20251120T223457Z
UID:10002264-1888563600-1888565400@www.cordovalibrary.com
SUMMARY:Chair Exercise
DESCRIPTION:Join friends for chair exercise. Exercise is led by a DVD instructor.
URL:https://www.cordovalibrary.com/event/chair-exercise/2029-11-05/
LOCATION:Cordova Library\, 402 Main Ave\, Cordova\, IL\, 61242\, United States
CATEGORIES:Adults
ORGANIZER;CN="Cordova Library":MAILTO:cfornero-green@cordovalibrary.com
END:VEVENT
BEGIN:VEVENT
DTSTART;TZID=America/Chicago:20291106T100000
DTEND;TZID=America/Chicago:20291106T110000
DTSTAMP:20260424T212642
CREATED:20250903T210830Z
LAST-MODIFIED:20250903T210830Z
UID:10002972-1888653600-1888657200@www.cordovalibrary.com
SUMMARY:Book Club
DESCRIPTION:Morning book club where a variety of genres are discussed.
URL:https://www.cordovalibrary.com/event/book-club-2/2029-11-06/
LOCATION:Cordova Library\, 402 Main Ave\, Cordova\, IL\, 61242\, United States
CATEGORIES:Adults
ORGANIZER;CN="Cordova Library":MAILTO:cfornero-green@cordovalibrary.com
END:VEVENT
BEGIN:VEVENT
DTSTART;TZID=America/Chicago:20291106T160000
DTEND;TZID=America/Chicago:20291106T170000
DTSTAMP:20260424T212642
CREATED:20241104T192022Z
LAST-MODIFIED:20250903T203155Z
UID:10002786-1888675200-1888678800@www.cordovalibrary.com
SUMMARY:Crochet
DESCRIPTION:Meet friends to crochet or knit.
URL:https://www.cordovalibrary.com/event/crochet/2029-11-06/
LOCATION:Cordova Library\, 402 Main Ave\, Cordova\, IL\, 61242\, United States
CATEGORIES:Adults
ORGANIZER;CN="Cordova Library":MAILTO:cfornero-green@cordovalibrary.com
END:VEVENT
BEGIN:VEVENT
DTSTART;TZID=America/Chicago:20291107T090000
DTEND;TZID=America/Chicago:20291107T093000
DTSTAMP:20260424T212642
CREATED:20240808T233504Z
LAST-MODIFIED:20251120T223457Z
UID:10002265-1888736400-1888738200@www.cordovalibrary.com
SUMMARY:Chair Exercise
DESCRIPTION:Join friends for chair exercise. Exercise is led by a DVD instructor.
URL:https://www.cordovalibrary.com/event/chair-exercise/2029-11-07/
LOCATION:Cordova Library\, 402 Main Ave\, Cordova\, IL\, 61242\, United States
CATEGORIES:Adults
ORGANIZER;CN="Cordova Library":MAILTO:cfornero-green@cordovalibrary.com
END:VEVENT
BEGIN:VEVENT
DTSTART;TZID=America/Chicago:20291107T180000
DTEND;TZID=America/Chicago:20291107T190000
DTSTAMP:20260424T212642
CREATED:20250903T203659Z
LAST-MODIFIED:20250903T203659Z
UID:10002880-1888768800-1888772400@www.cordovalibrary.com
SUMMARY:Stories by Starlight
DESCRIPTION:Once a month story time at night for kids of all ages.
URL:https://www.cordovalibrary.com/event/stories-by-starlight/2029-11-07/
LOCATION:Cordova Library\, 402 Main Ave\, Cordova\, IL\, 61242\, United States
CATEGORIES:Children's
ATTACH;FMTTYPE=image/png:https://www.cordovalibrary.com/wp-content/uploads/2025/09/IMG_0151.png
ORGANIZER;CN="Cordova Library":MAILTO:cfornero-green@cordovalibrary.com
END:VEVENT
BEGIN:VEVENT
DTSTART;TZID=America/Chicago:20291108T090000
DTEND;TZID=America/Chicago:20291108T170000
DTSTAMP:20260424T212642
CREATED:20260304T230930Z
LAST-MODIFIED:20260304T230930Z
UID:10003717-1888822800-1888851600@www.cordovalibrary.com
SUMMARY:Do Your Own Thing
DESCRIPTION:Join friends to work on crafts.
URL:https://www.cordovalibrary.com/event/do-your-own-thing-4/2029-11-08/
LOCATION:Cordova Library\, 402 Main Ave\, Cordova\, IL\, 61242\, United States
CATEGORIES:Adults
ORGANIZER;CN="Cordova Library":MAILTO:cfornero-green@cordovalibrary.com
END:VEVENT
BEGIN:VEVENT
DTSTART;TZID=America/Chicago:20291109T090000
DTEND;TZID=America/Chicago:20291109T093000
DTSTAMP:20260424T212642
CREATED:20240808T233504Z
LAST-MODIFIED:20251120T223457Z
UID:10002266-1888909200-1888911000@www.cordovalibrary.com
SUMMARY:Chair Exercise
DESCRIPTION:Join friends for chair exercise. Exercise is led by a DVD instructor.
URL:https://www.cordovalibrary.com/event/chair-exercise/2029-11-09/
LOCATION:Cordova Library\, 402 Main Ave\, Cordova\, IL\, 61242\, United States
CATEGORIES:Adults
ORGANIZER;CN="Cordova Library":MAILTO:cfornero-green@cordovalibrary.com
END:VEVENT
BEGIN:VEVENT
DTSTART;TZID=America/Chicago:20291109T100000
DTEND;TZID=America/Chicago:20291109T110000
DTSTAMP:20260424T212642
CREATED:20240809T002629Z
LAST-MODIFIED:20260102T160037Z
UID:10002341-1888912800-1888916400@www.cordovalibrary.com
SUMMARY:Story Time
DESCRIPTION:Books\, singing\, dancing and playing…at Story Time! All ages are welcome to attend our Story Time in the Library. On May 23rd…we will be having Story Time at the Civic Center Park. If there is bad weather\, we will be in the library.
URL:https://www.cordovalibrary.com/event/story-time-2/2029-11-09/
LOCATION:Cordova Library\, 402 Main Ave\, Cordova\, IL\, 61242\, United States
CATEGORIES:Children's
ATTACH;FMTTYPE=image/jpeg:https://www.cordovalibrary.com/wp-content/uploads/2024/07/IMG_5543.jpg
ORGANIZER;CN="Cordova Library":MAILTO:cfornero-green@cordovalibrary.com
END:VEVENT
BEGIN:VEVENT
DTSTART;TZID=America/Chicago:20291112T090000
DTEND;TZID=America/Chicago:20291112T093000
DTSTAMP:20260424T212642
CREATED:20240808T233504Z
LAST-MODIFIED:20251120T223457Z
UID:10002267-1889168400-1889170200@www.cordovalibrary.com
SUMMARY:Chair Exercise
DESCRIPTION:Join friends for chair exercise. Exercise is led by a DVD instructor.
URL:https://www.cordovalibrary.com/event/chair-exercise/2029-11-12/
LOCATION:Cordova Library\, 402 Main Ave\, Cordova\, IL\, 61242\, United States
CATEGORIES:Adults
ORGANIZER;CN="Cordova Library":MAILTO:cfornero-green@cordovalibrary.com
END:VEVENT
BEGIN:VEVENT
DTSTART;TZID=America/Chicago:20291113T160000
DTEND;TZID=America/Chicago:20291113T170000
DTSTAMP:20260424T212643
CREATED:20241104T192022Z
LAST-MODIFIED:20250903T203155Z
UID:10002787-1889280000-1889283600@www.cordovalibrary.com
SUMMARY:Crochet
DESCRIPTION:Meet friends to crochet or knit.
URL:https://www.cordovalibrary.com/event/crochet/2029-11-13/
LOCATION:Cordova Library\, 402 Main Ave\, Cordova\, IL\, 61242\, United States
CATEGORIES:Adults
ORGANIZER;CN="Cordova Library":MAILTO:cfornero-green@cordovalibrary.com
END:VEVENT
BEGIN:VEVENT
DTSTART;TZID=America/Chicago:20291114T090000
DTEND;TZID=America/Chicago:20291114T093000
DTSTAMP:20260424T212643
CREATED:20240808T233504Z
LAST-MODIFIED:20251120T223457Z
UID:10002268-1889341200-1889343000@www.cordovalibrary.com
SUMMARY:Chair Exercise
DESCRIPTION:Join friends for chair exercise. Exercise is led by a DVD instructor.
URL:https://www.cordovalibrary.com/event/chair-exercise/2029-11-14/
LOCATION:Cordova Library\, 402 Main Ave\, Cordova\, IL\, 61242\, United States
CATEGORIES:Adults
ORGANIZER;CN="Cordova Library":MAILTO:cfornero-green@cordovalibrary.com
END:VEVENT
BEGIN:VEVENT
DTSTART;TZID=America/Chicago:20291115T090000
DTEND;TZID=America/Chicago:20291115T103000
DTSTAMP:20260424T212643
CREATED:20240919T145842Z
LAST-MODIFIED:20250903T204702Z
UID:10002902-1889427600-1889433000@www.cordovalibrary.com
SUMMARY:Library Board Meeting
DESCRIPTION:Monthly meeting of the Cordova Library Board.
URL:https://www.cordovalibrary.com/event/library-board-meeting-3/2029-11-15/
LOCATION:Cordova Library\, 402 Main Ave\, Cordova\, IL\, 61242\, United States
CATEGORIES:Board Meetings
ORGANIZER;CN="Cordova Library":MAILTO:cfornero-green@cordovalibrary.com
END:VEVENT
BEGIN:VEVENT
DTSTART;TZID=America/Chicago:20291116T090000
DTEND;TZID=America/Chicago:20291116T093000
DTSTAMP:20260424T212643
CREATED:20240808T233504Z
LAST-MODIFIED:20251120T223457Z
UID:10002269-1889514000-1889515800@www.cordovalibrary.com
SUMMARY:Chair Exercise
DESCRIPTION:Join friends for chair exercise. Exercise is led by a DVD instructor.
URL:https://www.cordovalibrary.com/event/chair-exercise/2029-11-16/
LOCATION:Cordova Library\, 402 Main Ave\, Cordova\, IL\, 61242\, United States
CATEGORIES:Adults
ORGANIZER;CN="Cordova Library":MAILTO:cfornero-green@cordovalibrary.com
END:VEVENT
BEGIN:VEVENT
DTSTART;TZID=America/Chicago:20291116T100000
DTEND;TZID=America/Chicago:20291116T110000
DTSTAMP:20260424T212643
CREATED:20240809T002629Z
LAST-MODIFIED:20260102T160037Z
UID:10002342-1889517600-1889521200@www.cordovalibrary.com
SUMMARY:Story Time
DESCRIPTION:Books\, singing\, dancing and playing…at Story Time! All ages are welcome to attend our Story Time in the Library. On May 23rd…we will be having Story Time at the Civic Center Park. If there is bad weather\, we will be in the library.
URL:https://www.cordovalibrary.com/event/story-time-2/2029-11-16/
LOCATION:Cordova Library\, 402 Main Ave\, Cordova\, IL\, 61242\, United States
CATEGORIES:Children's
ATTACH;FMTTYPE=image/jpeg:https://www.cordovalibrary.com/wp-content/uploads/2024/07/IMG_5543.jpg
ORGANIZER;CN="Cordova Library":MAILTO:cfornero-green@cordovalibrary.com
END:VEVENT
BEGIN:VEVENT
DTSTART;TZID=America/Chicago:20291119T090000
DTEND;TZID=America/Chicago:20291119T093000
DTSTAMP:20260424T212643
CREATED:20240808T233504Z
LAST-MODIFIED:20251120T223457Z
UID:10002270-1889773200-1889775000@www.cordovalibrary.com
SUMMARY:Chair Exercise
DESCRIPTION:Join friends for chair exercise. Exercise is led by a DVD instructor.
URL:https://www.cordovalibrary.com/event/chair-exercise/2029-11-19/
LOCATION:Cordova Library\, 402 Main Ave\, Cordova\, IL\, 61242\, United States
CATEGORIES:Adults
ORGANIZER;CN="Cordova Library":MAILTO:cfornero-green@cordovalibrary.com
END:VEVENT
BEGIN:VEVENT
DTSTART;TZID=America/Chicago:20291120T160000
DTEND;TZID=America/Chicago:20291120T170000
DTSTAMP:20260424T212643
CREATED:20241104T192022Z
LAST-MODIFIED:20250903T203155Z
UID:10002788-1889884800-1889888400@www.cordovalibrary.com
SUMMARY:Crochet
DESCRIPTION:Meet friends to crochet or knit.
URL:https://www.cordovalibrary.com/event/crochet/2029-11-20/
LOCATION:Cordova Library\, 402 Main Ave\, Cordova\, IL\, 61242\, United States
CATEGORIES:Adults
ORGANIZER;CN="Cordova Library":MAILTO:cfornero-green@cordovalibrary.com
END:VEVENT
BEGIN:VEVENT
DTSTART;TZID=America/Chicago:20291121T090000
DTEND;TZID=America/Chicago:20291121T093000
DTSTAMP:20260424T212643
CREATED:20240808T233504Z
LAST-MODIFIED:20251120T223457Z
UID:10002271-1889946000-1889947800@www.cordovalibrary.com
SUMMARY:Chair Exercise
DESCRIPTION:Join friends for chair exercise. Exercise is led by a DVD instructor.
URL:https://www.cordovalibrary.com/event/chair-exercise/2029-11-21/
LOCATION:Cordova Library\, 402 Main Ave\, Cordova\, IL\, 61242\, United States
CATEGORIES:Adults
ORGANIZER;CN="Cordova Library":MAILTO:cfornero-green@cordovalibrary.com
END:VEVENT
BEGIN:VEVENT
DTSTART;TZID=America/Chicago:20291123T090000
DTEND;TZID=America/Chicago:20291123T093000
DTSTAMP:20260424T212643
CREATED:20240808T233504Z
LAST-MODIFIED:20251120T223457Z
UID:10002272-1890118800-1890120600@www.cordovalibrary.com
SUMMARY:Chair Exercise
DESCRIPTION:Join friends for chair exercise. Exercise is led by a DVD instructor.
URL:https://www.cordovalibrary.com/event/chair-exercise/2029-11-23/
LOCATION:Cordova Library\, 402 Main Ave\, Cordova\, IL\, 61242\, United States
CATEGORIES:Adults
ORGANIZER;CN="Cordova Library":MAILTO:cfornero-green@cordovalibrary.com
END:VEVENT
BEGIN:VEVENT
DTSTART;TZID=America/Chicago:20291123T100000
DTEND;TZID=America/Chicago:20291123T110000
DTSTAMP:20260424T212643
CREATED:20240809T002629Z
LAST-MODIFIED:20260102T160037Z
UID:10002343-1890122400-1890126000@www.cordovalibrary.com
SUMMARY:Story Time
DESCRIPTION:Books\, singing\, dancing and playing…at Story Time! All ages are welcome to attend our Story Time in the Library. On May 23rd…we will be having Story Time at the Civic Center Park. If there is bad weather\, we will be in the library.
URL:https://www.cordovalibrary.com/event/story-time-2/2029-11-23/
LOCATION:Cordova Library\, 402 Main Ave\, Cordova\, IL\, 61242\, United States
CATEGORIES:Children's
ATTACH;FMTTYPE=image/jpeg:https://www.cordovalibrary.com/wp-content/uploads/2024/07/IMG_5543.jpg
ORGANIZER;CN="Cordova Library":MAILTO:cfornero-green@cordovalibrary.com
END:VEVENT
BEGIN:VEVENT
DTSTART;TZID=America/Chicago:20291126T090000
DTEND;TZID=America/Chicago:20291126T093000
DTSTAMP:20260424T212643
CREATED:20240808T233504Z
LAST-MODIFIED:20251120T223457Z
UID:10002273-1890378000-1890379800@www.cordovalibrary.com
SUMMARY:Chair Exercise
DESCRIPTION:Join friends for chair exercise. Exercise is led by a DVD instructor.
URL:https://www.cordovalibrary.com/event/chair-exercise/2029-11-26/
LOCATION:Cordova Library\, 402 Main Ave\, Cordova\, IL\, 61242\, United States
CATEGORIES:Adults
ORGANIZER;CN="Cordova Library":MAILTO:cfornero-green@cordovalibrary.com
END:VEVENT
BEGIN:VEVENT
DTSTART;TZID=America/Chicago:20291127T080000
DTEND;TZID=America/Chicago:20291127T170000
DTSTAMP:20260424T212643
CREATED:20260205T163418Z
LAST-MODIFIED:20260205T163418Z
UID:10003640-1890460800-1890493200@www.cordovalibrary.com
SUMMARY:Do Your Own Thing
DESCRIPTION:Work on a project with friends! Bring a dish to pass for lunch.
URL:https://www.cordovalibrary.com/event/do-your-own-thing-2-2/2029-11-27/
LOCATION:Cordova Library\, 402 Main Ave\, Cordova\, IL\, 61242\, United States
CATEGORIES:Adults
ORGANIZER;CN="Cordova Library":MAILTO:cfornero-green@cordovalibrary.com
END:VEVENT
BEGIN:VEVENT
DTSTART;TZID=America/Chicago:20291127T160000
DTEND;TZID=America/Chicago:20291127T170000
DTSTAMP:20260424T212643
CREATED:20241104T192022Z
LAST-MODIFIED:20250903T203155Z
UID:10002789-1890489600-1890493200@www.cordovalibrary.com
SUMMARY:Crochet
DESCRIPTION:Meet friends to crochet or knit.
URL:https://www.cordovalibrary.com/event/crochet/2029-11-27/
LOCATION:Cordova Library\, 402 Main Ave\, Cordova\, IL\, 61242\, United States
CATEGORIES:Adults
ORGANIZER;CN="Cordova Library":MAILTO:cfornero-green@cordovalibrary.com
END:VEVENT
BEGIN:VEVENT
DTSTART;TZID=America/Chicago:20291128T090000
DTEND;TZID=America/Chicago:20291128T093000
DTSTAMP:20260424T212643
CREATED:20240808T233504Z
LAST-MODIFIED:20251120T223457Z
UID:10002274-1890550800-1890552600@www.cordovalibrary.com
SUMMARY:Chair Exercise
DESCRIPTION:Join friends for chair exercise. Exercise is led by a DVD instructor.
URL:https://www.cordovalibrary.com/event/chair-exercise/2029-11-28/
LOCATION:Cordova Library\, 402 Main Ave\, Cordova\, IL\, 61242\, United States
CATEGORIES:Adults
ORGANIZER;CN="Cordova Library":MAILTO:cfornero-green@cordovalibrary.com
END:VEVENT
BEGIN:VEVENT
DTSTART;TZID=America/Chicago:20291130T090000
DTEND;TZID=America/Chicago:20291130T093000
DTSTAMP:20260424T212643
CREATED:20240808T233504Z
LAST-MODIFIED:20251120T223457Z
UID:10002275-1890723600-1890725400@www.cordovalibrary.com
SUMMARY:Chair Exercise
DESCRIPTION:Join friends for chair exercise. Exercise is led by a DVD instructor.
URL:https://www.cordovalibrary.com/event/chair-exercise/2029-11-30/
LOCATION:Cordova Library\, 402 Main Ave\, Cordova\, IL\, 61242\, United States
CATEGORIES:Adults
ORGANIZER;CN="Cordova Library":MAILTO:cfornero-green@cordovalibrary.com
END:VEVENT
BEGIN:VEVENT
DTSTART;TZID=America/Chicago:20291130T100000
DTEND;TZID=America/Chicago:20291130T110000
DTSTAMP:20260424T212643
CREATED:20240809T002629Z
LAST-MODIFIED:20260102T160037Z
UID:10002344-1890727200-1890730800@www.cordovalibrary.com
SUMMARY:Story Time
DESCRIPTION:Books\, singing\, dancing and playing…at Story Time! All ages are welcome to attend our Story Time in the Library. On May 23rd…we will be having Story Time at the Civic Center Park. If there is bad weather\, we will be in the library.
URL:https://www.cordovalibrary.com/event/story-time-2/2029-11-30/
LOCATION:Cordova Library\, 402 Main Ave\, Cordova\, IL\, 61242\, United States
CATEGORIES:Children's
ATTACH;FMTTYPE=image/jpeg:https://www.cordovalibrary.com/wp-content/uploads/2024/07/IMG_5543.jpg
ORGANIZER;CN="Cordova Library":MAILTO:cfornero-green@cordovalibrary.com
END:VEVENT
END:VCALENDAR