BEGIN:VCALENDAR
VERSION:2.0
PRODID:-//Cordova District Library - ECPv6.15.20//NONSGML v1.0//EN
CALSCALE:GREGORIAN
METHOD:PUBLISH
X-ORIGINAL-URL:https://www.cordovalibrary.com
X-WR-CALDESC:Events for Cordova District Library
REFRESH-INTERVAL;VALUE=DURATION:PT1H
X-Robots-Tag:noindex
X-PUBLISHED-TTL:PT1H
BEGIN:VTIMEZONE
TZID:America/Chicago
BEGIN:DAYLIGHT
TZOFFSETFROM:-0600
TZOFFSETTO:-0500
TZNAME:CDT
DTSTART:20270314T080000
END:DAYLIGHT
BEGIN:STANDARD
TZOFFSETFROM:-0500
TZOFFSETTO:-0600
TZNAME:CST
DTSTART:20271107T070000
END:STANDARD
BEGIN:DAYLIGHT
TZOFFSETFROM:-0600
TZOFFSETTO:-0500
TZNAME:CDT
DTSTART:20280312T080000
END:DAYLIGHT
BEGIN:STANDARD
TZOFFSETFROM:-0500
TZOFFSETTO:-0600
TZNAME:CST
DTSTART:20281105T070000
END:STANDARD
BEGIN:DAYLIGHT
TZOFFSETFROM:-0600
TZOFFSETTO:-0500
TZNAME:CDT
DTSTART:20290311T080000
END:DAYLIGHT
BEGIN:STANDARD
TZOFFSETFROM:-0500
TZOFFSETTO:-0600
TZNAME:CST
DTSTART:20291104T070000
END:STANDARD
END:VTIMEZONE
BEGIN:VEVENT
DTSTART;TZID=America/Chicago:20280403T090000
DTEND;TZID=America/Chicago:20280403T093000
DTSTAMP:20260423T193935
CREATED:20240808T233504Z
LAST-MODIFIED:20251120T223457Z
UID:10000635-1838365200-1838367000@www.cordovalibrary.com
SUMMARY:Chair Exercise
DESCRIPTION:Join friends for chair exercise. Exercise is led by a DVD instructor.
URL:https://www.cordovalibrary.com/event/chair-exercise/2028-04-03/
LOCATION:Cordova Library\, 402 Main Ave\, Cordova\, IL\, 61242\, United States
CATEGORIES:Adults
ORGANIZER;CN="Cordova Library":MAILTO:cfornero-green@cordovalibrary.com
END:VEVENT
BEGIN:VEVENT
DTSTART;TZID=America/Chicago:20280404T100000
DTEND;TZID=America/Chicago:20280404T110000
DTSTAMP:20260423T193935
CREATED:20250903T210830Z
LAST-MODIFIED:20250903T210830Z
UID:10002953-1838455200-1838458800@www.cordovalibrary.com
SUMMARY:Book Club
DESCRIPTION:Morning book club where a variety of genres are discussed.
URL:https://www.cordovalibrary.com/event/book-club-2/2028-04-04/
LOCATION:Cordova Library\, 402 Main Ave\, Cordova\, IL\, 61242\, United States
CATEGORIES:Adults
ORGANIZER;CN="Cordova Library":MAILTO:cfornero-green@cordovalibrary.com
END:VEVENT
BEGIN:VEVENT
DTSTART;TZID=America/Chicago:20280404T160000
DTEND;TZID=America/Chicago:20280404T170000
DTSTAMP:20260423T193935
CREATED:20241104T192022Z
LAST-MODIFIED:20250903T203155Z
UID:10002703-1838476800-1838480400@www.cordovalibrary.com
SUMMARY:Crochet
DESCRIPTION:Meet friends to crochet or knit.
URL:https://www.cordovalibrary.com/event/crochet/2028-04-04/
LOCATION:Cordova Library\, 402 Main Ave\, Cordova\, IL\, 61242\, United States
CATEGORIES:Adults
ORGANIZER;CN="Cordova Library":MAILTO:cfornero-green@cordovalibrary.com
END:VEVENT
BEGIN:VEVENT
DTSTART;TZID=America/Chicago:20280405T090000
DTEND;TZID=America/Chicago:20280405T093000
DTSTAMP:20260423T193935
CREATED:20240808T233504Z
LAST-MODIFIED:20251120T223457Z
UID:10000636-1838538000-1838539800@www.cordovalibrary.com
SUMMARY:Chair Exercise
DESCRIPTION:Join friends for chair exercise. Exercise is led by a DVD instructor.
URL:https://www.cordovalibrary.com/event/chair-exercise/2028-04-05/
LOCATION:Cordova Library\, 402 Main Ave\, Cordova\, IL\, 61242\, United States
CATEGORIES:Adults
ORGANIZER;CN="Cordova Library":MAILTO:cfornero-green@cordovalibrary.com
END:VEVENT
BEGIN:VEVENT
DTSTART;TZID=America/Chicago:20280405T180000
DTEND;TZID=America/Chicago:20280405T190000
DTSTAMP:20260423T193935
CREATED:20250903T203659Z
LAST-MODIFIED:20250903T203659Z
UID:10002861-1838570400-1838574000@www.cordovalibrary.com
SUMMARY:Stories by Starlight
DESCRIPTION:Once a month story time at night for kids of all ages.
URL:https://www.cordovalibrary.com/event/stories-by-starlight/2028-04-05/
LOCATION:Cordova Library\, 402 Main Ave\, Cordova\, IL\, 61242\, United States
CATEGORIES:Children's
ATTACH;FMTTYPE=image/png:https://www.cordovalibrary.com/wp-content/uploads/2025/09/IMG_0151.png
ORGANIZER;CN="Cordova Library":MAILTO:cfornero-green@cordovalibrary.com
END:VEVENT
BEGIN:VEVENT
DTSTART;TZID=America/Chicago:20280407T090000
DTEND;TZID=America/Chicago:20280407T093000
DTSTAMP:20260423T193935
CREATED:20240808T233504Z
LAST-MODIFIED:20251120T223457Z
UID:10000637-1838710800-1838712600@www.cordovalibrary.com
SUMMARY:Chair Exercise
DESCRIPTION:Join friends for chair exercise. Exercise is led by a DVD instructor.
URL:https://www.cordovalibrary.com/event/chair-exercise/2028-04-07/
LOCATION:Cordova Library\, 402 Main Ave\, Cordova\, IL\, 61242\, United States
CATEGORIES:Adults
ORGANIZER;CN="Cordova Library":MAILTO:cfornero-green@cordovalibrary.com
END:VEVENT
BEGIN:VEVENT
DTSTART;TZID=America/Chicago:20280407T100000
DTEND;TZID=America/Chicago:20280407T110000
DTSTAMP:20260423T193935
CREATED:20240809T002629Z
LAST-MODIFIED:20260102T160037Z
UID:10001296-1838714400-1838718000@www.cordovalibrary.com
SUMMARY:Story Time
DESCRIPTION:Books\, singing\, dancing and playing…at Story Time! All ages are welcome to attend our Story Time in the Library. On May 23rd…we will be having Story Time at the Civic Center Park. If there is bad weather\, we will be in the library.
URL:https://www.cordovalibrary.com/event/story-time-2/2028-04-07/
LOCATION:Cordova Library\, 402 Main Ave\, Cordova\, IL\, 61242\, United States
CATEGORIES:Children's
ATTACH;FMTTYPE=image/jpeg:https://www.cordovalibrary.com/wp-content/uploads/2024/07/IMG_5543.jpg
ORGANIZER;CN="Cordova Library":MAILTO:cfornero-green@cordovalibrary.com
END:VEVENT
BEGIN:VEVENT
DTSTART;TZID=America/Chicago:20280410T090000
DTEND;TZID=America/Chicago:20280410T093000
DTSTAMP:20260423T193935
CREATED:20240808T233504Z
LAST-MODIFIED:20251120T223457Z
UID:10000638-1838970000-1838971800@www.cordovalibrary.com
SUMMARY:Chair Exercise
DESCRIPTION:Join friends for chair exercise. Exercise is led by a DVD instructor.
URL:https://www.cordovalibrary.com/event/chair-exercise/2028-04-10/
LOCATION:Cordova Library\, 402 Main Ave\, Cordova\, IL\, 61242\, United States
CATEGORIES:Adults
ORGANIZER;CN="Cordova Library":MAILTO:cfornero-green@cordovalibrary.com
END:VEVENT
BEGIN:VEVENT
DTSTART;TZID=America/Chicago:20280411T160000
DTEND;TZID=America/Chicago:20280411T170000
DTSTAMP:20260423T193935
CREATED:20241104T192022Z
LAST-MODIFIED:20250903T203155Z
UID:10002704-1839081600-1839085200@www.cordovalibrary.com
SUMMARY:Crochet
DESCRIPTION:Meet friends to crochet or knit.
URL:https://www.cordovalibrary.com/event/crochet/2028-04-11/
LOCATION:Cordova Library\, 402 Main Ave\, Cordova\, IL\, 61242\, United States
CATEGORIES:Adults
ORGANIZER;CN="Cordova Library":MAILTO:cfornero-green@cordovalibrary.com
END:VEVENT
BEGIN:VEVENT
DTSTART;TZID=America/Chicago:20280412T090000
DTEND;TZID=America/Chicago:20280412T093000
DTSTAMP:20260423T193935
CREATED:20240808T233504Z
LAST-MODIFIED:20251120T223457Z
UID:10000639-1839142800-1839144600@www.cordovalibrary.com
SUMMARY:Chair Exercise
DESCRIPTION:Join friends for chair exercise. Exercise is led by a DVD instructor.
URL:https://www.cordovalibrary.com/event/chair-exercise/2028-04-12/
LOCATION:Cordova Library\, 402 Main Ave\, Cordova\, IL\, 61242\, United States
CATEGORIES:Adults
ORGANIZER;CN="Cordova Library":MAILTO:cfornero-green@cordovalibrary.com
END:VEVENT
BEGIN:VEVENT
DTSTART;TZID=America/Chicago:20280413T090000
DTEND;TZID=America/Chicago:20280413T170000
DTSTAMP:20260423T193935
CREATED:20260304T230930Z
LAST-MODIFIED:20260304T230930Z
UID:10003698-1839229200-1839258000@www.cordovalibrary.com
SUMMARY:Do Your Own Thing
DESCRIPTION:Join friends to work on crafts.
URL:https://www.cordovalibrary.com/event/do-your-own-thing-4/2028-04-13/
LOCATION:Cordova Library\, 402 Main Ave\, Cordova\, IL\, 61242\, United States
CATEGORIES:Adults
ORGANIZER;CN="Cordova Library":MAILTO:cfornero-green@cordovalibrary.com
END:VEVENT
BEGIN:VEVENT
DTSTART;TZID=America/Chicago:20280414T090000
DTEND;TZID=America/Chicago:20280414T093000
DTSTAMP:20260423T193935
CREATED:20240808T233504Z
LAST-MODIFIED:20251120T223457Z
UID:10000640-1839315600-1839317400@www.cordovalibrary.com
SUMMARY:Chair Exercise
DESCRIPTION:Join friends for chair exercise. Exercise is led by a DVD instructor.
URL:https://www.cordovalibrary.com/event/chair-exercise/2028-04-14/
LOCATION:Cordova Library\, 402 Main Ave\, Cordova\, IL\, 61242\, United States
CATEGORIES:Adults
ORGANIZER;CN="Cordova Library":MAILTO:cfornero-green@cordovalibrary.com
END:VEVENT
BEGIN:VEVENT
DTSTART;TZID=America/Chicago:20280414T100000
DTEND;TZID=America/Chicago:20280414T110000
DTSTAMP:20260423T193935
CREATED:20240809T002629Z
LAST-MODIFIED:20260102T160037Z
UID:10001297-1839319200-1839322800@www.cordovalibrary.com
SUMMARY:Story Time
DESCRIPTION:Books\, singing\, dancing and playing…at Story Time! All ages are welcome to attend our Story Time in the Library. On May 23rd…we will be having Story Time at the Civic Center Park. If there is bad weather\, we will be in the library.
URL:https://www.cordovalibrary.com/event/story-time-2/2028-04-14/
LOCATION:Cordova Library\, 402 Main Ave\, Cordova\, IL\, 61242\, United States
CATEGORIES:Children's
ATTACH;FMTTYPE=image/jpeg:https://www.cordovalibrary.com/wp-content/uploads/2024/07/IMG_5543.jpg
ORGANIZER;CN="Cordova Library":MAILTO:cfornero-green@cordovalibrary.com
END:VEVENT
BEGIN:VEVENT
DTSTART;TZID=America/Chicago:20280417T090000
DTEND;TZID=America/Chicago:20280417T093000
DTSTAMP:20260423T193935
CREATED:20240808T233504Z
LAST-MODIFIED:20251120T223457Z
UID:10000641-1839574800-1839576600@www.cordovalibrary.com
SUMMARY:Chair Exercise
DESCRIPTION:Join friends for chair exercise. Exercise is led by a DVD instructor.
URL:https://www.cordovalibrary.com/event/chair-exercise/2028-04-17/
LOCATION:Cordova Library\, 402 Main Ave\, Cordova\, IL\, 61242\, United States
CATEGORIES:Adults
ORGANIZER;CN="Cordova Library":MAILTO:cfornero-green@cordovalibrary.com
END:VEVENT
BEGIN:VEVENT
DTSTART;TZID=America/Chicago:20280418T160000
DTEND;TZID=America/Chicago:20280418T170000
DTSTAMP:20260423T193935
CREATED:20241104T192022Z
LAST-MODIFIED:20250903T203155Z
UID:10002705-1839686400-1839690000@www.cordovalibrary.com
SUMMARY:Crochet
DESCRIPTION:Meet friends to crochet or knit.
URL:https://www.cordovalibrary.com/event/crochet/2028-04-18/
LOCATION:Cordova Library\, 402 Main Ave\, Cordova\, IL\, 61242\, United States
CATEGORIES:Adults
ORGANIZER;CN="Cordova Library":MAILTO:cfornero-green@cordovalibrary.com
END:VEVENT
BEGIN:VEVENT
DTSTART;TZID=America/Chicago:20280419T090000
DTEND;TZID=America/Chicago:20280419T093000
DTSTAMP:20260423T193935
CREATED:20240808T233504Z
LAST-MODIFIED:20251120T223457Z
UID:10000642-1839747600-1839749400@www.cordovalibrary.com
SUMMARY:Chair Exercise
DESCRIPTION:Join friends for chair exercise. Exercise is led by a DVD instructor.
URL:https://www.cordovalibrary.com/event/chair-exercise/2028-04-19/
LOCATION:Cordova Library\, 402 Main Ave\, Cordova\, IL\, 61242\, United States
CATEGORIES:Adults
ORGANIZER;CN="Cordova Library":MAILTO:cfornero-green@cordovalibrary.com
END:VEVENT
BEGIN:VEVENT
DTSTART;TZID=America/Chicago:20280419T180000
DTEND;TZID=America/Chicago:20280419T190000
DTSTAMP:20260423T193935
CREATED:20240809T003445Z
LAST-MODIFIED:20240809T003556Z
UID:10001532-1839780000-1839783600@www.cordovalibrary.com
SUMMARY:American Legion Meeting
DESCRIPTION:Monthly meeting of the American Legion Post 1033.
URL:https://www.cordovalibrary.com/event/american-legion-meeting/2028-04-19/
LOCATION:Cordova Library\, 402 Main Ave\, Cordova\, IL\, 61242\, United States
CATEGORIES:Adults
ORGANIZER;CN="Cordova Library":MAILTO:cfornero-green@cordovalibrary.com
END:VEVENT
BEGIN:VEVENT
DTSTART;TZID=America/Chicago:20280420T090000
DTEND;TZID=America/Chicago:20280420T103000
DTSTAMP:20260423T193935
CREATED:20240919T145842Z
LAST-MODIFIED:20250903T204702Z
UID:10001605-1839834000-1839839400@www.cordovalibrary.com
SUMMARY:Library Board Meeting
DESCRIPTION:Monthly meeting of the Cordova Library Board.
URL:https://www.cordovalibrary.com/event/library-board-meeting-3/2028-04-20/
LOCATION:Cordova Library\, 402 Main Ave\, Cordova\, IL\, 61242\, United States
CATEGORIES:Board Meetings
ORGANIZER;CN="Cordova Library":MAILTO:cfornero-green@cordovalibrary.com
END:VEVENT
BEGIN:VEVENT
DTSTART;TZID=America/Chicago:20280421T090000
DTEND;TZID=America/Chicago:20280421T093000
DTSTAMP:20260423T193935
CREATED:20240808T233504Z
LAST-MODIFIED:20251120T223457Z
UID:10000643-1839920400-1839922200@www.cordovalibrary.com
SUMMARY:Chair Exercise
DESCRIPTION:Join friends for chair exercise. Exercise is led by a DVD instructor.
URL:https://www.cordovalibrary.com/event/chair-exercise/2028-04-21/
LOCATION:Cordova Library\, 402 Main Ave\, Cordova\, IL\, 61242\, United States
CATEGORIES:Adults
ORGANIZER;CN="Cordova Library":MAILTO:cfornero-green@cordovalibrary.com
END:VEVENT
BEGIN:VEVENT
DTSTART;TZID=America/Chicago:20280421T100000
DTEND;TZID=America/Chicago:20280421T110000
DTSTAMP:20260423T193935
CREATED:20240809T002629Z
LAST-MODIFIED:20260102T160037Z
UID:10001298-1839924000-1839927600@www.cordovalibrary.com
SUMMARY:Story Time
DESCRIPTION:Books\, singing\, dancing and playing…at Story Time! All ages are welcome to attend our Story Time in the Library. On May 23rd…we will be having Story Time at the Civic Center Park. If there is bad weather\, we will be in the library.
URL:https://www.cordovalibrary.com/event/story-time-2/2028-04-21/
LOCATION:Cordova Library\, 402 Main Ave\, Cordova\, IL\, 61242\, United States
CATEGORIES:Children's
ATTACH;FMTTYPE=image/jpeg:https://www.cordovalibrary.com/wp-content/uploads/2024/07/IMG_5543.jpg
ORGANIZER;CN="Cordova Library":MAILTO:cfornero-green@cordovalibrary.com
END:VEVENT
BEGIN:VEVENT
DTSTART;TZID=America/Chicago:20280424T090000
DTEND;TZID=America/Chicago:20280424T093000
DTSTAMP:20260423T193935
CREATED:20240808T233504Z
LAST-MODIFIED:20251120T223457Z
UID:10000644-1840179600-1840181400@www.cordovalibrary.com
SUMMARY:Chair Exercise
DESCRIPTION:Join friends for chair exercise. Exercise is led by a DVD instructor.
URL:https://www.cordovalibrary.com/event/chair-exercise/2028-04-24/
LOCATION:Cordova Library\, 402 Main Ave\, Cordova\, IL\, 61242\, United States
CATEGORIES:Adults
ORGANIZER;CN="Cordova Library":MAILTO:cfornero-green@cordovalibrary.com
END:VEVENT
BEGIN:VEVENT
DTSTART;TZID=America/Chicago:20280425T080000
DTEND;TZID=America/Chicago:20280425T170000
DTSTAMP:20260423T193935
CREATED:20260205T163418Z
LAST-MODIFIED:20260205T163418Z
UID:10003621-1840262400-1840294800@www.cordovalibrary.com
SUMMARY:Do Your Own Thing
DESCRIPTION:Work on a project with friends! Bring a dish to pass for lunch.
URL:https://www.cordovalibrary.com/event/do-your-own-thing-2-2/2028-04-25/
LOCATION:Cordova Library\, 402 Main Ave\, Cordova\, IL\, 61242\, United States
CATEGORIES:Adults
ORGANIZER;CN="Cordova Library":MAILTO:cfornero-green@cordovalibrary.com
END:VEVENT
BEGIN:VEVENT
DTSTART;TZID=America/Chicago:20280425T160000
DTEND;TZID=America/Chicago:20280425T170000
DTSTAMP:20260423T193935
CREATED:20241104T192022Z
LAST-MODIFIED:20250903T203155Z
UID:10002706-1840291200-1840294800@www.cordovalibrary.com
SUMMARY:Crochet
DESCRIPTION:Meet friends to crochet or knit.
URL:https://www.cordovalibrary.com/event/crochet/2028-04-25/
LOCATION:Cordova Library\, 402 Main Ave\, Cordova\, IL\, 61242\, United States
CATEGORIES:Adults
ORGANIZER;CN="Cordova Library":MAILTO:cfornero-green@cordovalibrary.com
END:VEVENT
BEGIN:VEVENT
DTSTART;TZID=America/Chicago:20280426T090000
DTEND;TZID=America/Chicago:20280426T093000
DTSTAMP:20260423T193935
CREATED:20240808T233504Z
LAST-MODIFIED:20251120T223457Z
UID:10000645-1840352400-1840354200@www.cordovalibrary.com
SUMMARY:Chair Exercise
DESCRIPTION:Join friends for chair exercise. Exercise is led by a DVD instructor.
URL:https://www.cordovalibrary.com/event/chair-exercise/2028-04-26/
LOCATION:Cordova Library\, 402 Main Ave\, Cordova\, IL\, 61242\, United States
CATEGORIES:Adults
ORGANIZER;CN="Cordova Library":MAILTO:cfornero-green@cordovalibrary.com
END:VEVENT
BEGIN:VEVENT
DTSTART;TZID=America/Chicago:20280428T090000
DTEND;TZID=America/Chicago:20280428T093000
DTSTAMP:20260423T193935
CREATED:20240808T233504Z
LAST-MODIFIED:20251120T223457Z
UID:10000646-1840525200-1840527000@www.cordovalibrary.com
SUMMARY:Chair Exercise
DESCRIPTION:Join friends for chair exercise. Exercise is led by a DVD instructor.
URL:https://www.cordovalibrary.com/event/chair-exercise/2028-04-28/
LOCATION:Cordova Library\, 402 Main Ave\, Cordova\, IL\, 61242\, United States
CATEGORIES:Adults
ORGANIZER;CN="Cordova Library":MAILTO:cfornero-green@cordovalibrary.com
END:VEVENT
BEGIN:VEVENT
DTSTART;TZID=America/Chicago:20280428T100000
DTEND;TZID=America/Chicago:20280428T110000
DTSTAMP:20260423T193935
CREATED:20240809T002629Z
LAST-MODIFIED:20260102T160037Z
UID:10001299-1840528800-1840532400@www.cordovalibrary.com
SUMMARY:Story Time
DESCRIPTION:Books\, singing\, dancing and playing…at Story Time! All ages are welcome to attend our Story Time in the Library. On May 23rd…we will be having Story Time at the Civic Center Park. If there is bad weather\, we will be in the library.
URL:https://www.cordovalibrary.com/event/story-time-2/2028-04-28/
LOCATION:Cordova Library\, 402 Main Ave\, Cordova\, IL\, 61242\, United States
CATEGORIES:Children's
ATTACH;FMTTYPE=image/jpeg:https://www.cordovalibrary.com/wp-content/uploads/2024/07/IMG_5543.jpg
ORGANIZER;CN="Cordova Library":MAILTO:cfornero-green@cordovalibrary.com
END:VEVENT
END:VCALENDAR