BEGIN:VCALENDAR
VERSION:2.0
PRODID:-//Cordova District Library - ECPv6.15.20//NONSGML v1.0//EN
CALSCALE:GREGORIAN
METHOD:PUBLISH
X-ORIGINAL-URL:https://www.cordovalibrary.com
X-WR-CALDESC:Events for Cordova District Library
REFRESH-INTERVAL;VALUE=DURATION:PT1H
X-Robots-Tag:noindex
X-PUBLISHED-TTL:PT1H
BEGIN:VTIMEZONE
TZID:America/Chicago
BEGIN:DAYLIGHT
TZOFFSETFROM:-0600
TZOFFSETTO:-0500
TZNAME:CDT
DTSTART:20270314T080000
END:DAYLIGHT
BEGIN:STANDARD
TZOFFSETFROM:-0500
TZOFFSETTO:-0600
TZNAME:CST
DTSTART:20271107T070000
END:STANDARD
BEGIN:DAYLIGHT
TZOFFSETFROM:-0600
TZOFFSETTO:-0500
TZNAME:CDT
DTSTART:20280312T080000
END:DAYLIGHT
BEGIN:STANDARD
TZOFFSETFROM:-0500
TZOFFSETTO:-0600
TZNAME:CST
DTSTART:20281105T070000
END:STANDARD
BEGIN:DAYLIGHT
TZOFFSETFROM:-0600
TZOFFSETTO:-0500
TZNAME:CDT
DTSTART:20290311T080000
END:DAYLIGHT
BEGIN:STANDARD
TZOFFSETFROM:-0500
TZOFFSETTO:-0600
TZNAME:CST
DTSTART:20291104T070000
END:STANDARD
END:VTIMEZONE
BEGIN:VEVENT
DTSTART;TZID=America/Chicago:20280301T090000
DTEND;TZID=America/Chicago:20280301T093000
DTSTAMP:20260423T183445
CREATED:20240808T233504Z
LAST-MODIFIED:20251120T223457Z
UID:10000621-1835514000-1835515800@www.cordovalibrary.com
SUMMARY:Chair Exercise
DESCRIPTION:Join friends for chair exercise. Exercise is led by a DVD instructor.
URL:https://www.cordovalibrary.com/event/chair-exercise/2028-03-01/
LOCATION:Cordova Library\, 402 Main Ave\, Cordova\, IL\, 61242\, United States
CATEGORIES:Adults
ORGANIZER;CN="Cordova Library":MAILTO:cfornero-green@cordovalibrary.com
END:VEVENT
BEGIN:VEVENT
DTSTART;TZID=America/Chicago:20280301T180000
DTEND;TZID=America/Chicago:20280301T190000
DTSTAMP:20260423T183445
CREATED:20250903T203659Z
LAST-MODIFIED:20250903T203659Z
UID:10002860-1835546400-1835550000@www.cordovalibrary.com
SUMMARY:Stories by Starlight
DESCRIPTION:Once a month story time at night for kids of all ages.
URL:https://www.cordovalibrary.com/event/stories-by-starlight/2028-03-01/
LOCATION:Cordova Library\, 402 Main Ave\, Cordova\, IL\, 61242\, United States
CATEGORIES:Children's
ATTACH;FMTTYPE=image/png:https://www.cordovalibrary.com/wp-content/uploads/2025/09/IMG_0151.png
ORGANIZER;CN="Cordova Library":MAILTO:cfornero-green@cordovalibrary.com
END:VEVENT
BEGIN:VEVENT
DTSTART;TZID=America/Chicago:20280303T090000
DTEND;TZID=America/Chicago:20280303T093000
DTSTAMP:20260423T183445
CREATED:20240808T233504Z
LAST-MODIFIED:20251120T223457Z
UID:10000622-1835686800-1835688600@www.cordovalibrary.com
SUMMARY:Chair Exercise
DESCRIPTION:Join friends for chair exercise. Exercise is led by a DVD instructor.
URL:https://www.cordovalibrary.com/event/chair-exercise/2028-03-03/
LOCATION:Cordova Library\, 402 Main Ave\, Cordova\, IL\, 61242\, United States
CATEGORIES:Adults
ORGANIZER;CN="Cordova Library":MAILTO:cfornero-green@cordovalibrary.com
END:VEVENT
BEGIN:VEVENT
DTSTART;TZID=America/Chicago:20280303T100000
DTEND;TZID=America/Chicago:20280303T110000
DTSTAMP:20260423T183445
CREATED:20240809T002629Z
LAST-MODIFIED:20260102T160037Z
UID:10001291-1835690400-1835694000@www.cordovalibrary.com
SUMMARY:Story Time
DESCRIPTION:Books\, singing\, dancing and playing…at Story Time! All ages are welcome to attend our Story Time in the Library. On May 23rd…we will be having Story Time at the Civic Center Park. If there is bad weather\, we will be in the library.
URL:https://www.cordovalibrary.com/event/story-time-2/2028-03-03/
LOCATION:Cordova Library\, 402 Main Ave\, Cordova\, IL\, 61242\, United States
CATEGORIES:Children's
ATTACH;FMTTYPE=image/jpeg:https://www.cordovalibrary.com/wp-content/uploads/2024/07/IMG_5543.jpg
ORGANIZER;CN="Cordova Library":MAILTO:cfornero-green@cordovalibrary.com
END:VEVENT
BEGIN:VEVENT
DTSTART;TZID=America/Chicago:20280306T090000
DTEND;TZID=America/Chicago:20280306T093000
DTSTAMP:20260423T183445
CREATED:20240808T233504Z
LAST-MODIFIED:20251120T223457Z
UID:10000623-1835946000-1835947800@www.cordovalibrary.com
SUMMARY:Chair Exercise
DESCRIPTION:Join friends for chair exercise. Exercise is led by a DVD instructor.
URL:https://www.cordovalibrary.com/event/chair-exercise/2028-03-06/
LOCATION:Cordova Library\, 402 Main Ave\, Cordova\, IL\, 61242\, United States
CATEGORIES:Adults
ORGANIZER;CN="Cordova Library":MAILTO:cfornero-green@cordovalibrary.com
END:VEVENT
BEGIN:VEVENT
DTSTART;TZID=America/Chicago:20280307T100000
DTEND;TZID=America/Chicago:20280307T110000
DTSTAMP:20260423T183445
CREATED:20250903T210830Z
LAST-MODIFIED:20250903T210830Z
UID:10002952-1836036000-1836039600@www.cordovalibrary.com
SUMMARY:Book Club
DESCRIPTION:Morning book club where a variety of genres are discussed.
URL:https://www.cordovalibrary.com/event/book-club-2/2028-03-07/
LOCATION:Cordova Library\, 402 Main Ave\, Cordova\, IL\, 61242\, United States
CATEGORIES:Adults
ORGANIZER;CN="Cordova Library":MAILTO:cfornero-green@cordovalibrary.com
END:VEVENT
BEGIN:VEVENT
DTSTART;TZID=America/Chicago:20280307T160000
DTEND;TZID=America/Chicago:20280307T170000
DTSTAMP:20260423T183445
CREATED:20241104T192022Z
LAST-MODIFIED:20250903T203155Z
UID:10002699-1836057600-1836061200@www.cordovalibrary.com
SUMMARY:Crochet
DESCRIPTION:Meet friends to crochet or knit.
URL:https://www.cordovalibrary.com/event/crochet/2028-03-07/
LOCATION:Cordova Library\, 402 Main Ave\, Cordova\, IL\, 61242\, United States
CATEGORIES:Adults
ORGANIZER;CN="Cordova Library":MAILTO:cfornero-green@cordovalibrary.com
END:VEVENT
BEGIN:VEVENT
DTSTART;TZID=America/Chicago:20280308T090000
DTEND;TZID=America/Chicago:20280308T093000
DTSTAMP:20260423T183445
CREATED:20240808T233504Z
LAST-MODIFIED:20251120T223457Z
UID:10000624-1836118800-1836120600@www.cordovalibrary.com
SUMMARY:Chair Exercise
DESCRIPTION:Join friends for chair exercise. Exercise is led by a DVD instructor.
URL:https://www.cordovalibrary.com/event/chair-exercise/2028-03-08/
LOCATION:Cordova Library\, 402 Main Ave\, Cordova\, IL\, 61242\, United States
CATEGORIES:Adults
ORGANIZER;CN="Cordova Library":MAILTO:cfornero-green@cordovalibrary.com
END:VEVENT
BEGIN:VEVENT
DTSTART;TZID=America/Chicago:20280309T090000
DTEND;TZID=America/Chicago:20280309T170000
DTSTAMP:20260423T183445
CREATED:20260304T230930Z
LAST-MODIFIED:20260304T230930Z
UID:10003697-1836205200-1836234000@www.cordovalibrary.com
SUMMARY:Do Your Own Thing
DESCRIPTION:Join friends to work on crafts.
URL:https://www.cordovalibrary.com/event/do-your-own-thing-4/2028-03-09/
LOCATION:Cordova Library\, 402 Main Ave\, Cordova\, IL\, 61242\, United States
CATEGORIES:Adults
ORGANIZER;CN="Cordova Library":MAILTO:cfornero-green@cordovalibrary.com
END:VEVENT
BEGIN:VEVENT
DTSTART;TZID=America/Chicago:20280310T090000
DTEND;TZID=America/Chicago:20280310T093000
DTSTAMP:20260423T183445
CREATED:20240808T233504Z
LAST-MODIFIED:20251120T223457Z
UID:10000625-1836291600-1836293400@www.cordovalibrary.com
SUMMARY:Chair Exercise
DESCRIPTION:Join friends for chair exercise. Exercise is led by a DVD instructor.
URL:https://www.cordovalibrary.com/event/chair-exercise/2028-03-10/
LOCATION:Cordova Library\, 402 Main Ave\, Cordova\, IL\, 61242\, United States
CATEGORIES:Adults
ORGANIZER;CN="Cordova Library":MAILTO:cfornero-green@cordovalibrary.com
END:VEVENT
BEGIN:VEVENT
DTSTART;TZID=America/Chicago:20280310T100000
DTEND;TZID=America/Chicago:20280310T110000
DTSTAMP:20260423T183445
CREATED:20240809T002629Z
LAST-MODIFIED:20260102T160037Z
UID:10001292-1836295200-1836298800@www.cordovalibrary.com
SUMMARY:Story Time
DESCRIPTION:Books\, singing\, dancing and playing…at Story Time! All ages are welcome to attend our Story Time in the Library. On May 23rd…we will be having Story Time at the Civic Center Park. If there is bad weather\, we will be in the library.
URL:https://www.cordovalibrary.com/event/story-time-2/2028-03-10/
LOCATION:Cordova Library\, 402 Main Ave\, Cordova\, IL\, 61242\, United States
CATEGORIES:Children's
ATTACH;FMTTYPE=image/jpeg:https://www.cordovalibrary.com/wp-content/uploads/2024/07/IMG_5543.jpg
ORGANIZER;CN="Cordova Library":MAILTO:cfornero-green@cordovalibrary.com
END:VEVENT
BEGIN:VEVENT
DTSTART;TZID=America/Chicago:20280313T090000
DTEND;TZID=America/Chicago:20280313T093000
DTSTAMP:20260423T183445
CREATED:20240808T233504Z
LAST-MODIFIED:20251120T223457Z
UID:10000626-1836550800-1836552600@www.cordovalibrary.com
SUMMARY:Chair Exercise
DESCRIPTION:Join friends for chair exercise. Exercise is led by a DVD instructor.
URL:https://www.cordovalibrary.com/event/chair-exercise/2028-03-13/
LOCATION:Cordova Library\, 402 Main Ave\, Cordova\, IL\, 61242\, United States
CATEGORIES:Adults
ORGANIZER;CN="Cordova Library":MAILTO:cfornero-green@cordovalibrary.com
END:VEVENT
BEGIN:VEVENT
DTSTART;TZID=America/Chicago:20280314T160000
DTEND;TZID=America/Chicago:20280314T170000
DTSTAMP:20260423T183445
CREATED:20241104T192022Z
LAST-MODIFIED:20250903T203155Z
UID:10002700-1836662400-1836666000@www.cordovalibrary.com
SUMMARY:Crochet
DESCRIPTION:Meet friends to crochet or knit.
URL:https://www.cordovalibrary.com/event/crochet/2028-03-14/
LOCATION:Cordova Library\, 402 Main Ave\, Cordova\, IL\, 61242\, United States
CATEGORIES:Adults
ORGANIZER;CN="Cordova Library":MAILTO:cfornero-green@cordovalibrary.com
END:VEVENT
BEGIN:VEVENT
DTSTART;TZID=America/Chicago:20280315T090000
DTEND;TZID=America/Chicago:20280315T093000
DTSTAMP:20260423T183445
CREATED:20240808T233504Z
LAST-MODIFIED:20251120T223457Z
UID:10000627-1836723600-1836725400@www.cordovalibrary.com
SUMMARY:Chair Exercise
DESCRIPTION:Join friends for chair exercise. Exercise is led by a DVD instructor.
URL:https://www.cordovalibrary.com/event/chair-exercise/2028-03-15/
LOCATION:Cordova Library\, 402 Main Ave\, Cordova\, IL\, 61242\, United States
CATEGORIES:Adults
ORGANIZER;CN="Cordova Library":MAILTO:cfornero-green@cordovalibrary.com
END:VEVENT
BEGIN:VEVENT
DTSTART;TZID=America/Chicago:20280315T180000
DTEND;TZID=America/Chicago:20280315T190000
DTSTAMP:20260423T183445
CREATED:20240809T003445Z
LAST-MODIFIED:20240809T003556Z
UID:10001531-1836756000-1836759600@www.cordovalibrary.com
SUMMARY:American Legion Meeting
DESCRIPTION:Monthly meeting of the American Legion Post 1033.
URL:https://www.cordovalibrary.com/event/american-legion-meeting/2028-03-15/
LOCATION:Cordova Library\, 402 Main Ave\, Cordova\, IL\, 61242\, United States
CATEGORIES:Adults
ORGANIZER;CN="Cordova Library":MAILTO:cfornero-green@cordovalibrary.com
END:VEVENT
BEGIN:VEVENT
DTSTART;TZID=America/Chicago:20280316T090000
DTEND;TZID=America/Chicago:20280316T103000
DTSTAMP:20260423T183445
CREATED:20240919T145842Z
LAST-MODIFIED:20250903T204702Z
UID:10001604-1836810000-1836815400@www.cordovalibrary.com
SUMMARY:Library Board Meeting
DESCRIPTION:Monthly meeting of the Cordova Library Board.
URL:https://www.cordovalibrary.com/event/library-board-meeting-3/2028-03-16/
LOCATION:Cordova Library\, 402 Main Ave\, Cordova\, IL\, 61242\, United States
CATEGORIES:Board Meetings
ORGANIZER;CN="Cordova Library":MAILTO:cfornero-green@cordovalibrary.com
END:VEVENT
BEGIN:VEVENT
DTSTART;TZID=America/Chicago:20280317T090000
DTEND;TZID=America/Chicago:20280317T093000
DTSTAMP:20260423T183445
CREATED:20240808T233504Z
LAST-MODIFIED:20251120T223457Z
UID:10000628-1836896400-1836898200@www.cordovalibrary.com
SUMMARY:Chair Exercise
DESCRIPTION:Join friends for chair exercise. Exercise is led by a DVD instructor.
URL:https://www.cordovalibrary.com/event/chair-exercise/2028-03-17/
LOCATION:Cordova Library\, 402 Main Ave\, Cordova\, IL\, 61242\, United States
CATEGORIES:Adults
ORGANIZER;CN="Cordova Library":MAILTO:cfornero-green@cordovalibrary.com
END:VEVENT
BEGIN:VEVENT
DTSTART;TZID=America/Chicago:20280317T100000
DTEND;TZID=America/Chicago:20280317T110000
DTSTAMP:20260423T183445
CREATED:20240809T002629Z
LAST-MODIFIED:20260102T160037Z
UID:10001293-1836900000-1836903600@www.cordovalibrary.com
SUMMARY:Story Time
DESCRIPTION:Books\, singing\, dancing and playing…at Story Time! All ages are welcome to attend our Story Time in the Library. On May 23rd…we will be having Story Time at the Civic Center Park. If there is bad weather\, we will be in the library.
URL:https://www.cordovalibrary.com/event/story-time-2/2028-03-17/
LOCATION:Cordova Library\, 402 Main Ave\, Cordova\, IL\, 61242\, United States
CATEGORIES:Children's
ATTACH;FMTTYPE=image/jpeg:https://www.cordovalibrary.com/wp-content/uploads/2024/07/IMG_5543.jpg
ORGANIZER;CN="Cordova Library":MAILTO:cfornero-green@cordovalibrary.com
END:VEVENT
BEGIN:VEVENT
DTSTART;TZID=America/Chicago:20280320T090000
DTEND;TZID=America/Chicago:20280320T093000
DTSTAMP:20260423T183445
CREATED:20240808T233504Z
LAST-MODIFIED:20251120T223457Z
UID:10000629-1837155600-1837157400@www.cordovalibrary.com
SUMMARY:Chair Exercise
DESCRIPTION:Join friends for chair exercise. Exercise is led by a DVD instructor.
URL:https://www.cordovalibrary.com/event/chair-exercise/2028-03-20/
LOCATION:Cordova Library\, 402 Main Ave\, Cordova\, IL\, 61242\, United States
CATEGORIES:Adults
ORGANIZER;CN="Cordova Library":MAILTO:cfornero-green@cordovalibrary.com
END:VEVENT
BEGIN:VEVENT
DTSTART;TZID=America/Chicago:20280321T160000
DTEND;TZID=America/Chicago:20280321T170000
DTSTAMP:20260423T183445
CREATED:20241104T192022Z
LAST-MODIFIED:20250903T203155Z
UID:10002701-1837267200-1837270800@www.cordovalibrary.com
SUMMARY:Crochet
DESCRIPTION:Meet friends to crochet or knit.
URL:https://www.cordovalibrary.com/event/crochet/2028-03-21/
LOCATION:Cordova Library\, 402 Main Ave\, Cordova\, IL\, 61242\, United States
CATEGORIES:Adults
ORGANIZER;CN="Cordova Library":MAILTO:cfornero-green@cordovalibrary.com
END:VEVENT
BEGIN:VEVENT
DTSTART;TZID=America/Chicago:20280322T090000
DTEND;TZID=America/Chicago:20280322T093000
DTSTAMP:20260423T183445
CREATED:20240808T233504Z
LAST-MODIFIED:20251120T223457Z
UID:10000630-1837328400-1837330200@www.cordovalibrary.com
SUMMARY:Chair Exercise
DESCRIPTION:Join friends for chair exercise. Exercise is led by a DVD instructor.
URL:https://www.cordovalibrary.com/event/chair-exercise/2028-03-22/
LOCATION:Cordova Library\, 402 Main Ave\, Cordova\, IL\, 61242\, United States
CATEGORIES:Adults
ORGANIZER;CN="Cordova Library":MAILTO:cfornero-green@cordovalibrary.com
END:VEVENT
BEGIN:VEVENT
DTSTART;TZID=America/Chicago:20280324T090000
DTEND;TZID=America/Chicago:20280324T093000
DTSTAMP:20260423T183445
CREATED:20240808T233504Z
LAST-MODIFIED:20251120T223457Z
UID:10000631-1837501200-1837503000@www.cordovalibrary.com
SUMMARY:Chair Exercise
DESCRIPTION:Join friends for chair exercise. Exercise is led by a DVD instructor.
URL:https://www.cordovalibrary.com/event/chair-exercise/2028-03-24/
LOCATION:Cordova Library\, 402 Main Ave\, Cordova\, IL\, 61242\, United States
CATEGORIES:Adults
ORGANIZER;CN="Cordova Library":MAILTO:cfornero-green@cordovalibrary.com
END:VEVENT
BEGIN:VEVENT
DTSTART;TZID=America/Chicago:20280324T100000
DTEND;TZID=America/Chicago:20280324T110000
DTSTAMP:20260423T183445
CREATED:20240809T002629Z
LAST-MODIFIED:20260102T160037Z
UID:10001294-1837504800-1837508400@www.cordovalibrary.com
SUMMARY:Story Time
DESCRIPTION:Books\, singing\, dancing and playing…at Story Time! All ages are welcome to attend our Story Time in the Library. On May 23rd…we will be having Story Time at the Civic Center Park. If there is bad weather\, we will be in the library.
URL:https://www.cordovalibrary.com/event/story-time-2/2028-03-24/
LOCATION:Cordova Library\, 402 Main Ave\, Cordova\, IL\, 61242\, United States
CATEGORIES:Children's
ATTACH;FMTTYPE=image/jpeg:https://www.cordovalibrary.com/wp-content/uploads/2024/07/IMG_5543.jpg
ORGANIZER;CN="Cordova Library":MAILTO:cfornero-green@cordovalibrary.com
END:VEVENT
BEGIN:VEVENT
DTSTART;TZID=America/Chicago:20280327T090000
DTEND;TZID=America/Chicago:20280327T093000
DTSTAMP:20260423T183445
CREATED:20240808T233504Z
LAST-MODIFIED:20251120T223457Z
UID:10000632-1837760400-1837762200@www.cordovalibrary.com
SUMMARY:Chair Exercise
DESCRIPTION:Join friends for chair exercise. Exercise is led by a DVD instructor.
URL:https://www.cordovalibrary.com/event/chair-exercise/2028-03-27/
LOCATION:Cordova Library\, 402 Main Ave\, Cordova\, IL\, 61242\, United States
CATEGORIES:Adults
ORGANIZER;CN="Cordova Library":MAILTO:cfornero-green@cordovalibrary.com
END:VEVENT
BEGIN:VEVENT
DTSTART;TZID=America/Chicago:20280328T080000
DTEND;TZID=America/Chicago:20280328T170000
DTSTAMP:20260423T183445
CREATED:20260205T163418Z
LAST-MODIFIED:20260205T163418Z
UID:10003620-1837843200-1837875600@www.cordovalibrary.com
SUMMARY:Do Your Own Thing
DESCRIPTION:Work on a project with friends! Bring a dish to pass for lunch.
URL:https://www.cordovalibrary.com/event/do-your-own-thing-2-2/2028-03-28/
LOCATION:Cordova Library\, 402 Main Ave\, Cordova\, IL\, 61242\, United States
CATEGORIES:Adults
ORGANIZER;CN="Cordova Library":MAILTO:cfornero-green@cordovalibrary.com
END:VEVENT
BEGIN:VEVENT
DTSTART;TZID=America/Chicago:20280328T160000
DTEND;TZID=America/Chicago:20280328T170000
DTSTAMP:20260423T183445
CREATED:20241104T192022Z
LAST-MODIFIED:20250903T203155Z
UID:10002702-1837872000-1837875600@www.cordovalibrary.com
SUMMARY:Crochet
DESCRIPTION:Meet friends to crochet or knit.
URL:https://www.cordovalibrary.com/event/crochet/2028-03-28/
LOCATION:Cordova Library\, 402 Main Ave\, Cordova\, IL\, 61242\, United States
CATEGORIES:Adults
ORGANIZER;CN="Cordova Library":MAILTO:cfornero-green@cordovalibrary.com
END:VEVENT
BEGIN:VEVENT
DTSTART;TZID=America/Chicago:20280329T090000
DTEND;TZID=America/Chicago:20280329T093000
DTSTAMP:20260423T183445
CREATED:20240808T233504Z
LAST-MODIFIED:20251120T223457Z
UID:10000633-1837933200-1837935000@www.cordovalibrary.com
SUMMARY:Chair Exercise
DESCRIPTION:Join friends for chair exercise. Exercise is led by a DVD instructor.
URL:https://www.cordovalibrary.com/event/chair-exercise/2028-03-29/
LOCATION:Cordova Library\, 402 Main Ave\, Cordova\, IL\, 61242\, United States
CATEGORIES:Adults
ORGANIZER;CN="Cordova Library":MAILTO:cfornero-green@cordovalibrary.com
END:VEVENT
BEGIN:VEVENT
DTSTART;TZID=America/Chicago:20280331T090000
DTEND;TZID=America/Chicago:20280331T093000
DTSTAMP:20260423T183445
CREATED:20240808T233504Z
LAST-MODIFIED:20251120T223457Z
UID:10000634-1838106000-1838107800@www.cordovalibrary.com
SUMMARY:Chair Exercise
DESCRIPTION:Join friends for chair exercise. Exercise is led by a DVD instructor.
URL:https://www.cordovalibrary.com/event/chair-exercise/2028-03-31/
LOCATION:Cordova Library\, 402 Main Ave\, Cordova\, IL\, 61242\, United States
CATEGORIES:Adults
ORGANIZER;CN="Cordova Library":MAILTO:cfornero-green@cordovalibrary.com
END:VEVENT
BEGIN:VEVENT
DTSTART;TZID=America/Chicago:20280331T100000
DTEND;TZID=America/Chicago:20280331T110000
DTSTAMP:20260423T183445
CREATED:20240809T002629Z
LAST-MODIFIED:20260102T160037Z
UID:10001295-1838109600-1838113200@www.cordovalibrary.com
SUMMARY:Story Time
DESCRIPTION:Books\, singing\, dancing and playing…at Story Time! All ages are welcome to attend our Story Time in the Library. On May 23rd…we will be having Story Time at the Civic Center Park. If there is bad weather\, we will be in the library.
URL:https://www.cordovalibrary.com/event/story-time-2/2028-03-31/
LOCATION:Cordova Library\, 402 Main Ave\, Cordova\, IL\, 61242\, United States
CATEGORIES:Children's
ATTACH;FMTTYPE=image/jpeg:https://www.cordovalibrary.com/wp-content/uploads/2024/07/IMG_5543.jpg
ORGANIZER;CN="Cordova Library":MAILTO:cfornero-green@cordovalibrary.com
END:VEVENT
END:VCALENDAR