BEGIN:VCALENDAR
VERSION:2.0
PRODID:-//Cordova District Library - ECPv6.15.20//NONSGML v1.0//EN
CALSCALE:GREGORIAN
METHOD:PUBLISH
X-WR-CALNAME:Cordova District Library
X-ORIGINAL-URL:https://www.cordovalibrary.com
X-WR-CALDESC:Events for Cordova District Library
REFRESH-INTERVAL;VALUE=DURATION:PT1H
X-Robots-Tag:noindex
X-PUBLISHED-TTL:PT1H
BEGIN:VTIMEZONE
TZID:America/Chicago
BEGIN:DAYLIGHT
TZOFFSETFROM:-0600
TZOFFSETTO:-0500
TZNAME:CDT
DTSTART:20260308T080000
END:DAYLIGHT
BEGIN:STANDARD
TZOFFSETFROM:-0500
TZOFFSETTO:-0600
TZNAME:CST
DTSTART:20261101T070000
END:STANDARD
BEGIN:DAYLIGHT
TZOFFSETFROM:-0600
TZOFFSETTO:-0500
TZNAME:CDT
DTSTART:20270314T080000
END:DAYLIGHT
BEGIN:STANDARD
TZOFFSETFROM:-0500
TZOFFSETTO:-0600
TZNAME:CST
DTSTART:20271107T070000
END:STANDARD
BEGIN:DAYLIGHT
TZOFFSETFROM:-0600
TZOFFSETTO:-0500
TZNAME:CDT
DTSTART:20280312T080000
END:DAYLIGHT
BEGIN:STANDARD
TZOFFSETFROM:-0500
TZOFFSETTO:-0600
TZNAME:CST
DTSTART:20281105T070000
END:STANDARD
END:VTIMEZONE
BEGIN:VEVENT
DTSTART;TZID=America/Chicago:20270402T090000
DTEND;TZID=America/Chicago:20270402T093000
DTSTAMP:20260423T030825
CREATED:20240808T233504Z
LAST-MODIFIED:20251120T223457Z
UID:10000478-1806656400-1806658200@www.cordovalibrary.com
SUMMARY:Chair Exercise
DESCRIPTION:Join friends for chair exercise. Exercise is led by a DVD instructor.
URL:https://www.cordovalibrary.com/event/chair-exercise/2027-04-02/
LOCATION:Cordova Library\, 402 Main Ave\, Cordova\, IL\, 61242\, United States
CATEGORIES:Adults
ORGANIZER;CN="Cordova Library":MAILTO:cfornero-green@cordovalibrary.com
END:VEVENT
BEGIN:VEVENT
DTSTART;TZID=America/Chicago:20270402T100000
DTEND;TZID=America/Chicago:20270402T110000
DTSTAMP:20260423T030825
CREATED:20240809T002629Z
LAST-MODIFIED:20260102T160037Z
UID:10001243-1806660000-1806663600@www.cordovalibrary.com
SUMMARY:Story Time
DESCRIPTION:Books\, singing\, dancing and playing…at Story Time! All ages are welcome to attend our Story Time in the Library. On May 23rd…we will be having Story Time at the Civic Center Park. If there is bad weather\, we will be in the library.
URL:https://www.cordovalibrary.com/event/story-time-2/2027-04-02/
LOCATION:Cordova Library\, 402 Main Ave\, Cordova\, IL\, 61242\, United States
CATEGORIES:Children's
ATTACH;FMTTYPE=image/jpeg:https://www.cordovalibrary.com/wp-content/uploads/2024/07/IMG_5543.jpg
ORGANIZER;CN="Cordova Library":MAILTO:cfornero-green@cordovalibrary.com
END:VEVENT
BEGIN:VEVENT
DTSTART;TZID=America/Chicago:20270405T090000
DTEND;TZID=America/Chicago:20270405T093000
DTSTAMP:20260423T030825
CREATED:20240808T233504Z
LAST-MODIFIED:20251120T223457Z
UID:10000479-1806915600-1806917400@www.cordovalibrary.com
SUMMARY:Chair Exercise
DESCRIPTION:Join friends for chair exercise. Exercise is led by a DVD instructor.
URL:https://www.cordovalibrary.com/event/chair-exercise/2027-04-05/
LOCATION:Cordova Library\, 402 Main Ave\, Cordova\, IL\, 61242\, United States
CATEGORIES:Adults
ORGANIZER;CN="Cordova Library":MAILTO:cfornero-green@cordovalibrary.com
END:VEVENT
BEGIN:VEVENT
DTSTART;TZID=America/Chicago:20270406T100000
DTEND;TZID=America/Chicago:20270406T110000
DTSTAMP:20260423T030825
CREATED:20250903T210830Z
LAST-MODIFIED:20250903T210830Z
UID:10002941-1807005600-1807009200@www.cordovalibrary.com
SUMMARY:Book Club
DESCRIPTION:Morning book club where a variety of genres are discussed.
URL:https://www.cordovalibrary.com/event/book-club-2/2027-04-06/
LOCATION:Cordova Library\, 402 Main Ave\, Cordova\, IL\, 61242\, United States
CATEGORIES:Adults
ORGANIZER;CN="Cordova Library":MAILTO:cfornero-green@cordovalibrary.com
END:VEVENT
BEGIN:VEVENT
DTSTART;TZID=America/Chicago:20270406T160000
DTEND;TZID=America/Chicago:20270406T170000
DTSTAMP:20260423T030825
CREATED:20241104T192022Z
LAST-MODIFIED:20250903T203155Z
UID:10002651-1807027200-1807030800@www.cordovalibrary.com
SUMMARY:Crochet
DESCRIPTION:Meet friends to crochet or knit.
URL:https://www.cordovalibrary.com/event/crochet/2027-04-06/
LOCATION:Cordova Library\, 402 Main Ave\, Cordova\, IL\, 61242\, United States
CATEGORIES:Adults
ORGANIZER;CN="Cordova Library":MAILTO:cfornero-green@cordovalibrary.com
END:VEVENT
BEGIN:VEVENT
DTSTART;TZID=America/Chicago:20270407T090000
DTEND;TZID=America/Chicago:20270407T093000
DTSTAMP:20260423T030825
CREATED:20240808T233504Z
LAST-MODIFIED:20251120T223457Z
UID:10000480-1807088400-1807090200@www.cordovalibrary.com
SUMMARY:Chair Exercise
DESCRIPTION:Join friends for chair exercise. Exercise is led by a DVD instructor.
URL:https://www.cordovalibrary.com/event/chair-exercise/2027-04-07/
LOCATION:Cordova Library\, 402 Main Ave\, Cordova\, IL\, 61242\, United States
CATEGORIES:Adults
ORGANIZER;CN="Cordova Library":MAILTO:cfornero-green@cordovalibrary.com
END:VEVENT
BEGIN:VEVENT
DTSTART;TZID=America/Chicago:20270407T180000
DTEND;TZID=America/Chicago:20270407T190000
DTSTAMP:20260423T030825
CREATED:20250903T203659Z
LAST-MODIFIED:20250903T203659Z
UID:10002849-1807120800-1807124400@www.cordovalibrary.com
SUMMARY:Stories by Starlight
DESCRIPTION:Once a month story time at night for kids of all ages.
URL:https://www.cordovalibrary.com/event/stories-by-starlight/2027-04-07/
LOCATION:Cordova Library\, 402 Main Ave\, Cordova\, IL\, 61242\, United States
CATEGORIES:Children's
ATTACH;FMTTYPE=image/png:https://www.cordovalibrary.com/wp-content/uploads/2025/09/IMG_0151.png
ORGANIZER;CN="Cordova Library":MAILTO:cfornero-green@cordovalibrary.com
END:VEVENT
BEGIN:VEVENT
DTSTART;TZID=America/Chicago:20270408T090000
DTEND;TZID=America/Chicago:20270408T170000
DTSTAMP:20260423T030825
CREATED:20260304T230930Z
LAST-MODIFIED:20260304T230930Z
UID:10003686-1807174800-1807203600@www.cordovalibrary.com
SUMMARY:Do Your Own Thing
DESCRIPTION:Join friends to work on crafts.
URL:https://www.cordovalibrary.com/event/do-your-own-thing-4/2027-04-08/
LOCATION:Cordova Library\, 402 Main Ave\, Cordova\, IL\, 61242\, United States
CATEGORIES:Adults
ORGANIZER;CN="Cordova Library":MAILTO:cfornero-green@cordovalibrary.com
END:VEVENT
BEGIN:VEVENT
DTSTART;TZID=America/Chicago:20270409T090000
DTEND;TZID=America/Chicago:20270409T093000
DTSTAMP:20260423T030825
CREATED:20240808T233504Z
LAST-MODIFIED:20251120T223457Z
UID:10000481-1807261200-1807263000@www.cordovalibrary.com
SUMMARY:Chair Exercise
DESCRIPTION:Join friends for chair exercise. Exercise is led by a DVD instructor.
URL:https://www.cordovalibrary.com/event/chair-exercise/2027-04-09/
LOCATION:Cordova Library\, 402 Main Ave\, Cordova\, IL\, 61242\, United States
CATEGORIES:Adults
ORGANIZER;CN="Cordova Library":MAILTO:cfornero-green@cordovalibrary.com
END:VEVENT
BEGIN:VEVENT
DTSTART;TZID=America/Chicago:20270409T100000
DTEND;TZID=America/Chicago:20270409T110000
DTSTAMP:20260423T030825
CREATED:20240809T002629Z
LAST-MODIFIED:20260102T160037Z
UID:10001244-1807264800-1807268400@www.cordovalibrary.com
SUMMARY:Story Time
DESCRIPTION:Books\, singing\, dancing and playing…at Story Time! All ages are welcome to attend our Story Time in the Library. On May 23rd…we will be having Story Time at the Civic Center Park. If there is bad weather\, we will be in the library.
URL:https://www.cordovalibrary.com/event/story-time-2/2027-04-09/
LOCATION:Cordova Library\, 402 Main Ave\, Cordova\, IL\, 61242\, United States
CATEGORIES:Children's
ATTACH;FMTTYPE=image/jpeg:https://www.cordovalibrary.com/wp-content/uploads/2024/07/IMG_5543.jpg
ORGANIZER;CN="Cordova Library":MAILTO:cfornero-green@cordovalibrary.com
END:VEVENT
BEGIN:VEVENT
DTSTART;TZID=America/Chicago:20270412T090000
DTEND;TZID=America/Chicago:20270412T093000
DTSTAMP:20260423T030825
CREATED:20240808T233504Z
LAST-MODIFIED:20251120T223457Z
UID:10000482-1807520400-1807522200@www.cordovalibrary.com
SUMMARY:Chair Exercise
DESCRIPTION:Join friends for chair exercise. Exercise is led by a DVD instructor.
URL:https://www.cordovalibrary.com/event/chair-exercise/2027-04-12/
LOCATION:Cordova Library\, 402 Main Ave\, Cordova\, IL\, 61242\, United States
CATEGORIES:Adults
ORGANIZER;CN="Cordova Library":MAILTO:cfornero-green@cordovalibrary.com
END:VEVENT
BEGIN:VEVENT
DTSTART;TZID=America/Chicago:20270413T160000
DTEND;TZID=America/Chicago:20270413T170000
DTSTAMP:20260423T030825
CREATED:20241104T192022Z
LAST-MODIFIED:20250903T203155Z
UID:10002652-1807632000-1807635600@www.cordovalibrary.com
SUMMARY:Crochet
DESCRIPTION:Meet friends to crochet or knit.
URL:https://www.cordovalibrary.com/event/crochet/2027-04-13/
LOCATION:Cordova Library\, 402 Main Ave\, Cordova\, IL\, 61242\, United States
CATEGORIES:Adults
ORGANIZER;CN="Cordova Library":MAILTO:cfornero-green@cordovalibrary.com
END:VEVENT
BEGIN:VEVENT
DTSTART;TZID=America/Chicago:20270414T090000
DTEND;TZID=America/Chicago:20270414T093000
DTSTAMP:20260423T030825
CREATED:20240808T233504Z
LAST-MODIFIED:20251120T223457Z
UID:10000483-1807693200-1807695000@www.cordovalibrary.com
SUMMARY:Chair Exercise
DESCRIPTION:Join friends for chair exercise. Exercise is led by a DVD instructor.
URL:https://www.cordovalibrary.com/event/chair-exercise/2027-04-14/
LOCATION:Cordova Library\, 402 Main Ave\, Cordova\, IL\, 61242\, United States
CATEGORIES:Adults
ORGANIZER;CN="Cordova Library":MAILTO:cfornero-green@cordovalibrary.com
END:VEVENT
BEGIN:VEVENT
DTSTART;TZID=America/Chicago:20270415T090000
DTEND;TZID=America/Chicago:20270415T103000
DTSTAMP:20260423T030825
CREATED:20240919T145842Z
LAST-MODIFIED:20250903T204702Z
UID:10001593-1807779600-1807785000@www.cordovalibrary.com
SUMMARY:Library Board Meeting
DESCRIPTION:Monthly meeting of the Cordova Library Board.
URL:https://www.cordovalibrary.com/event/library-board-meeting-3/2027-04-15/
LOCATION:Cordova Library\, 402 Main Ave\, Cordova\, IL\, 61242\, United States
CATEGORIES:Board Meetings
ORGANIZER;CN="Cordova Library":MAILTO:cfornero-green@cordovalibrary.com
END:VEVENT
BEGIN:VEVENT
DTSTART;TZID=America/Chicago:20270416T090000
DTEND;TZID=America/Chicago:20270416T093000
DTSTAMP:20260423T030825
CREATED:20240808T233504Z
LAST-MODIFIED:20251120T223457Z
UID:10000484-1807866000-1807867800@www.cordovalibrary.com
SUMMARY:Chair Exercise
DESCRIPTION:Join friends for chair exercise. Exercise is led by a DVD instructor.
URL:https://www.cordovalibrary.com/event/chair-exercise/2027-04-16/
LOCATION:Cordova Library\, 402 Main Ave\, Cordova\, IL\, 61242\, United States
CATEGORIES:Adults
ORGANIZER;CN="Cordova Library":MAILTO:cfornero-green@cordovalibrary.com
END:VEVENT
BEGIN:VEVENT
DTSTART;TZID=America/Chicago:20270416T100000
DTEND;TZID=America/Chicago:20270416T110000
DTSTAMP:20260423T030825
CREATED:20240809T002629Z
LAST-MODIFIED:20260102T160037Z
UID:10001245-1807869600-1807873200@www.cordovalibrary.com
SUMMARY:Story Time
DESCRIPTION:Books\, singing\, dancing and playing…at Story Time! All ages are welcome to attend our Story Time in the Library. On May 23rd…we will be having Story Time at the Civic Center Park. If there is bad weather\, we will be in the library.
URL:https://www.cordovalibrary.com/event/story-time-2/2027-04-16/
LOCATION:Cordova Library\, 402 Main Ave\, Cordova\, IL\, 61242\, United States
CATEGORIES:Children's
ATTACH;FMTTYPE=image/jpeg:https://www.cordovalibrary.com/wp-content/uploads/2024/07/IMG_5543.jpg
ORGANIZER;CN="Cordova Library":MAILTO:cfornero-green@cordovalibrary.com
END:VEVENT
BEGIN:VEVENT
DTSTART;TZID=America/Chicago:20270419T090000
DTEND;TZID=America/Chicago:20270419T093000
DTSTAMP:20260423T030825
CREATED:20240808T233504Z
LAST-MODIFIED:20251120T223457Z
UID:10000485-1808125200-1808127000@www.cordovalibrary.com
SUMMARY:Chair Exercise
DESCRIPTION:Join friends for chair exercise. Exercise is led by a DVD instructor.
URL:https://www.cordovalibrary.com/event/chair-exercise/2027-04-19/
LOCATION:Cordova Library\, 402 Main Ave\, Cordova\, IL\, 61242\, United States
CATEGORIES:Adults
ORGANIZER;CN="Cordova Library":MAILTO:cfornero-green@cordovalibrary.com
END:VEVENT
BEGIN:VEVENT
DTSTART;TZID=America/Chicago:20270420T160000
DTEND;TZID=America/Chicago:20270420T170000
DTSTAMP:20260423T030825
CREATED:20241104T192022Z
LAST-MODIFIED:20250903T203155Z
UID:10002653-1808236800-1808240400@www.cordovalibrary.com
SUMMARY:Crochet
DESCRIPTION:Meet friends to crochet or knit.
URL:https://www.cordovalibrary.com/event/crochet/2027-04-20/
LOCATION:Cordova Library\, 402 Main Ave\, Cordova\, IL\, 61242\, United States
CATEGORIES:Adults
ORGANIZER;CN="Cordova Library":MAILTO:cfornero-green@cordovalibrary.com
END:VEVENT
BEGIN:VEVENT
DTSTART;TZID=America/Chicago:20270421T090000
DTEND;TZID=America/Chicago:20270421T093000
DTSTAMP:20260423T030825
CREATED:20240808T233504Z
LAST-MODIFIED:20251120T223457Z
UID:10000486-1808298000-1808299800@www.cordovalibrary.com
SUMMARY:Chair Exercise
DESCRIPTION:Join friends for chair exercise. Exercise is led by a DVD instructor.
URL:https://www.cordovalibrary.com/event/chair-exercise/2027-04-21/
LOCATION:Cordova Library\, 402 Main Ave\, Cordova\, IL\, 61242\, United States
CATEGORIES:Adults
ORGANIZER;CN="Cordova Library":MAILTO:cfornero-green@cordovalibrary.com
END:VEVENT
BEGIN:VEVENT
DTSTART;TZID=America/Chicago:20270421T180000
DTEND;TZID=America/Chicago:20270421T190000
DTSTAMP:20260423T030825
CREATED:20240809T003445Z
LAST-MODIFIED:20240809T003556Z
UID:10001520-1808330400-1808334000@www.cordovalibrary.com
SUMMARY:American Legion Meeting
DESCRIPTION:Monthly meeting of the American Legion Post 1033.
URL:https://www.cordovalibrary.com/event/american-legion-meeting/2027-04-21/
LOCATION:Cordova Library\, 402 Main Ave\, Cordova\, IL\, 61242\, United States
CATEGORIES:Adults
ORGANIZER;CN="Cordova Library":MAILTO:cfornero-green@cordovalibrary.com
END:VEVENT
BEGIN:VEVENT
DTSTART;TZID=America/Chicago:20270423T090000
DTEND;TZID=America/Chicago:20270423T093000
DTSTAMP:20260423T030825
CREATED:20240808T233504Z
LAST-MODIFIED:20251120T223457Z
UID:10000487-1808470800-1808472600@www.cordovalibrary.com
SUMMARY:Chair Exercise
DESCRIPTION:Join friends for chair exercise. Exercise is led by a DVD instructor.
URL:https://www.cordovalibrary.com/event/chair-exercise/2027-04-23/
LOCATION:Cordova Library\, 402 Main Ave\, Cordova\, IL\, 61242\, United States
CATEGORIES:Adults
ORGANIZER;CN="Cordova Library":MAILTO:cfornero-green@cordovalibrary.com
END:VEVENT
BEGIN:VEVENT
DTSTART;TZID=America/Chicago:20270423T100000
DTEND;TZID=America/Chicago:20270423T110000
DTSTAMP:20260423T030825
CREATED:20240809T002629Z
LAST-MODIFIED:20260102T160037Z
UID:10001246-1808474400-1808478000@www.cordovalibrary.com
SUMMARY:Story Time
DESCRIPTION:Books\, singing\, dancing and playing…at Story Time! All ages are welcome to attend our Story Time in the Library. On May 23rd…we will be having Story Time at the Civic Center Park. If there is bad weather\, we will be in the library.
URL:https://www.cordovalibrary.com/event/story-time-2/2027-04-23/
LOCATION:Cordova Library\, 402 Main Ave\, Cordova\, IL\, 61242\, United States
CATEGORIES:Children's
ATTACH;FMTTYPE=image/jpeg:https://www.cordovalibrary.com/wp-content/uploads/2024/07/IMG_5543.jpg
ORGANIZER;CN="Cordova Library":MAILTO:cfornero-green@cordovalibrary.com
END:VEVENT
BEGIN:VEVENT
DTSTART;TZID=America/Chicago:20270426T090000
DTEND;TZID=America/Chicago:20270426T093000
DTSTAMP:20260423T030825
CREATED:20240808T233504Z
LAST-MODIFIED:20251120T223457Z
UID:10000488-1808730000-1808731800@www.cordovalibrary.com
SUMMARY:Chair Exercise
DESCRIPTION:Join friends for chair exercise. Exercise is led by a DVD instructor.
URL:https://www.cordovalibrary.com/event/chair-exercise/2027-04-26/
LOCATION:Cordova Library\, 402 Main Ave\, Cordova\, IL\, 61242\, United States
CATEGORIES:Adults
ORGANIZER;CN="Cordova Library":MAILTO:cfornero-green@cordovalibrary.com
END:VEVENT
BEGIN:VEVENT
DTSTART;TZID=America/Chicago:20270427T080000
DTEND;TZID=America/Chicago:20270427T170000
DTSTAMP:20260423T030825
CREATED:20260205T163418Z
LAST-MODIFIED:20260205T163418Z
UID:10003609-1808812800-1808845200@www.cordovalibrary.com
SUMMARY:Do Your Own Thing
DESCRIPTION:Work on a project with friends! Bring a dish to pass for lunch.
URL:https://www.cordovalibrary.com/event/do-your-own-thing-2-2/2027-04-27/
LOCATION:Cordova Library\, 402 Main Ave\, Cordova\, IL\, 61242\, United States
CATEGORIES:Adults
ORGANIZER;CN="Cordova Library":MAILTO:cfornero-green@cordovalibrary.com
END:VEVENT
BEGIN:VEVENT
DTSTART;TZID=America/Chicago:20270427T160000
DTEND;TZID=America/Chicago:20270427T170000
DTSTAMP:20260423T030825
CREATED:20241104T192022Z
LAST-MODIFIED:20250903T203155Z
UID:10002654-1808841600-1808845200@www.cordovalibrary.com
SUMMARY:Crochet
DESCRIPTION:Meet friends to crochet or knit.
URL:https://www.cordovalibrary.com/event/crochet/2027-04-27/
LOCATION:Cordova Library\, 402 Main Ave\, Cordova\, IL\, 61242\, United States
CATEGORIES:Adults
ORGANIZER;CN="Cordova Library":MAILTO:cfornero-green@cordovalibrary.com
END:VEVENT
BEGIN:VEVENT
DTSTART;TZID=America/Chicago:20270428T090000
DTEND;TZID=America/Chicago:20270428T093000
DTSTAMP:20260423T030825
CREATED:20240808T233504Z
LAST-MODIFIED:20251120T223457Z
UID:10000489-1808902800-1808904600@www.cordovalibrary.com
SUMMARY:Chair Exercise
DESCRIPTION:Join friends for chair exercise. Exercise is led by a DVD instructor.
URL:https://www.cordovalibrary.com/event/chair-exercise/2027-04-28/
LOCATION:Cordova Library\, 402 Main Ave\, Cordova\, IL\, 61242\, United States
CATEGORIES:Adults
ORGANIZER;CN="Cordova Library":MAILTO:cfornero-green@cordovalibrary.com
END:VEVENT
BEGIN:VEVENT
DTSTART;TZID=America/Chicago:20270430T090000
DTEND;TZID=America/Chicago:20270430T093000
DTSTAMP:20260423T030825
CREATED:20240808T233504Z
LAST-MODIFIED:20251120T223457Z
UID:10000490-1809075600-1809077400@www.cordovalibrary.com
SUMMARY:Chair Exercise
DESCRIPTION:Join friends for chair exercise. Exercise is led by a DVD instructor.
URL:https://www.cordovalibrary.com/event/chair-exercise/2027-04-30/
LOCATION:Cordova Library\, 402 Main Ave\, Cordova\, IL\, 61242\, United States
CATEGORIES:Adults
ORGANIZER;CN="Cordova Library":MAILTO:cfornero-green@cordovalibrary.com
END:VEVENT
BEGIN:VEVENT
DTSTART;TZID=America/Chicago:20270430T100000
DTEND;TZID=America/Chicago:20270430T110000
DTSTAMP:20260423T030825
CREATED:20240809T002629Z
LAST-MODIFIED:20260102T160037Z
UID:10001247-1809079200-1809082800@www.cordovalibrary.com
SUMMARY:Story Time
DESCRIPTION:Books\, singing\, dancing and playing…at Story Time! All ages are welcome to attend our Story Time in the Library. On May 23rd…we will be having Story Time at the Civic Center Park. If there is bad weather\, we will be in the library.
URL:https://www.cordovalibrary.com/event/story-time-2/2027-04-30/
LOCATION:Cordova Library\, 402 Main Ave\, Cordova\, IL\, 61242\, United States
CATEGORIES:Children's
ATTACH;FMTTYPE=image/jpeg:https://www.cordovalibrary.com/wp-content/uploads/2024/07/IMG_5543.jpg
ORGANIZER;CN="Cordova Library":MAILTO:cfornero-green@cordovalibrary.com
END:VEVENT
END:VCALENDAR