BEGIN:VCALENDAR
VERSION:2.0
PRODID:-//Cordova District Library - ECPv6.15.20//NONSGML v1.0//EN
CALSCALE:GREGORIAN
METHOD:PUBLISH
X-ORIGINAL-URL:https://www.cordovalibrary.com
X-WR-CALDESC:Events for Cordova District Library
REFRESH-INTERVAL;VALUE=DURATION:PT1H
X-Robots-Tag:noindex
X-PUBLISHED-TTL:PT1H
BEGIN:VTIMEZONE
TZID:America/Chicago
BEGIN:DAYLIGHT
TZOFFSETFROM:-0600
TZOFFSETTO:-0500
TZNAME:CDT
DTSTART:20250309T080000
END:DAYLIGHT
BEGIN:STANDARD
TZOFFSETFROM:-0500
TZOFFSETTO:-0600
TZNAME:CST
DTSTART:20251102T070000
END:STANDARD
BEGIN:DAYLIGHT
TZOFFSETFROM:-0600
TZOFFSETTO:-0500
TZNAME:CDT
DTSTART:20260308T080000
END:DAYLIGHT
BEGIN:STANDARD
TZOFFSETFROM:-0500
TZOFFSETTO:-0600
TZNAME:CST
DTSTART:20261101T070000
END:STANDARD
BEGIN:DAYLIGHT
TZOFFSETFROM:-0600
TZOFFSETTO:-0500
TZNAME:CDT
DTSTART:20270314T080000
END:DAYLIGHT
BEGIN:STANDARD
TZOFFSETFROM:-0500
TZOFFSETTO:-0600
TZNAME:CST
DTSTART:20271107T070000
END:STANDARD
END:VTIMEZONE
BEGIN:VEVENT
DTSTART;TZID=America/Chicago:20261102T090000
DTEND;TZID=America/Chicago:20261102T093000
DTSTAMP:20260422T201554
CREATED:20240808T233504Z
LAST-MODIFIED:20251120T223457Z
UID:10000413-1793610000-1793611800@www.cordovalibrary.com
SUMMARY:Chair Exercise
DESCRIPTION:Join friends for chair exercise. Exercise is led by a DVD instructor.
URL:https://www.cordovalibrary.com/event/chair-exercise/2026-11-02/
LOCATION:Cordova Library\, 402 Main Ave\, Cordova\, IL\, 61242\, United States
CATEGORIES:Adults
ORGANIZER;CN="Cordova Library":MAILTO:cfornero-green@cordovalibrary.com
END:VEVENT
BEGIN:VEVENT
DTSTART;TZID=America/Chicago:20261103T100000
DTEND;TZID=America/Chicago:20261103T110000
DTSTAMP:20260422T201554
CREATED:20250903T210830Z
LAST-MODIFIED:20250903T210830Z
UID:10002936-1793700000-1793703600@www.cordovalibrary.com
SUMMARY:Book Club
DESCRIPTION:Morning book club where a variety of genres are discussed.
URL:https://www.cordovalibrary.com/event/book-club-2/2026-11-03/
LOCATION:Cordova Library\, 402 Main Ave\, Cordova\, IL\, 61242\, United States
CATEGORIES:Adults
ORGANIZER;CN="Cordova Library":MAILTO:cfornero-green@cordovalibrary.com
END:VEVENT
BEGIN:VEVENT
DTSTART;TZID=America/Chicago:20261103T160000
DTEND;TZID=America/Chicago:20261103T170000
DTSTAMP:20260422T201554
CREATED:20241104T192022Z
LAST-MODIFIED:20250903T203155Z
UID:10002629-1793721600-1793725200@www.cordovalibrary.com
SUMMARY:Crochet
DESCRIPTION:Meet friends to crochet or knit.
URL:https://www.cordovalibrary.com/event/crochet/2026-11-03/
LOCATION:Cordova Library\, 402 Main Ave\, Cordova\, IL\, 61242\, United States
CATEGORIES:Adults
ORGANIZER;CN="Cordova Library":MAILTO:cfornero-green@cordovalibrary.com
END:VEVENT
BEGIN:VEVENT
DTSTART;TZID=America/Chicago:20261104T090000
DTEND;TZID=America/Chicago:20261104T093000
DTSTAMP:20260422T201554
CREATED:20240808T233504Z
LAST-MODIFIED:20251120T223457Z
UID:10000414-1793782800-1793784600@www.cordovalibrary.com
SUMMARY:Chair Exercise
DESCRIPTION:Join friends for chair exercise. Exercise is led by a DVD instructor.
URL:https://www.cordovalibrary.com/event/chair-exercise/2026-11-04/
LOCATION:Cordova Library\, 402 Main Ave\, Cordova\, IL\, 61242\, United States
CATEGORIES:Adults
ORGANIZER;CN="Cordova Library":MAILTO:cfornero-green@cordovalibrary.com
END:VEVENT
BEGIN:VEVENT
DTSTART;TZID=America/Chicago:20261104T180000
DTEND;TZID=America/Chicago:20261104T190000
DTSTAMP:20260422T201554
CREATED:20250903T203659Z
LAST-MODIFIED:20250903T203659Z
UID:10002844-1793815200-1793818800@www.cordovalibrary.com
SUMMARY:Stories by Starlight
DESCRIPTION:Once a month story time at night for kids of all ages.
URL:https://www.cordovalibrary.com/event/stories-by-starlight/2026-11-04/
LOCATION:Cordova Library\, 402 Main Ave\, Cordova\, IL\, 61242\, United States
CATEGORIES:Children's
ATTACH;FMTTYPE=image/png:https://www.cordovalibrary.com/wp-content/uploads/2025/09/IMG_0151.png
ORGANIZER;CN="Cordova Library":MAILTO:cfornero-green@cordovalibrary.com
END:VEVENT
BEGIN:VEVENT
DTSTART;TZID=America/Chicago:20261106T090000
DTEND;TZID=America/Chicago:20261106T093000
DTSTAMP:20260422T201554
CREATED:20240808T233504Z
LAST-MODIFIED:20251120T223457Z
UID:10000415-1793955600-1793957400@www.cordovalibrary.com
SUMMARY:Chair Exercise
DESCRIPTION:Join friends for chair exercise. Exercise is led by a DVD instructor.
URL:https://www.cordovalibrary.com/event/chair-exercise/2026-11-06/
LOCATION:Cordova Library\, 402 Main Ave\, Cordova\, IL\, 61242\, United States
CATEGORIES:Adults
ORGANIZER;CN="Cordova Library":MAILTO:cfornero-green@cordovalibrary.com
END:VEVENT
BEGIN:VEVENT
DTSTART;TZID=America/Chicago:20261106T100000
DTEND;TZID=America/Chicago:20261106T110000
DTSTAMP:20260422T201554
CREATED:20240809T002629Z
LAST-MODIFIED:20260102T160037Z
UID:10001222-1793959200-1793962800@www.cordovalibrary.com
SUMMARY:Story Time
DESCRIPTION:Books\, singing\, dancing and playing…at Story Time! All ages are welcome to attend our Story Time in the Library. On May 23rd…we will be having Story Time at the Civic Center Park. If there is bad weather\, we will be in the library.
URL:https://www.cordovalibrary.com/event/story-time-2/2026-11-06/
LOCATION:Cordova Library\, 402 Main Ave\, Cordova\, IL\, 61242\, United States
CATEGORIES:Children's
ATTACH;FMTTYPE=image/jpeg:https://www.cordovalibrary.com/wp-content/uploads/2024/07/IMG_5543.jpg
ORGANIZER;CN="Cordova Library":MAILTO:cfornero-green@cordovalibrary.com
END:VEVENT
BEGIN:VEVENT
DTSTART;TZID=America/Chicago:20261106T130000
DTEND;TZID=America/Chicago:20261106T140000
DTSTAMP:20260422T201554
CREATED:20260102T155802Z
LAST-MODIFIED:20260102T155850Z
UID:10003345-1793970000-1793973600@www.cordovalibrary.com
SUMMARY:Euchre
DESCRIPTION:
URL:https://www.cordovalibrary.com/event/euchre-2/2026-11-06/
LOCATION:Cordova Library\, 402 Main Ave\, Cordova\, IL\, 61242\, United States
CATEGORIES:Adults
ORGANIZER;CN="Cordova Library":MAILTO:cfornero-green@cordovalibrary.com
END:VEVENT
BEGIN:VEVENT
DTSTART;TZID=America/Chicago:20261109T090000
DTEND;TZID=America/Chicago:20261109T093000
DTSTAMP:20260422T201554
CREATED:20240808T233504Z
LAST-MODIFIED:20251120T223457Z
UID:10000416-1794214800-1794216600@www.cordovalibrary.com
SUMMARY:Chair Exercise
DESCRIPTION:Join friends for chair exercise. Exercise is led by a DVD instructor.
URL:https://www.cordovalibrary.com/event/chair-exercise/2026-11-09/
LOCATION:Cordova Library\, 402 Main Ave\, Cordova\, IL\, 61242\, United States
CATEGORIES:Adults
ORGANIZER;CN="Cordova Library":MAILTO:cfornero-green@cordovalibrary.com
END:VEVENT
BEGIN:VEVENT
DTSTART;TZID=America/Chicago:20261110T160000
DTEND;TZID=America/Chicago:20261110T170000
DTSTAMP:20260422T201554
CREATED:20241104T192022Z
LAST-MODIFIED:20250903T203155Z
UID:10002630-1794326400-1794330000@www.cordovalibrary.com
SUMMARY:Crochet
DESCRIPTION:Meet friends to crochet or knit.
URL:https://www.cordovalibrary.com/event/crochet/2026-11-10/
LOCATION:Cordova Library\, 402 Main Ave\, Cordova\, IL\, 61242\, United States
CATEGORIES:Adults
ORGANIZER;CN="Cordova Library":MAILTO:cfornero-green@cordovalibrary.com
END:VEVENT
BEGIN:VEVENT
DTSTART;TZID=America/Chicago:20261111T090000
DTEND;TZID=America/Chicago:20261111T093000
DTSTAMP:20260422T201554
CREATED:20240808T233504Z
LAST-MODIFIED:20251120T223457Z
UID:10000417-1794387600-1794389400@www.cordovalibrary.com
SUMMARY:Chair Exercise
DESCRIPTION:Join friends for chair exercise. Exercise is led by a DVD instructor.
URL:https://www.cordovalibrary.com/event/chair-exercise/2026-11-11/
LOCATION:Cordova Library\, 402 Main Ave\, Cordova\, IL\, 61242\, United States
CATEGORIES:Adults
ORGANIZER;CN="Cordova Library":MAILTO:cfornero-green@cordovalibrary.com
END:VEVENT
BEGIN:VEVENT
DTSTART;TZID=America/Chicago:20261112T090000
DTEND;TZID=America/Chicago:20261112T170000
DTSTAMP:20260422T201554
CREATED:20260304T230930Z
LAST-MODIFIED:20260304T230930Z
UID:10003681-1794474000-1794502800@www.cordovalibrary.com
SUMMARY:Do Your Own Thing
DESCRIPTION:Join friends to work on crafts.
URL:https://www.cordovalibrary.com/event/do-your-own-thing-4/2026-11-12/
LOCATION:Cordova Library\, 402 Main Ave\, Cordova\, IL\, 61242\, United States
CATEGORIES:Adults
ORGANIZER;CN="Cordova Library":MAILTO:cfornero-green@cordovalibrary.com
END:VEVENT
BEGIN:VEVENT
DTSTART;TZID=America/Chicago:20261113T090000
DTEND;TZID=America/Chicago:20261113T093000
DTSTAMP:20260422T201554
CREATED:20240808T233504Z
LAST-MODIFIED:20251120T223457Z
UID:10000418-1794560400-1794562200@www.cordovalibrary.com
SUMMARY:Chair Exercise
DESCRIPTION:Join friends for chair exercise. Exercise is led by a DVD instructor.
URL:https://www.cordovalibrary.com/event/chair-exercise/2026-11-13/
LOCATION:Cordova Library\, 402 Main Ave\, Cordova\, IL\, 61242\, United States
CATEGORIES:Adults
ORGANIZER;CN="Cordova Library":MAILTO:cfornero-green@cordovalibrary.com
END:VEVENT
BEGIN:VEVENT
DTSTART;TZID=America/Chicago:20261113T100000
DTEND;TZID=America/Chicago:20261113T110000
DTSTAMP:20260422T201554
CREATED:20240809T002629Z
LAST-MODIFIED:20260102T160037Z
UID:10001223-1794564000-1794567600@www.cordovalibrary.com
SUMMARY:Story Time
DESCRIPTION:Books\, singing\, dancing and playing…at Story Time! All ages are welcome to attend our Story Time in the Library. On May 23rd…we will be having Story Time at the Civic Center Park. If there is bad weather\, we will be in the library.
URL:https://www.cordovalibrary.com/event/story-time-2/2026-11-13/
LOCATION:Cordova Library\, 402 Main Ave\, Cordova\, IL\, 61242\, United States
CATEGORIES:Children's
ATTACH;FMTTYPE=image/jpeg:https://www.cordovalibrary.com/wp-content/uploads/2024/07/IMG_5543.jpg
ORGANIZER;CN="Cordova Library":MAILTO:cfornero-green@cordovalibrary.com
END:VEVENT
BEGIN:VEVENT
DTSTART;TZID=America/Chicago:20261113T130000
DTEND;TZID=America/Chicago:20261113T140000
DTSTAMP:20260422T201554
CREATED:20260102T155802Z
LAST-MODIFIED:20260102T155850Z
UID:10003346-1794574800-1794578400@www.cordovalibrary.com
SUMMARY:Euchre
DESCRIPTION:
URL:https://www.cordovalibrary.com/event/euchre-2/2026-11-13/
LOCATION:Cordova Library\, 402 Main Ave\, Cordova\, IL\, 61242\, United States
CATEGORIES:Adults
ORGANIZER;CN="Cordova Library":MAILTO:cfornero-green@cordovalibrary.com
END:VEVENT
BEGIN:VEVENT
DTSTART;TZID=America/Chicago:20261116T090000
DTEND;TZID=America/Chicago:20261116T093000
DTSTAMP:20260422T201554
CREATED:20240808T233504Z
LAST-MODIFIED:20251120T223457Z
UID:10000419-1794819600-1794821400@www.cordovalibrary.com
SUMMARY:Chair Exercise
DESCRIPTION:Join friends for chair exercise. Exercise is led by a DVD instructor.
URL:https://www.cordovalibrary.com/event/chair-exercise/2026-11-16/
LOCATION:Cordova Library\, 402 Main Ave\, Cordova\, IL\, 61242\, United States
CATEGORIES:Adults
ORGANIZER;CN="Cordova Library":MAILTO:cfornero-green@cordovalibrary.com
END:VEVENT
BEGIN:VEVENT
DTSTART;TZID=America/Chicago:20261117T160000
DTEND;TZID=America/Chicago:20261117T170000
DTSTAMP:20260422T201554
CREATED:20241104T192022Z
LAST-MODIFIED:20250903T203155Z
UID:10002631-1794931200-1794934800@www.cordovalibrary.com
SUMMARY:Crochet
DESCRIPTION:Meet friends to crochet or knit.
URL:https://www.cordovalibrary.com/event/crochet/2026-11-17/
LOCATION:Cordova Library\, 402 Main Ave\, Cordova\, IL\, 61242\, United States
CATEGORIES:Adults
ORGANIZER;CN="Cordova Library":MAILTO:cfornero-green@cordovalibrary.com
END:VEVENT
BEGIN:VEVENT
DTSTART;TZID=America/Chicago:20261118T090000
DTEND;TZID=America/Chicago:20261118T093000
DTSTAMP:20260422T201554
CREATED:20240808T233504Z
LAST-MODIFIED:20251120T223457Z
UID:10000420-1794992400-1794994200@www.cordovalibrary.com
SUMMARY:Chair Exercise
DESCRIPTION:Join friends for chair exercise. Exercise is led by a DVD instructor.
URL:https://www.cordovalibrary.com/event/chair-exercise/2026-11-18/
LOCATION:Cordova Library\, 402 Main Ave\, Cordova\, IL\, 61242\, United States
CATEGORIES:Adults
ORGANIZER;CN="Cordova Library":MAILTO:cfornero-green@cordovalibrary.com
END:VEVENT
BEGIN:VEVENT
DTSTART;TZID=America/Chicago:20261118T180000
DTEND;TZID=America/Chicago:20261118T190000
DTSTAMP:20260422T201554
CREATED:20240809T003445Z
LAST-MODIFIED:20240809T003556Z
UID:10001515-1795024800-1795028400@www.cordovalibrary.com
SUMMARY:American Legion Meeting
DESCRIPTION:Monthly meeting of the American Legion Post 1033.
URL:https://www.cordovalibrary.com/event/american-legion-meeting/2026-11-18/
LOCATION:Cordova Library\, 402 Main Ave\, Cordova\, IL\, 61242\, United States
CATEGORIES:Adults
ORGANIZER;CN="Cordova Library":MAILTO:cfornero-green@cordovalibrary.com
END:VEVENT
BEGIN:VEVENT
DTSTART;TZID=America/Chicago:20261119T090000
DTEND;TZID=America/Chicago:20261119T103000
DTSTAMP:20260422T201554
CREATED:20240919T145842Z
LAST-MODIFIED:20250903T204702Z
UID:10001588-1795078800-1795084200@www.cordovalibrary.com
SUMMARY:Library Board Meeting
DESCRIPTION:Monthly meeting of the Cordova Library Board.
URL:https://www.cordovalibrary.com/event/library-board-meeting-3/2026-11-19/
LOCATION:Cordova Library\, 402 Main Ave\, Cordova\, IL\, 61242\, United States
CATEGORIES:Board Meetings
ORGANIZER;CN="Cordova Library":MAILTO:cfornero-green@cordovalibrary.com
END:VEVENT
BEGIN:VEVENT
DTSTART;TZID=America/Chicago:20261120T090000
DTEND;TZID=America/Chicago:20261120T093000
DTSTAMP:20260422T201554
CREATED:20240808T233504Z
LAST-MODIFIED:20251120T223457Z
UID:10000421-1795165200-1795167000@www.cordovalibrary.com
SUMMARY:Chair Exercise
DESCRIPTION:Join friends for chair exercise. Exercise is led by a DVD instructor.
URL:https://www.cordovalibrary.com/event/chair-exercise/2026-11-20/
LOCATION:Cordova Library\, 402 Main Ave\, Cordova\, IL\, 61242\, United States
CATEGORIES:Adults
ORGANIZER;CN="Cordova Library":MAILTO:cfornero-green@cordovalibrary.com
END:VEVENT
BEGIN:VEVENT
DTSTART;TZID=America/Chicago:20261120T100000
DTEND;TZID=America/Chicago:20261120T110000
DTSTAMP:20260422T201554
CREATED:20240809T002629Z
LAST-MODIFIED:20260102T160037Z
UID:10001224-1795168800-1795172400@www.cordovalibrary.com
SUMMARY:Story Time
DESCRIPTION:Books\, singing\, dancing and playing…at Story Time! All ages are welcome to attend our Story Time in the Library. On May 23rd…we will be having Story Time at the Civic Center Park. If there is bad weather\, we will be in the library.
URL:https://www.cordovalibrary.com/event/story-time-2/2026-11-20/
LOCATION:Cordova Library\, 402 Main Ave\, Cordova\, IL\, 61242\, United States
CATEGORIES:Children's
ATTACH;FMTTYPE=image/jpeg:https://www.cordovalibrary.com/wp-content/uploads/2024/07/IMG_5543.jpg
ORGANIZER;CN="Cordova Library":MAILTO:cfornero-green@cordovalibrary.com
END:VEVENT
BEGIN:VEVENT
DTSTART;TZID=America/Chicago:20261120T130000
DTEND;TZID=America/Chicago:20261120T140000
DTSTAMP:20260422T201554
CREATED:20260102T155802Z
LAST-MODIFIED:20260102T155850Z
UID:10003347-1795179600-1795183200@www.cordovalibrary.com
SUMMARY:Euchre
DESCRIPTION:
URL:https://www.cordovalibrary.com/event/euchre-2/2026-11-20/
LOCATION:Cordova Library\, 402 Main Ave\, Cordova\, IL\, 61242\, United States
CATEGORIES:Adults
ORGANIZER;CN="Cordova Library":MAILTO:cfornero-green@cordovalibrary.com
END:VEVENT
BEGIN:VEVENT
DTSTART;TZID=America/Chicago:20261123T090000
DTEND;TZID=America/Chicago:20261123T093000
DTSTAMP:20260422T201554
CREATED:20240808T233504Z
LAST-MODIFIED:20251120T223457Z
UID:10000422-1795424400-1795426200@www.cordovalibrary.com
SUMMARY:Chair Exercise
DESCRIPTION:Join friends for chair exercise. Exercise is led by a DVD instructor.
URL:https://www.cordovalibrary.com/event/chair-exercise/2026-11-23/
LOCATION:Cordova Library\, 402 Main Ave\, Cordova\, IL\, 61242\, United States
CATEGORIES:Adults
ORGANIZER;CN="Cordova Library":MAILTO:cfornero-green@cordovalibrary.com
END:VEVENT
BEGIN:VEVENT
DTSTART;TZID=America/Chicago:20261124T080000
DTEND;TZID=America/Chicago:20261124T170000
DTSTAMP:20260422T201554
CREATED:20260205T163418Z
LAST-MODIFIED:20260205T163418Z
UID:10003604-1795507200-1795539600@www.cordovalibrary.com
SUMMARY:Do Your Own Thing
DESCRIPTION:Work on a project with friends! Bring a dish to pass for lunch.
URL:https://www.cordovalibrary.com/event/do-your-own-thing-2-2/2026-11-24/
LOCATION:Cordova Library\, 402 Main Ave\, Cordova\, IL\, 61242\, United States
CATEGORIES:Adults
ORGANIZER;CN="Cordova Library":MAILTO:cfornero-green@cordovalibrary.com
END:VEVENT
BEGIN:VEVENT
DTSTART;TZID=America/Chicago:20261124T160000
DTEND;TZID=America/Chicago:20261124T170000
DTSTAMP:20260422T201554
CREATED:20241104T192022Z
LAST-MODIFIED:20250903T203155Z
UID:10002632-1795536000-1795539600@www.cordovalibrary.com
SUMMARY:Crochet
DESCRIPTION:Meet friends to crochet or knit.
URL:https://www.cordovalibrary.com/event/crochet/2026-11-24/
LOCATION:Cordova Library\, 402 Main Ave\, Cordova\, IL\, 61242\, United States
CATEGORIES:Adults
ORGANIZER;CN="Cordova Library":MAILTO:cfornero-green@cordovalibrary.com
END:VEVENT
BEGIN:VEVENT
DTSTART;TZID=America/Chicago:20261125T090000
DTEND;TZID=America/Chicago:20261125T093000
DTSTAMP:20260422T201554
CREATED:20240808T233504Z
LAST-MODIFIED:20251120T223457Z
UID:10000423-1795597200-1795599000@www.cordovalibrary.com
SUMMARY:Chair Exercise
DESCRIPTION:Join friends for chair exercise. Exercise is led by a DVD instructor.
URL:https://www.cordovalibrary.com/event/chair-exercise/2026-11-25/
LOCATION:Cordova Library\, 402 Main Ave\, Cordova\, IL\, 61242\, United States
CATEGORIES:Adults
ORGANIZER;CN="Cordova Library":MAILTO:cfornero-green@cordovalibrary.com
END:VEVENT
BEGIN:VEVENT
DTSTART;TZID=America/Chicago:20261127T090000
DTEND;TZID=America/Chicago:20261127T093000
DTSTAMP:20260422T201554
CREATED:20240808T233504Z
LAST-MODIFIED:20251120T223457Z
UID:10000424-1795770000-1795771800@www.cordovalibrary.com
SUMMARY:Chair Exercise
DESCRIPTION:Join friends for chair exercise. Exercise is led by a DVD instructor.
URL:https://www.cordovalibrary.com/event/chair-exercise/2026-11-27/
LOCATION:Cordova Library\, 402 Main Ave\, Cordova\, IL\, 61242\, United States
CATEGORIES:Adults
ORGANIZER;CN="Cordova Library":MAILTO:cfornero-green@cordovalibrary.com
END:VEVENT
BEGIN:VEVENT
DTSTART;TZID=America/Chicago:20261127T100000
DTEND;TZID=America/Chicago:20261127T110000
DTSTAMP:20260422T201554
CREATED:20240809T002629Z
LAST-MODIFIED:20260102T160037Z
UID:10001225-1795773600-1795777200@www.cordovalibrary.com
SUMMARY:Story Time
DESCRIPTION:Books\, singing\, dancing and playing…at Story Time! All ages are welcome to attend our Story Time in the Library. On May 23rd…we will be having Story Time at the Civic Center Park. If there is bad weather\, we will be in the library.
URL:https://www.cordovalibrary.com/event/story-time-2/2026-11-27/
LOCATION:Cordova Library\, 402 Main Ave\, Cordova\, IL\, 61242\, United States
CATEGORIES:Children's
ATTACH;FMTTYPE=image/jpeg:https://www.cordovalibrary.com/wp-content/uploads/2024/07/IMG_5543.jpg
ORGANIZER;CN="Cordova Library":MAILTO:cfornero-green@cordovalibrary.com
END:VEVENT
BEGIN:VEVENT
DTSTART;TZID=America/Chicago:20261127T130000
DTEND;TZID=America/Chicago:20261127T140000
DTSTAMP:20260422T201554
CREATED:20260102T155802Z
LAST-MODIFIED:20260102T155850Z
UID:10003348-1795784400-1795788000@www.cordovalibrary.com
SUMMARY:Euchre
DESCRIPTION:
URL:https://www.cordovalibrary.com/event/euchre-2/2026-11-27/
LOCATION:Cordova Library\, 402 Main Ave\, Cordova\, IL\, 61242\, United States
CATEGORIES:Adults
ORGANIZER;CN="Cordova Library":MAILTO:cfornero-green@cordovalibrary.com
END:VEVENT
END:VCALENDAR