BEGIN:VCALENDAR
VERSION:2.0
PRODID:-//Cordova District Library - ECPv6.15.20//NONSGML v1.0//EN
CALSCALE:GREGORIAN
METHOD:PUBLISH
X-WR-CALNAME:Cordova District Library
X-ORIGINAL-URL:https://www.cordovalibrary.com
X-WR-CALDESC:Events for Cordova District Library
REFRESH-INTERVAL;VALUE=DURATION:PT1H
X-Robots-Tag:noindex
X-PUBLISHED-TTL:PT1H
BEGIN:VTIMEZONE
TZID:America/Chicago
BEGIN:DAYLIGHT
TZOFFSETFROM:-0600
TZOFFSETTO:-0500
TZNAME:CDT
DTSTART:20240310T080000
END:DAYLIGHT
BEGIN:STANDARD
TZOFFSETFROM:-0500
TZOFFSETTO:-0600
TZNAME:CST
DTSTART:20241103T070000
END:STANDARD
BEGIN:DAYLIGHT
TZOFFSETFROM:-0600
TZOFFSETTO:-0500
TZNAME:CDT
DTSTART:20250309T080000
END:DAYLIGHT
BEGIN:STANDARD
TZOFFSETFROM:-0500
TZOFFSETTO:-0600
TZNAME:CST
DTSTART:20251102T070000
END:STANDARD
BEGIN:DAYLIGHT
TZOFFSETFROM:-0600
TZOFFSETTO:-0500
TZNAME:CDT
DTSTART:20260308T080000
END:DAYLIGHT
BEGIN:STANDARD
TZOFFSETFROM:-0500
TZOFFSETTO:-0600
TZNAME:CST
DTSTART:20261101T070000
END:STANDARD
END:VTIMEZONE
BEGIN:VEVENT
DTSTART;TZID=America/Chicago:20251201T090000
DTEND;TZID=America/Chicago:20251201T093000
DTSTAMP:20260422T102109
CREATED:20240808T233504Z
LAST-MODIFIED:20251120T223457Z
UID:10000269-1764579600-1764581400@www.cordovalibrary.com
SUMMARY:Chair Exercise
DESCRIPTION:Join friends for chair exercise. Exercise is led by a DVD instructor.
URL:https://www.cordovalibrary.com/event/chair-exercise/2025-12-01/
LOCATION:Cordova Library\, 402 Main Ave\, Cordova\, IL\, 61242\, United States
CATEGORIES:Adults
ORGANIZER;CN="Cordova Library":MAILTO:cfornero-green@cordovalibrary.com
END:VEVENT
BEGIN:VEVENT
DTSTART;TZID=America/Chicago:20251202T100000
DTEND;TZID=America/Chicago:20251202T110000
DTSTAMP:20260422T102109
CREATED:20250903T210830Z
LAST-MODIFIED:20250903T210830Z
UID:10002925-1764669600-1764673200@www.cordovalibrary.com
SUMMARY:Book Club
DESCRIPTION:Morning book club where a variety of genres are discussed.
URL:https://www.cordovalibrary.com/event/book-club-2/2025-12-02/
LOCATION:Cordova Library\, 402 Main Ave\, Cordova\, IL\, 61242\, United States
CATEGORIES:Adults
ORGANIZER;CN="Cordova Library":MAILTO:cfornero-green@cordovalibrary.com
END:VEVENT
BEGIN:VEVENT
DTSTART;TZID=America/Chicago:20251202T160000
DTEND;TZID=America/Chicago:20251202T170000
DTSTAMP:20260422T102109
CREATED:20241104T192022Z
LAST-MODIFIED:20250903T203155Z
UID:10002581-1764691200-1764694800@www.cordovalibrary.com
SUMMARY:Crochet
DESCRIPTION:Meet friends to crochet or knit.
URL:https://www.cordovalibrary.com/event/crochet/2025-12-02/
LOCATION:Cordova Library\, 402 Main Ave\, Cordova\, IL\, 61242\, United States
CATEGORIES:Adults
ORGANIZER;CN="Cordova Library":MAILTO:cfornero-green@cordovalibrary.com
END:VEVENT
BEGIN:VEVENT
DTSTART;TZID=America/Chicago:20251203T090000
DTEND;TZID=America/Chicago:20251203T093000
DTSTAMP:20260422T102109
CREATED:20240808T233504Z
LAST-MODIFIED:20251120T223457Z
UID:10000270-1764752400-1764754200@www.cordovalibrary.com
SUMMARY:Chair Exercise
DESCRIPTION:Join friends for chair exercise. Exercise is led by a DVD instructor.
URL:https://www.cordovalibrary.com/event/chair-exercise/2025-12-03/
LOCATION:Cordova Library\, 402 Main Ave\, Cordova\, IL\, 61242\, United States
CATEGORIES:Adults
ORGANIZER;CN="Cordova Library":MAILTO:cfornero-green@cordovalibrary.com
END:VEVENT
BEGIN:VEVENT
DTSTART;TZID=America/Chicago:20251203T163000
DTEND;TZID=America/Chicago:20251203T173000
DTSTAMP:20260422T102109
CREATED:20250825T151833Z
LAST-MODIFIED:20251029T182729Z
UID:10003009-1764779400-1764783000@www.cordovalibrary.com
SUMMARY:Who's Got Game?
DESCRIPTION:Join us to play games on the switch/xbox one/laptops or board games\, card games\, and more in an open game room!
URL:https://www.cordovalibrary.com/event/whos-got-game-3/2025-12-03/
LOCATION:Cordova Library\, 402 Main Ave\, Cordova\, IL\, 61242\, United States
CATEGORIES:Teens
ORGANIZER;CN="Cordova Library":MAILTO:cfornero-green@cordovalibrary.com
END:VEVENT
BEGIN:VEVENT
DTSTART;TZID=America/Chicago:20251203T163000
DTEND;TZID=America/Chicago:20251203T173000
DTSTAMP:20260422T102109
CREATED:20251029T173705Z
LAST-MODIFIED:20251029T173705Z
UID:10003000-1764779400-1764783000@www.cordovalibrary.com
SUMMARY:DIY Gifts & Ornaments
DESCRIPTION:Make DIY Gifts for upcoming holidays/birthdays/for fun. Make DIY ornaments to hang on your tree or to give as a gift as well!
URL:https://www.cordovalibrary.com/event/diy-gifts-ornaments/
LOCATION:Cordova Library\, 402 Main Ave\, Cordova\, IL\, 61242\, United States
CATEGORIES:Teens
ORGANIZER;CN="Cordova Library":MAILTO:cfornero-green@cordovalibrary.com
END:VEVENT
BEGIN:VEVENT
DTSTART;TZID=America/Chicago:20251203T180000
DTEND;TZID=America/Chicago:20251203T190000
DTSTAMP:20260422T102109
CREATED:20250903T203659Z
LAST-MODIFIED:20250903T203659Z
UID:10002833-1764784800-1764788400@www.cordovalibrary.com
SUMMARY:Stories by Starlight
DESCRIPTION:Once a month story time at night for kids of all ages.
URL:https://www.cordovalibrary.com/event/stories-by-starlight/2025-12-03/
LOCATION:Cordova Library\, 402 Main Ave\, Cordova\, IL\, 61242\, United States
CATEGORIES:Children's
ATTACH;FMTTYPE=image/png:https://www.cordovalibrary.com/wp-content/uploads/2025/09/IMG_0151.png
ORGANIZER;CN="Cordova Library":MAILTO:cfornero-green@cordovalibrary.com
END:VEVENT
BEGIN:VEVENT
DTSTART;TZID=America/Chicago:20251204T140000
DTEND;TZID=America/Chicago:20251204T170000
DTSTAMP:20260422T102109
CREATED:20251120T214120Z
LAST-MODIFIED:20251120T214120Z
UID:10003022-1764856800-1764867600@www.cordovalibrary.com
SUMMARY:Library Open House
DESCRIPTION:Come to the Library for a treat and a gift!
URL:https://www.cordovalibrary.com/event/library-open-house-2/
LOCATION:Cordova Library\, 402 Main Ave\, Cordova\, IL\, 61242\, United States
CATEGORIES:Adults,Children's,Teens
ORGANIZER;CN="Cordova Library":MAILTO:cfornero-green@cordovalibrary.com
END:VEVENT
BEGIN:VEVENT
DTSTART;TZID=America/Chicago:20251205T090000
DTEND;TZID=America/Chicago:20251205T093000
DTSTAMP:20260422T102109
CREATED:20240808T233504Z
LAST-MODIFIED:20251120T223457Z
UID:10000271-1764925200-1764927000@www.cordovalibrary.com
SUMMARY:Chair Exercise
DESCRIPTION:Join friends for chair exercise. Exercise is led by a DVD instructor.
URL:https://www.cordovalibrary.com/event/chair-exercise/2025-12-05/
LOCATION:Cordova Library\, 402 Main Ave\, Cordova\, IL\, 61242\, United States
CATEGORIES:Adults
ORGANIZER;CN="Cordova Library":MAILTO:cfornero-green@cordovalibrary.com
END:VEVENT
BEGIN:VEVENT
DTSTART;TZID=America/Chicago:20251205T100000
DTEND;TZID=America/Chicago:20251205T110000
DTSTAMP:20260422T102109
CREATED:20240809T002629Z
LAST-MODIFIED:20260102T160037Z
UID:10001174-1764928800-1764932400@www.cordovalibrary.com
SUMMARY:Story Time
DESCRIPTION:Books\, singing\, dancing and playing…at Story Time! All ages are welcome to attend our Story Time in the Library. On May 23rd…we will be having Story Time at the Civic Center Park. If there is bad weather\, we will be in the library.
URL:https://www.cordovalibrary.com/event/story-time-2/2025-12-05/
LOCATION:Cordova Library\, 402 Main Ave\, Cordova\, IL\, 61242\, United States
CATEGORIES:Children's
ATTACH;FMTTYPE=image/jpeg:https://www.cordovalibrary.com/wp-content/uploads/2024/07/IMG_5543.jpg
ORGANIZER;CN="Cordova Library":MAILTO:cfornero-green@cordovalibrary.com
END:VEVENT
BEGIN:VEVENT
DTSTART;TZID=America/Chicago:20251206T080000
DTEND;TZID=America/Chicago:20251206T110000
DTSTAMP:20260422T102109
CREATED:20251120T215101Z
LAST-MODIFIED:20251120T215101Z
UID:10003083-1765008000-1765018800@www.cordovalibrary.com
SUMMARY:Breakfast with Santa
DESCRIPTION:Eat breakfast with Santa at Brockmann Timbers for River Cities Rotary. Breakfast by donation.
URL:https://www.cordovalibrary.com/event/breakfast-with-santa/
LOCATION:Brockmann Timbers\, 23227 94th Ave N\, Port Byron\, IL\, 61275\, United States
CATEGORIES:Adults,Children's
END:VEVENT
BEGIN:VEVENT
DTSTART;TZID=America/Chicago:20251208T090000
DTEND;TZID=America/Chicago:20251208T093000
DTSTAMP:20260422T102109
CREATED:20240808T233504Z
LAST-MODIFIED:20251120T223457Z
UID:10000272-1765184400-1765186200@www.cordovalibrary.com
SUMMARY:Chair Exercise
DESCRIPTION:Join friends for chair exercise. Exercise is led by a DVD instructor.
URL:https://www.cordovalibrary.com/event/chair-exercise/2025-12-08/
LOCATION:Cordova Library\, 402 Main Ave\, Cordova\, IL\, 61242\, United States
CATEGORIES:Adults
ORGANIZER;CN="Cordova Library":MAILTO:cfornero-green@cordovalibrary.com
END:VEVENT
BEGIN:VEVENT
DTSTART;TZID=America/Chicago:20251209T160000
DTEND;TZID=America/Chicago:20251209T170000
DTSTAMP:20260422T102109
CREATED:20241104T192022Z
LAST-MODIFIED:20250903T203155Z
UID:10002582-1765296000-1765299600@www.cordovalibrary.com
SUMMARY:Crochet
DESCRIPTION:Meet friends to crochet or knit.
URL:https://www.cordovalibrary.com/event/crochet/2025-12-09/
LOCATION:Cordova Library\, 402 Main Ave\, Cordova\, IL\, 61242\, United States
CATEGORIES:Adults
ORGANIZER;CN="Cordova Library":MAILTO:cfornero-green@cordovalibrary.com
END:VEVENT
BEGIN:VEVENT
DTSTART;TZID=America/Chicago:20251210T090000
DTEND;TZID=America/Chicago:20251210T093000
DTSTAMP:20260422T102109
CREATED:20240808T233504Z
LAST-MODIFIED:20251120T223457Z
UID:10000273-1765357200-1765359000@www.cordovalibrary.com
SUMMARY:Chair Exercise
DESCRIPTION:Join friends for chair exercise. Exercise is led by a DVD instructor.
URL:https://www.cordovalibrary.com/event/chair-exercise/2025-12-10/
LOCATION:Cordova Library\, 402 Main Ave\, Cordova\, IL\, 61242\, United States
CATEGORIES:Adults
ORGANIZER;CN="Cordova Library":MAILTO:cfornero-green@cordovalibrary.com
END:VEVENT
BEGIN:VEVENT
DTSTART;TZID=America/Chicago:20251210T130000
DTEND;TZID=America/Chicago:20251210T140000
DTSTAMP:20260422T102109
CREATED:20250903T203920Z
LAST-MODIFIED:20250903T203920Z
UID:10002893-1765371600-1765375200@www.cordovalibrary.com
SUMMARY:Homeschool Art & Craft Day
DESCRIPTION:Homeschool kiddos join us for a monthly art & craft day. Each month\, there will be a different art project or craft project to complete.
URL:https://www.cordovalibrary.com/event/homeschool-art-craft-day-5/2025-12-10/
LOCATION:Cordova Library\, 402 Main Ave\, Cordova\, IL\, 61242\, United States
CATEGORIES:Children's
ORGANIZER;CN="Cordova Library":MAILTO:cfornero-green@cordovalibrary.com
END:VEVENT
BEGIN:VEVENT
DTSTART;TZID=America/Chicago:20251212T090000
DTEND;TZID=America/Chicago:20251212T093000
DTSTAMP:20260422T102109
CREATED:20240808T233504Z
LAST-MODIFIED:20251120T223457Z
UID:10000274-1765530000-1765531800@www.cordovalibrary.com
SUMMARY:Chair Exercise
DESCRIPTION:Join friends for chair exercise. Exercise is led by a DVD instructor.
URL:https://www.cordovalibrary.com/event/chair-exercise/2025-12-12/
LOCATION:Cordova Library\, 402 Main Ave\, Cordova\, IL\, 61242\, United States
CATEGORIES:Adults
ORGANIZER;CN="Cordova Library":MAILTO:cfornero-green@cordovalibrary.com
END:VEVENT
BEGIN:VEVENT
DTSTART;TZID=America/Chicago:20251212T100000
DTEND;TZID=America/Chicago:20251212T110000
DTSTAMP:20260422T102109
CREATED:20240809T002629Z
LAST-MODIFIED:20260102T160037Z
UID:10001175-1765533600-1765537200@www.cordovalibrary.com
SUMMARY:Story Time
DESCRIPTION:Books\, singing\, dancing and playing…at Story Time! All ages are welcome to attend our Story Time in the Library. On May 23rd…we will be having Story Time at the Civic Center Park. If there is bad weather\, we will be in the library.
URL:https://www.cordovalibrary.com/event/story-time-2/2025-12-12/
LOCATION:Cordova Library\, 402 Main Ave\, Cordova\, IL\, 61242\, United States
CATEGORIES:Children's
ATTACH;FMTTYPE=image/jpeg:https://www.cordovalibrary.com/wp-content/uploads/2024/07/IMG_5543.jpg
ORGANIZER;CN="Cordova Library":MAILTO:cfornero-green@cordovalibrary.com
END:VEVENT
BEGIN:VEVENT
DTSTART;TZID=America/Chicago:20251213T110000
DTEND;TZID=America/Chicago:20251213T123000
DTSTAMP:20260422T102109
CREATED:20251120T221309Z
LAST-MODIFIED:20251120T221309Z
UID:10003084-1765623600-1765629000@www.cordovalibrary.com
SUMMARY:Wreaths Across America
DESCRIPTION:River Cities Rotary will host Wreaths Across America at Cordova Cemetery. Volunteers and family members will place 250+ wreaths on veteran’s graves.
URL:https://www.cordovalibrary.com/event/wreaths-across-america/
LOCATION:Cordova Cemetery
CATEGORIES:Adults
ORGANIZER;CN="Cordova Library":MAILTO:cfornero-green@cordovalibrary.com
END:VEVENT
BEGIN:VEVENT
DTSTART;TZID=America/Chicago:20251215T090000
DTEND;TZID=America/Chicago:20251215T093000
DTSTAMP:20260422T102109
CREATED:20240808T233504Z
LAST-MODIFIED:20251120T223457Z
UID:10000275-1765789200-1765791000@www.cordovalibrary.com
SUMMARY:Chair Exercise
DESCRIPTION:Join friends for chair exercise. Exercise is led by a DVD instructor.
URL:https://www.cordovalibrary.com/event/chair-exercise/2025-12-15/
LOCATION:Cordova Library\, 402 Main Ave\, Cordova\, IL\, 61242\, United States
CATEGORIES:Adults
ORGANIZER;CN="Cordova Library":MAILTO:cfornero-green@cordovalibrary.com
END:VEVENT
BEGIN:VEVENT
DTSTART;TZID=America/Chicago:20251215T130000
DTEND;TZID=America/Chicago:20251215T140000
DTSTAMP:20260422T102109
CREATED:20251120T223042Z
LAST-MODIFIED:20251120T223042Z
UID:10003085-1765803600-1765807200@www.cordovalibrary.com
SUMMARY:Make it Monday
DESCRIPTION:Flower arranging.
URL:https://www.cordovalibrary.com/event/make-it-monday-7/
LOCATION:IL
CATEGORIES:Adults
END:VEVENT
BEGIN:VEVENT
DTSTART;TZID=America/Chicago:20251215T163000
DTEND;TZID=America/Chicago:20251215T173000
DTSTAMP:20260422T102109
CREATED:20251029T173745Z
LAST-MODIFIED:20251029T173745Z
UID:10003001-1765816200-1765819800@www.cordovalibrary.com
SUMMARY:Jewelry
DESCRIPTION:Make your own necklaces\, bracelets\, earrings\, anklets\, etc!
URL:https://www.cordovalibrary.com/event/jewelry/
LOCATION:Cordova Library\, 402 Main Ave\, Cordova\, IL\, 61242\, United States
CATEGORIES:Teens
ORGANIZER;CN="Cordova Library":MAILTO:cfornero-green@cordovalibrary.com
END:VEVENT
BEGIN:VEVENT
DTSTART;TZID=America/Chicago:20251216T160000
DTEND;TZID=America/Chicago:20251216T170000
DTSTAMP:20260422T102109
CREATED:20241104T192022Z
LAST-MODIFIED:20250903T203155Z
UID:10002583-1765900800-1765904400@www.cordovalibrary.com
SUMMARY:Crochet
DESCRIPTION:Meet friends to crochet or knit.
URL:https://www.cordovalibrary.com/event/crochet/2025-12-16/
LOCATION:Cordova Library\, 402 Main Ave\, Cordova\, IL\, 61242\, United States
CATEGORIES:Adults
ORGANIZER;CN="Cordova Library":MAILTO:cfornero-green@cordovalibrary.com
END:VEVENT
BEGIN:VEVENT
DTSTART;TZID=America/Chicago:20251217T090000
DTEND;TZID=America/Chicago:20251217T093000
DTSTAMP:20260422T102109
CREATED:20240808T233504Z
LAST-MODIFIED:20251120T223457Z
UID:10000276-1765962000-1765963800@www.cordovalibrary.com
SUMMARY:Chair Exercise
DESCRIPTION:Join friends for chair exercise. Exercise is led by a DVD instructor.
URL:https://www.cordovalibrary.com/event/chair-exercise/2025-12-17/
LOCATION:Cordova Library\, 402 Main Ave\, Cordova\, IL\, 61242\, United States
CATEGORIES:Adults
ORGANIZER;CN="Cordova Library":MAILTO:cfornero-green@cordovalibrary.com
END:VEVENT
BEGIN:VEVENT
DTSTART;TZID=America/Chicago:20251217T180000
DTEND;TZID=America/Chicago:20251217T190000
DTSTAMP:20260422T102109
CREATED:20240809T003445Z
LAST-MODIFIED:20240809T003556Z
UID:10001504-1765994400-1765998000@www.cordovalibrary.com
SUMMARY:American Legion Meeting
DESCRIPTION:Monthly meeting of the American Legion Post 1033.
URL:https://www.cordovalibrary.com/event/american-legion-meeting/2025-12-17/
LOCATION:Cordova Library\, 402 Main Ave\, Cordova\, IL\, 61242\, United States
CATEGORIES:Adults
ORGANIZER;CN="Cordova Library":MAILTO:cfornero-green@cordovalibrary.com
END:VEVENT
BEGIN:VEVENT
DTSTART;TZID=America/Chicago:20251218T090000
DTEND;TZID=America/Chicago:20251218T103000
DTSTAMP:20260422T102109
CREATED:20240919T145842Z
LAST-MODIFIED:20250903T204702Z
UID:10001577-1766048400-1766053800@www.cordovalibrary.com
SUMMARY:Library Board Meeting
DESCRIPTION:Monthly meeting of the Cordova Library Board.
URL:https://www.cordovalibrary.com/event/library-board-meeting-3/2025-12-18/
LOCATION:Cordova Library\, 402 Main Ave\, Cordova\, IL\, 61242\, United States
CATEGORIES:Board Meetings
ORGANIZER;CN="Cordova Library":MAILTO:cfornero-green@cordovalibrary.com
END:VEVENT
BEGIN:VEVENT
DTSTART;TZID=America/Chicago:20251218T130000
DTEND;TZID=America/Chicago:20251218T150000
DTSTAMP:20260422T102109
CREATED:20250903T205449Z
LAST-MODIFIED:20250903T205449Z
UID:10002918-1766062800-1766070000@www.cordovalibrary.com
SUMMARY:Home Extension
DESCRIPTION:Monthly meeting of the Home Extension group.
URL:https://www.cordovalibrary.com/event/home-extension/2025-12-18/
LOCATION:Cordova Library\, 402 Main Ave\, Cordova\, IL\, 61242\, United States
CATEGORIES:Adults
ORGANIZER;CN="Cordova Library":MAILTO:cfornero-green@cordovalibrary.com
END:VEVENT
BEGIN:VEVENT
DTSTART;TZID=America/Chicago:20251219T090000
DTEND;TZID=America/Chicago:20251219T093000
DTSTAMP:20260422T102109
CREATED:20240808T233504Z
LAST-MODIFIED:20251120T223457Z
UID:10000277-1766134800-1766136600@www.cordovalibrary.com
SUMMARY:Chair Exercise
DESCRIPTION:Join friends for chair exercise. Exercise is led by a DVD instructor.
URL:https://www.cordovalibrary.com/event/chair-exercise/2025-12-19/
LOCATION:Cordova Library\, 402 Main Ave\, Cordova\, IL\, 61242\, United States
CATEGORIES:Adults
ORGANIZER;CN="Cordova Library":MAILTO:cfornero-green@cordovalibrary.com
END:VEVENT
BEGIN:VEVENT
DTSTART;TZID=America/Chicago:20251219T100000
DTEND;TZID=America/Chicago:20251219T110000
DTSTAMP:20260422T102109
CREATED:20240809T002629Z
LAST-MODIFIED:20260102T160037Z
UID:10001176-1766138400-1766142000@www.cordovalibrary.com
SUMMARY:Story Time
DESCRIPTION:Books\, singing\, dancing and playing…at Story Time! All ages are welcome to attend our Story Time in the Library. On May 23rd…we will be having Story Time at the Civic Center Park. If there is bad weather\, we will be in the library.
URL:https://www.cordovalibrary.com/event/story-time-2/2025-12-19/
LOCATION:Cordova Library\, 402 Main Ave\, Cordova\, IL\, 61242\, United States
CATEGORIES:Children's
ATTACH;FMTTYPE=image/jpeg:https://www.cordovalibrary.com/wp-content/uploads/2024/07/IMG_5543.jpg
ORGANIZER;CN="Cordova Library":MAILTO:cfornero-green@cordovalibrary.com
END:VEVENT
BEGIN:VEVENT
DTSTART;TZID=America/Chicago:20251219T123000
DTEND;TZID=America/Chicago:20251219T133000
DTSTAMP:20260422T102109
CREATED:20251029T173839Z
LAST-MODIFIED:20251029T174352Z
UID:10003002-1766147400-1766151000@www.cordovalibrary.com
SUMMARY:Gingerbread Houses
DESCRIPTION:Make Gingerbread Houses to take home or eat!
URL:https://www.cordovalibrary.com/event/gingerbread-houses/
LOCATION:Cordova Library\, 402 Main Ave\, Cordova\, IL\, 61242\, United States
CATEGORIES:Teens
ORGANIZER;CN="Cordova Library":MAILTO:cfornero-green@cordovalibrary.com
END:VEVENT
BEGIN:VEVENT
DTSTART;TZID=America/Chicago:20251222T090000
DTEND;TZID=America/Chicago:20251222T093000
DTSTAMP:20260422T102109
CREATED:20240808T233504Z
LAST-MODIFIED:20251120T223457Z
UID:10000278-1766394000-1766395800@www.cordovalibrary.com
SUMMARY:Chair Exercise
DESCRIPTION:Join friends for chair exercise. Exercise is led by a DVD instructor.
URL:https://www.cordovalibrary.com/event/chair-exercise/2025-12-22/
LOCATION:Cordova Library\, 402 Main Ave\, Cordova\, IL\, 61242\, United States
CATEGORIES:Adults
ORGANIZER;CN="Cordova Library":MAILTO:cfornero-green@cordovalibrary.com
END:VEVENT
END:VCALENDAR