BEGIN:VCALENDAR
VERSION:2.0
PRODID:-//Cordova District Library - ECPv6.15.20//NONSGML v1.0//EN
CALSCALE:GREGORIAN
METHOD:PUBLISH
X-WR-CALNAME:Cordova District Library
X-ORIGINAL-URL:https://www.cordovalibrary.com
X-WR-CALDESC:Events for Cordova District Library
REFRESH-INTERVAL;VALUE=DURATION:PT1H
X-Robots-Tag:noindex
X-PUBLISHED-TTL:PT1H
BEGIN:VTIMEZONE
TZID:America/Chicago
BEGIN:DAYLIGHT
TZOFFSETFROM:-0600
TZOFFSETTO:-0500
TZNAME:CDT
DTSTART:20240310T080000
END:DAYLIGHT
BEGIN:STANDARD
TZOFFSETFROM:-0500
TZOFFSETTO:-0600
TZNAME:CST
DTSTART:20241103T070000
END:STANDARD
BEGIN:DAYLIGHT
TZOFFSETFROM:-0600
TZOFFSETTO:-0500
TZNAME:CDT
DTSTART:20250309T080000
END:DAYLIGHT
BEGIN:STANDARD
TZOFFSETFROM:-0500
TZOFFSETTO:-0600
TZNAME:CST
DTSTART:20251102T070000
END:STANDARD
BEGIN:DAYLIGHT
TZOFFSETFROM:-0600
TZOFFSETTO:-0500
TZNAME:CDT
DTSTART:20260308T080000
END:DAYLIGHT
BEGIN:STANDARD
TZOFFSETFROM:-0500
TZOFFSETTO:-0600
TZNAME:CST
DTSTART:20261101T070000
END:STANDARD
END:VTIMEZONE
BEGIN:VEVENT
DTSTART;TZID=America/Chicago:20251103T090000
DTEND;TZID=America/Chicago:20251103T093000
DTSTAMP:20260422T084104
CREATED:20240808T233504Z
LAST-MODIFIED:20251120T223457Z
UID:10000257-1762160400-1762162200@www.cordovalibrary.com
SUMMARY:Chair Exercise
DESCRIPTION:Join friends for chair exercise. Exercise is led by a DVD instructor.
URL:https://www.cordovalibrary.com/event/chair-exercise/2025-11-03/
LOCATION:Cordova Library\, 402 Main Ave\, Cordova\, IL\, 61242\, United States
CATEGORIES:Adults
ORGANIZER;CN="Cordova Library":MAILTO:cfornero-green@cordovalibrary.com
END:VEVENT
BEGIN:VEVENT
DTSTART;TZID=America/Chicago:20251103T163000
DTEND;TZID=America/Chicago:20251103T173000
DTSTAMP:20260422T084104
CREATED:20251029T173039Z
LAST-MODIFIED:20251029T173039Z
UID:10002995-1762187400-1762191000@www.cordovalibrary.com
SUMMARY:Photography Walk
DESCRIPTION:Meet us at the library\, then we’ll walk around Cordova while we look for pretty things/scenes to take pictures of and share together!
URL:https://www.cordovalibrary.com/event/photography-walk/
LOCATION:Cordova Library\, 402 Main Ave\, Cordova\, IL\, 61242\, United States
CATEGORIES:Teens
ORGANIZER;CN="Cordova Library":MAILTO:cfornero-green@cordovalibrary.com
END:VEVENT
BEGIN:VEVENT
DTSTART;TZID=America/Chicago:20251104T100000
DTEND;TZID=America/Chicago:20251104T110000
DTSTAMP:20260422T084104
CREATED:20250903T210830Z
LAST-MODIFIED:20250903T210830Z
UID:10002924-1762250400-1762254000@www.cordovalibrary.com
SUMMARY:Book Club
DESCRIPTION:Morning book club where a variety of genres are discussed.
URL:https://www.cordovalibrary.com/event/book-club-2/2025-11-04/
LOCATION:Cordova Library\, 402 Main Ave\, Cordova\, IL\, 61242\, United States
CATEGORIES:Adults
ORGANIZER;CN="Cordova Library":MAILTO:cfornero-green@cordovalibrary.com
END:VEVENT
BEGIN:VEVENT
DTSTART;TZID=America/Chicago:20251104T160000
DTEND;TZID=America/Chicago:20251104T170000
DTSTAMP:20260422T084104
CREATED:20241104T192022Z
LAST-MODIFIED:20250903T203155Z
UID:10002577-1762272000-1762275600@www.cordovalibrary.com
SUMMARY:Crochet
DESCRIPTION:Meet friends to crochet or knit.
URL:https://www.cordovalibrary.com/event/crochet/2025-11-04/
LOCATION:Cordova Library\, 402 Main Ave\, Cordova\, IL\, 61242\, United States
CATEGORIES:Adults
ORGANIZER;CN="Cordova Library":MAILTO:cfornero-green@cordovalibrary.com
END:VEVENT
BEGIN:VEVENT
DTSTART;TZID=America/Chicago:20251105T090000
DTEND;TZID=America/Chicago:20251105T093000
DTSTAMP:20260422T084104
CREATED:20240808T233504Z
LAST-MODIFIED:20251120T223457Z
UID:10000258-1762333200-1762335000@www.cordovalibrary.com
SUMMARY:Chair Exercise
DESCRIPTION:Join friends for chair exercise. Exercise is led by a DVD instructor.
URL:https://www.cordovalibrary.com/event/chair-exercise/2025-11-05/
LOCATION:Cordova Library\, 402 Main Ave\, Cordova\, IL\, 61242\, United States
CATEGORIES:Adults
ORGANIZER;CN="Cordova Library":MAILTO:cfornero-green@cordovalibrary.com
END:VEVENT
BEGIN:VEVENT
DTSTART;TZID=America/Chicago:20251105T163000
DTEND;TZID=America/Chicago:20251105T173000
DTSTAMP:20260422T084104
CREATED:20250825T151833Z
LAST-MODIFIED:20251029T182729Z
UID:10003008-1762360200-1762363800@www.cordovalibrary.com
SUMMARY:Who's Got Game?
DESCRIPTION:Join us to play games on the switch/xbox one/laptops or board games\, card games\, and more in an open game room!
URL:https://www.cordovalibrary.com/event/whos-got-game-3/2025-11-05/
LOCATION:Cordova Library\, 402 Main Ave\, Cordova\, IL\, 61242\, United States
CATEGORIES:Teens
ORGANIZER;CN="Cordova Library":MAILTO:cfornero-green@cordovalibrary.com
END:VEVENT
BEGIN:VEVENT
DTSTART;TZID=America/Chicago:20251105T180000
DTEND;TZID=America/Chicago:20251105T190000
DTSTAMP:20260422T084104
CREATED:20250903T203659Z
LAST-MODIFIED:20250903T203659Z
UID:10002832-1762365600-1762369200@www.cordovalibrary.com
SUMMARY:Stories by Starlight
DESCRIPTION:Once a month story time at night for kids of all ages.
URL:https://www.cordovalibrary.com/event/stories-by-starlight/2025-11-05/
LOCATION:Cordova Library\, 402 Main Ave\, Cordova\, IL\, 61242\, United States
CATEGORIES:Children's
ATTACH;FMTTYPE=image/png:https://www.cordovalibrary.com/wp-content/uploads/2025/09/IMG_0151.png
ORGANIZER;CN="Cordova Library":MAILTO:cfornero-green@cordovalibrary.com
END:VEVENT
BEGIN:VEVENT
DTSTART;TZID=America/Chicago:20251107T090000
DTEND;TZID=America/Chicago:20251107T093000
DTSTAMP:20260422T084104
CREATED:20240808T233504Z
LAST-MODIFIED:20251120T223457Z
UID:10000259-1762506000-1762507800@www.cordovalibrary.com
SUMMARY:Chair Exercise
DESCRIPTION:Join friends for chair exercise. Exercise is led by a DVD instructor.
URL:https://www.cordovalibrary.com/event/chair-exercise/2025-11-07/
LOCATION:Cordova Library\, 402 Main Ave\, Cordova\, IL\, 61242\, United States
CATEGORIES:Adults
ORGANIZER;CN="Cordova Library":MAILTO:cfornero-green@cordovalibrary.com
END:VEVENT
BEGIN:VEVENT
DTSTART;TZID=America/Chicago:20251107T100000
DTEND;TZID=America/Chicago:20251107T110000
DTSTAMP:20260422T084104
CREATED:20240809T002629Z
LAST-MODIFIED:20260102T160037Z
UID:10001170-1762509600-1762513200@www.cordovalibrary.com
SUMMARY:Story Time
DESCRIPTION:Books\, singing\, dancing and playing…at Story Time! All ages are welcome to attend our Story Time in the Library. On May 23rd…we will be having Story Time at the Civic Center Park. If there is bad weather\, we will be in the library.
URL:https://www.cordovalibrary.com/event/story-time-2/2025-11-07/
LOCATION:Cordova Library\, 402 Main Ave\, Cordova\, IL\, 61242\, United States
CATEGORIES:Children's
ATTACH;FMTTYPE=image/jpeg:https://www.cordovalibrary.com/wp-content/uploads/2024/07/IMG_5543.jpg
ORGANIZER;CN="Cordova Library":MAILTO:cfornero-green@cordovalibrary.com
END:VEVENT
BEGIN:VEVENT
DTSTART;TZID=America/Chicago:20251110T090000
DTEND;TZID=America/Chicago:20251110T093000
DTSTAMP:20260422T084104
CREATED:20240808T233504Z
LAST-MODIFIED:20251120T223457Z
UID:10000260-1762765200-1762767000@www.cordovalibrary.com
SUMMARY:Chair Exercise
DESCRIPTION:Join friends for chair exercise. Exercise is led by a DVD instructor.
URL:https://www.cordovalibrary.com/event/chair-exercise/2025-11-10/
LOCATION:Cordova Library\, 402 Main Ave\, Cordova\, IL\, 61242\, United States
CATEGORIES:Adults
ORGANIZER;CN="Cordova Library":MAILTO:cfornero-green@cordovalibrary.com
END:VEVENT
BEGIN:VEVENT
DTSTART;TZID=America/Chicago:20251111T160000
DTEND;TZID=America/Chicago:20251111T170000
DTSTAMP:20260422T084104
CREATED:20241104T192022Z
LAST-MODIFIED:20250903T203155Z
UID:10002578-1762876800-1762880400@www.cordovalibrary.com
SUMMARY:Crochet
DESCRIPTION:Meet friends to crochet or knit.
URL:https://www.cordovalibrary.com/event/crochet/2025-11-11/
LOCATION:Cordova Library\, 402 Main Ave\, Cordova\, IL\, 61242\, United States
CATEGORIES:Adults
ORGANIZER;CN="Cordova Library":MAILTO:cfornero-green@cordovalibrary.com
END:VEVENT
BEGIN:VEVENT
DTSTART;TZID=America/Chicago:20251112T090000
DTEND;TZID=America/Chicago:20251112T093000
DTSTAMP:20260422T084104
CREATED:20240808T233504Z
LAST-MODIFIED:20251120T223457Z
UID:10000261-1762938000-1762939800@www.cordovalibrary.com
SUMMARY:Chair Exercise
DESCRIPTION:Join friends for chair exercise. Exercise is led by a DVD instructor.
URL:https://www.cordovalibrary.com/event/chair-exercise/2025-11-12/
LOCATION:Cordova Library\, 402 Main Ave\, Cordova\, IL\, 61242\, United States
CATEGORIES:Adults
ORGANIZER;CN="Cordova Library":MAILTO:cfornero-green@cordovalibrary.com
END:VEVENT
BEGIN:VEVENT
DTSTART;TZID=America/Chicago:20251112T130000
DTEND;TZID=America/Chicago:20251112T140000
DTSTAMP:20260422T084104
CREATED:20250903T203920Z
LAST-MODIFIED:20250903T203920Z
UID:10002892-1762952400-1762956000@www.cordovalibrary.com
SUMMARY:Homeschool Art & Craft Day
DESCRIPTION:Homeschool kiddos join us for a monthly art & craft day. Each month\, there will be a different art project or craft project to complete.
URL:https://www.cordovalibrary.com/event/homeschool-art-craft-day-5/2025-11-12/
LOCATION:Cordova Library\, 402 Main Ave\, Cordova\, IL\, 61242\, United States
CATEGORIES:Children's
ORGANIZER;CN="Cordova Library":MAILTO:cfornero-green@cordovalibrary.com
END:VEVENT
BEGIN:VEVENT
DTSTART;TZID=America/Chicago:20251112T150000
DTEND;TZID=America/Chicago:20251112T170000
DTSTAMP:20260422T084104
CREATED:20251029T173130Z
LAST-MODIFIED:20251029T173130Z
UID:10002996-1762959600-1762966800@www.cordovalibrary.com
SUMMARY:No-Sew Throw Pillows
DESCRIPTION:Learn how to make a no-sew throw pillow from scratch!
URL:https://www.cordovalibrary.com/event/no-sew-throw-pillows/
LOCATION:Cordova Library\, 402 Main Ave\, Cordova\, IL\, 61242\, United States
CATEGORIES:Teens
ORGANIZER;CN="Cordova Library":MAILTO:cfornero-green@cordovalibrary.com
END:VEVENT
BEGIN:VEVENT
DTSTART;TZID=America/Chicago:20251114T090000
DTEND;TZID=America/Chicago:20251114T093000
DTSTAMP:20260422T084104
CREATED:20240808T233504Z
LAST-MODIFIED:20251120T223457Z
UID:10000262-1763110800-1763112600@www.cordovalibrary.com
SUMMARY:Chair Exercise
DESCRIPTION:Join friends for chair exercise. Exercise is led by a DVD instructor.
URL:https://www.cordovalibrary.com/event/chair-exercise/2025-11-14/
LOCATION:Cordova Library\, 402 Main Ave\, Cordova\, IL\, 61242\, United States
CATEGORIES:Adults
ORGANIZER;CN="Cordova Library":MAILTO:cfornero-green@cordovalibrary.com
END:VEVENT
BEGIN:VEVENT
DTSTART;TZID=America/Chicago:20251114T100000
DTEND;TZID=America/Chicago:20251114T110000
DTSTAMP:20260422T084104
CREATED:20240809T002629Z
LAST-MODIFIED:20260102T160037Z
UID:10001171-1763114400-1763118000@www.cordovalibrary.com
SUMMARY:Story Time
DESCRIPTION:Books\, singing\, dancing and playing…at Story Time! All ages are welcome to attend our Story Time in the Library. On May 23rd…we will be having Story Time at the Civic Center Park. If there is bad weather\, we will be in the library.
URL:https://www.cordovalibrary.com/event/story-time-2/2025-11-14/
LOCATION:Cordova Library\, 402 Main Ave\, Cordova\, IL\, 61242\, United States
CATEGORIES:Children's
ATTACH;FMTTYPE=image/jpeg:https://www.cordovalibrary.com/wp-content/uploads/2024/07/IMG_5543.jpg
ORGANIZER;CN="Cordova Library":MAILTO:cfornero-green@cordovalibrary.com
END:VEVENT
BEGIN:VEVENT
DTSTART;TZID=America/Chicago:20251117T090000
DTEND;TZID=America/Chicago:20251117T093000
DTSTAMP:20260422T084104
CREATED:20240808T233504Z
LAST-MODIFIED:20251120T223457Z
UID:10000263-1763370000-1763371800@www.cordovalibrary.com
SUMMARY:Chair Exercise
DESCRIPTION:Join friends for chair exercise. Exercise is led by a DVD instructor.
URL:https://www.cordovalibrary.com/event/chair-exercise/2025-11-17/
LOCATION:Cordova Library\, 402 Main Ave\, Cordova\, IL\, 61242\, United States
CATEGORIES:Adults
ORGANIZER;CN="Cordova Library":MAILTO:cfornero-green@cordovalibrary.com
END:VEVENT
BEGIN:VEVENT
DTSTART;TZID=America/Chicago:20251117T163000
DTEND;TZID=America/Chicago:20251117T173000
DTSTAMP:20260422T084104
CREATED:20251029T173224Z
LAST-MODIFIED:20251029T173503Z
UID:10002997-1763397000-1763400600@www.cordovalibrary.com
SUMMARY:Cookies & Cocoa/Teen Advisory
DESCRIPTION:Enjoy some yummy cookies & hot cocoa! Part of our time will be used as our monthly Teen Advisory.
URL:https://www.cordovalibrary.com/event/cookies-cocoa-teen-advisory/
LOCATION:Cordova Library\, 402 Main Ave\, Cordova\, IL\, 61242\, United States
CATEGORIES:Teens
ORGANIZER;CN="Cordova Library":MAILTO:cfornero-green@cordovalibrary.com
END:VEVENT
BEGIN:VEVENT
DTSTART;TZID=America/Chicago:20251118T160000
DTEND;TZID=America/Chicago:20251118T170000
DTSTAMP:20260422T084104
CREATED:20241104T192022Z
LAST-MODIFIED:20250903T203155Z
UID:10002579-1763481600-1763485200@www.cordovalibrary.com
SUMMARY:Crochet
DESCRIPTION:Meet friends to crochet or knit.
URL:https://www.cordovalibrary.com/event/crochet/2025-11-18/
LOCATION:Cordova Library\, 402 Main Ave\, Cordova\, IL\, 61242\, United States
CATEGORIES:Adults
ORGANIZER;CN="Cordova Library":MAILTO:cfornero-green@cordovalibrary.com
END:VEVENT
BEGIN:VEVENT
DTSTART;TZID=America/Chicago:20251119T090000
DTEND;TZID=America/Chicago:20251119T093000
DTSTAMP:20260422T084104
CREATED:20240808T233504Z
LAST-MODIFIED:20251120T223457Z
UID:10000264-1763542800-1763544600@www.cordovalibrary.com
SUMMARY:Chair Exercise
DESCRIPTION:Join friends for chair exercise. Exercise is led by a DVD instructor.
URL:https://www.cordovalibrary.com/event/chair-exercise/2025-11-19/
LOCATION:Cordova Library\, 402 Main Ave\, Cordova\, IL\, 61242\, United States
CATEGORIES:Adults
ORGANIZER;CN="Cordova Library":MAILTO:cfornero-green@cordovalibrary.com
END:VEVENT
BEGIN:VEVENT
DTSTART;TZID=America/Chicago:20251119T180000
DTEND;TZID=America/Chicago:20251119T190000
DTSTAMP:20260422T084104
CREATED:20240809T003445Z
LAST-MODIFIED:20240809T003556Z
UID:10001503-1763575200-1763578800@www.cordovalibrary.com
SUMMARY:American Legion Meeting
DESCRIPTION:Monthly meeting of the American Legion Post 1033.
URL:https://www.cordovalibrary.com/event/american-legion-meeting/2025-11-19/
LOCATION:Cordova Library\, 402 Main Ave\, Cordova\, IL\, 61242\, United States
CATEGORIES:Adults
ORGANIZER;CN="Cordova Library":MAILTO:cfornero-green@cordovalibrary.com
END:VEVENT
BEGIN:VEVENT
DTSTART;TZID=America/Chicago:20251120T090000
DTEND;TZID=America/Chicago:20251120T103000
DTSTAMP:20260422T084104
CREATED:20240919T145842Z
LAST-MODIFIED:20250903T204702Z
UID:10001576-1763629200-1763634600@www.cordovalibrary.com
SUMMARY:Library Board Meeting
DESCRIPTION:Monthly meeting of the Cordova Library Board.
URL:https://www.cordovalibrary.com/event/library-board-meeting-3/2025-11-20/
LOCATION:Cordova Library\, 402 Main Ave\, Cordova\, IL\, 61242\, United States
CATEGORIES:Board Meetings
ORGANIZER;CN="Cordova Library":MAILTO:cfornero-green@cordovalibrary.com
END:VEVENT
BEGIN:VEVENT
DTSTART;TZID=America/Chicago:20251120T130000
DTEND;TZID=America/Chicago:20251120T150000
DTSTAMP:20260422T084104
CREATED:20250903T205449Z
LAST-MODIFIED:20250903T205449Z
UID:10002917-1763643600-1763650800@www.cordovalibrary.com
SUMMARY:Home Extension
DESCRIPTION:Monthly meeting of the Home Extension group.
URL:https://www.cordovalibrary.com/event/home-extension/2025-11-20/
LOCATION:Cordova Library\, 402 Main Ave\, Cordova\, IL\, 61242\, United States
CATEGORIES:Adults
ORGANIZER;CN="Cordova Library":MAILTO:cfornero-green@cordovalibrary.com
END:VEVENT
BEGIN:VEVENT
DTSTART;TZID=America/Chicago:20251121T090000
DTEND;TZID=America/Chicago:20251121T093000
DTSTAMP:20260422T084104
CREATED:20240808T233504Z
LAST-MODIFIED:20251120T223457Z
UID:10000265-1763715600-1763717400@www.cordovalibrary.com
SUMMARY:Chair Exercise
DESCRIPTION:Join friends for chair exercise. Exercise is led by a DVD instructor.
URL:https://www.cordovalibrary.com/event/chair-exercise/2025-11-21/
LOCATION:Cordova Library\, 402 Main Ave\, Cordova\, IL\, 61242\, United States
CATEGORIES:Adults
ORGANIZER;CN="Cordova Library":MAILTO:cfornero-green@cordovalibrary.com
END:VEVENT
BEGIN:VEVENT
DTSTART;TZID=America/Chicago:20251121T100000
DTEND;TZID=America/Chicago:20251121T110000
DTSTAMP:20260422T084104
CREATED:20240809T002629Z
LAST-MODIFIED:20260102T160037Z
UID:10001172-1763719200-1763722800@www.cordovalibrary.com
SUMMARY:Story Time
DESCRIPTION:Books\, singing\, dancing and playing…at Story Time! All ages are welcome to attend our Story Time in the Library. On May 23rd…we will be having Story Time at the Civic Center Park. If there is bad weather\, we will be in the library.
URL:https://www.cordovalibrary.com/event/story-time-2/2025-11-21/
LOCATION:Cordova Library\, 402 Main Ave\, Cordova\, IL\, 61242\, United States
CATEGORIES:Children's
ATTACH;FMTTYPE=image/jpeg:https://www.cordovalibrary.com/wp-content/uploads/2024/07/IMG_5543.jpg
ORGANIZER;CN="Cordova Library":MAILTO:cfornero-green@cordovalibrary.com
END:VEVENT
BEGIN:VEVENT
DTSTART;TZID=America/Chicago:20251124T090000
DTEND;TZID=America/Chicago:20251124T093000
DTSTAMP:20260422T084104
CREATED:20240808T233504Z
LAST-MODIFIED:20251120T223457Z
UID:10000266-1763974800-1763976600@www.cordovalibrary.com
SUMMARY:Chair Exercise
DESCRIPTION:Join friends for chair exercise. Exercise is led by a DVD instructor.
URL:https://www.cordovalibrary.com/event/chair-exercise/2025-11-24/
LOCATION:Cordova Library\, 402 Main Ave\, Cordova\, IL\, 61242\, United States
CATEGORIES:Adults
ORGANIZER;CN="Cordova Library":MAILTO:cfornero-green@cordovalibrary.com
END:VEVENT
BEGIN:VEVENT
DTSTART;TZID=America/Chicago:20251124T163000
DTEND;TZID=America/Chicago:20251124T180000
DTSTAMP:20260422T084104
CREATED:20251029T173436Z
LAST-MODIFIED:20251029T173436Z
UID:10002998-1764001800-1764007200@www.cordovalibrary.com
SUMMARY:Films & Friends - The Wild Robot
DESCRIPTION:Join us to watch a selected film in our Meeting Room. We will provide drinks\, snacks\, and most importantly popcorn.
URL:https://www.cordovalibrary.com/event/films-friends-the-wild-robot/
LOCATION:Cordova Library\, 402 Main Ave\, Cordova\, IL\, 61242\, United States
CATEGORIES:Teens
ORGANIZER;CN="Cordova Library":MAILTO:cfornero-green@cordovalibrary.com
END:VEVENT
BEGIN:VEVENT
DTSTART;TZID=America/Chicago:20251125T160000
DTEND;TZID=America/Chicago:20251125T170000
DTSTAMP:20260422T084104
CREATED:20241104T192022Z
LAST-MODIFIED:20250903T203155Z
UID:10002580-1764086400-1764090000@www.cordovalibrary.com
SUMMARY:Crochet
DESCRIPTION:Meet friends to crochet or knit.
URL:https://www.cordovalibrary.com/event/crochet/2025-11-25/
LOCATION:Cordova Library\, 402 Main Ave\, Cordova\, IL\, 61242\, United States
CATEGORIES:Adults
ORGANIZER;CN="Cordova Library":MAILTO:cfornero-green@cordovalibrary.com
END:VEVENT
BEGIN:VEVENT
DTSTART;TZID=America/Chicago:20251126T090000
DTEND;TZID=America/Chicago:20251126T093000
DTSTAMP:20260422T084104
CREATED:20240808T233504Z
LAST-MODIFIED:20251120T223457Z
UID:10000267-1764147600-1764149400@www.cordovalibrary.com
SUMMARY:Chair Exercise
DESCRIPTION:Join friends for chair exercise. Exercise is led by a DVD instructor.
URL:https://www.cordovalibrary.com/event/chair-exercise/2025-11-26/
LOCATION:Cordova Library\, 402 Main Ave\, Cordova\, IL\, 61242\, United States
CATEGORIES:Adults
ORGANIZER;CN="Cordova Library":MAILTO:cfornero-green@cordovalibrary.com
END:VEVENT
BEGIN:VEVENT
DTSTART;TZID=America/Chicago:20251126T120000
DTEND;TZID=America/Chicago:20251126T140000
DTSTAMP:20260422T084104
CREATED:20251029T173622Z
LAST-MODIFIED:20251029T173622Z
UID:10002999-1764158400-1764165600@www.cordovalibrary.com
SUMMARY:Gnomes
DESCRIPTION:Make your own mason jar gnome\, or paint a ceramic gnome\, or you could do both!
URL:https://www.cordovalibrary.com/event/gnomes/
LOCATION:Cordova Library\, 402 Main Ave\, Cordova\, IL\, 61242\, United States
CATEGORIES:Teens
ORGANIZER;CN="Cordova Library":MAILTO:cfornero-green@cordovalibrary.com
END:VEVENT
END:VCALENDAR