BEGIN:VCALENDAR
VERSION:2.0
PRODID:-//Cordova District Library - ECPv6.15.20//NONSGML v1.0//EN
CALSCALE:GREGORIAN
METHOD:PUBLISH
X-WR-CALNAME:Cordova District Library
X-ORIGINAL-URL:https://www.cordovalibrary.com
X-WR-CALDESC:Events for Cordova District Library
REFRESH-INTERVAL;VALUE=DURATION:PT1H
X-Robots-Tag:noindex
X-PUBLISHED-TTL:PT1H
BEGIN:VTIMEZONE
TZID:America/Chicago
BEGIN:DAYLIGHT
TZOFFSETFROM:-0600
TZOFFSETTO:-0500
TZNAME:CDT
DTSTART:20240310T080000
END:DAYLIGHT
BEGIN:STANDARD
TZOFFSETFROM:-0500
TZOFFSETTO:-0600
TZNAME:CST
DTSTART:20241103T070000
END:STANDARD
BEGIN:DAYLIGHT
TZOFFSETFROM:-0600
TZOFFSETTO:-0500
TZNAME:CDT
DTSTART:20250309T080000
END:DAYLIGHT
BEGIN:STANDARD
TZOFFSETFROM:-0500
TZOFFSETTO:-0600
TZNAME:CST
DTSTART:20251102T070000
END:STANDARD
BEGIN:DAYLIGHT
TZOFFSETFROM:-0600
TZOFFSETTO:-0500
TZNAME:CDT
DTSTART:20260308T080000
END:DAYLIGHT
BEGIN:STANDARD
TZOFFSETFROM:-0500
TZOFFSETTO:-0600
TZNAME:CST
DTSTART:20261101T070000
END:STANDARD
END:VTIMEZONE
BEGIN:VEVENT
DTSTART;TZID=America/Chicago:20251001T090000
DTEND;TZID=America/Chicago:20251001T093000
DTSTAMP:20260422T070938
CREATED:20240808T233504Z
LAST-MODIFIED:20251120T223457Z
UID:10000243-1759309200-1759311000@www.cordovalibrary.com
SUMMARY:Chair Exercise
DESCRIPTION:Join friends for chair exercise. Exercise is led by a DVD instructor.
URL:https://www.cordovalibrary.com/event/chair-exercise/2025-10-01/
LOCATION:Cordova Library\, 402 Main Ave\, Cordova\, IL\, 61242\, United States
CATEGORIES:Adults
ORGANIZER;CN="Cordova Library":MAILTO:cfornero-green@cordovalibrary.com
END:VEVENT
BEGIN:VEVENT
DTSTART;TZID=America/Chicago:20251001T163000
DTEND;TZID=America/Chicago:20251001T173000
DTSTAMP:20260422T070938
CREATED:20250825T151833Z
LAST-MODIFIED:20251029T182729Z
UID:10003007-1759336200-1759339800@www.cordovalibrary.com
SUMMARY:Who's Got Game?
DESCRIPTION:Join us to play games on the switch/xbox one/laptops or board games\, card games\, and more in an open game room!
URL:https://www.cordovalibrary.com/event/whos-got-game-3/2025-10-01/
LOCATION:Cordova Library\, 402 Main Ave\, Cordova\, IL\, 61242\, United States
CATEGORIES:Teens
ORGANIZER;CN="Cordova Library":MAILTO:cfornero-green@cordovalibrary.com
END:VEVENT
BEGIN:VEVENT
DTSTART;TZID=America/Chicago:20251001T180000
DTEND;TZID=America/Chicago:20251001T190000
DTSTAMP:20260422T070938
CREATED:20250903T203659Z
LAST-MODIFIED:20250903T203659Z
UID:10002831-1759341600-1759345200@www.cordovalibrary.com
SUMMARY:Stories by Starlight
DESCRIPTION:Once a month story time at night for kids of all ages.
URL:https://www.cordovalibrary.com/event/stories-by-starlight/2025-10-01/
LOCATION:Cordova Library\, 402 Main Ave\, Cordova\, IL\, 61242\, United States
CATEGORIES:Children's
ATTACH;FMTTYPE=image/png:https://www.cordovalibrary.com/wp-content/uploads/2025/09/IMG_0151.png
ORGANIZER;CN="Cordova Library":MAILTO:cfornero-green@cordovalibrary.com
END:VEVENT
BEGIN:VEVENT
DTSTART;TZID=America/Chicago:20251002T120000
DTEND;TZID=America/Chicago:20251002T130000
DTSTAMP:20260422T070938
CREATED:20250903T210930Z
LAST-MODIFIED:20250903T210930Z
UID:10002983-1759406400-1759410000@www.cordovalibrary.com
SUMMARY:Mystery Lunch in the Library
DESCRIPTION:Solve a mystery while eating lunch in the library!
URL:https://www.cordovalibrary.com/event/mystery-lunch-in-the-library/
LOCATION:Cordova Library\, 402 Main Ave\, Cordova\, IL\, 61242\, United States
CATEGORIES:Adults
ORGANIZER;CN="Cordova Library":MAILTO:cfornero-green@cordovalibrary.com
END:VEVENT
BEGIN:VEVENT
DTSTART;TZID=America/Chicago:20251003T090000
DTEND;TZID=America/Chicago:20251003T093000
DTSTAMP:20260422T070938
CREATED:20240808T233504Z
LAST-MODIFIED:20251120T223457Z
UID:10000244-1759482000-1759483800@www.cordovalibrary.com
SUMMARY:Chair Exercise
DESCRIPTION:Join friends for chair exercise. Exercise is led by a DVD instructor.
URL:https://www.cordovalibrary.com/event/chair-exercise/2025-10-03/
LOCATION:Cordova Library\, 402 Main Ave\, Cordova\, IL\, 61242\, United States
CATEGORIES:Adults
ORGANIZER;CN="Cordova Library":MAILTO:cfornero-green@cordovalibrary.com
END:VEVENT
BEGIN:VEVENT
DTSTART;TZID=America/Chicago:20251003T100000
DTEND;TZID=America/Chicago:20251003T110000
DTSTAMP:20260422T070938
CREATED:20240809T002629Z
LAST-MODIFIED:20260102T160037Z
UID:10001165-1759485600-1759489200@www.cordovalibrary.com
SUMMARY:Story Time
DESCRIPTION:Books\, singing\, dancing and playing…at Story Time! All ages are welcome to attend our Story Time in the Library. On May 23rd…we will be having Story Time at the Civic Center Park. If there is bad weather\, we will be in the library.
URL:https://www.cordovalibrary.com/event/story-time-2/2025-10-03/
LOCATION:Cordova Library\, 402 Main Ave\, Cordova\, IL\, 61242\, United States
CATEGORIES:Children's
ATTACH;FMTTYPE=image/jpeg:https://www.cordovalibrary.com/wp-content/uploads/2024/07/IMG_5543.jpg
ORGANIZER;CN="Cordova Library":MAILTO:cfornero-green@cordovalibrary.com
END:VEVENT
BEGIN:VEVENT
DTSTART;TZID=America/Chicago:20251003T190000
DTEND;TZID=America/Chicago:20251003T220000
DTSTAMP:20260422T070938
CREATED:20250825T152256Z
LAST-MODIFIED:20250825T152256Z
UID:10002522-1759518000-1759528800@www.cordovalibrary.com
SUMMARY:Lock-In
DESCRIPTION:Stay in the library after closing hours! We will provide food\, drinks\, and activities.
URL:https://www.cordovalibrary.com/event/lock-in-2/
LOCATION:Cordova Library\, 402 Main Ave\, Cordova\, IL\, 61242\, United States
CATEGORIES:Teens
ORGANIZER;CN="Cordova Library":MAILTO:cfornero-green@cordovalibrary.com
END:VEVENT
BEGIN:VEVENT
DTSTART;TZID=America/Chicago:20251006T090000
DTEND;TZID=America/Chicago:20251006T093000
DTSTAMP:20260422T070938
CREATED:20240808T233504Z
LAST-MODIFIED:20251120T223457Z
UID:10000245-1759741200-1759743000@www.cordovalibrary.com
SUMMARY:Chair Exercise
DESCRIPTION:Join friends for chair exercise. Exercise is led by a DVD instructor.
URL:https://www.cordovalibrary.com/event/chair-exercise/2025-10-06/
LOCATION:Cordova Library\, 402 Main Ave\, Cordova\, IL\, 61242\, United States
CATEGORIES:Adults
ORGANIZER;CN="Cordova Library":MAILTO:cfornero-green@cordovalibrary.com
END:VEVENT
BEGIN:VEVENT
DTSTART;TZID=America/Chicago:20251007T100000
DTEND;TZID=America/Chicago:20251007T110000
DTSTAMP:20260422T070938
CREATED:20250903T210830Z
LAST-MODIFIED:20250903T210830Z
UID:10002923-1759831200-1759834800@www.cordovalibrary.com
SUMMARY:Book Club
DESCRIPTION:Morning book club where a variety of genres are discussed.
URL:https://www.cordovalibrary.com/event/book-club-2/2025-10-07/
LOCATION:Cordova Library\, 402 Main Ave\, Cordova\, IL\, 61242\, United States
CATEGORIES:Adults
ORGANIZER;CN="Cordova Library":MAILTO:cfornero-green@cordovalibrary.com
END:VEVENT
BEGIN:VEVENT
DTSTART;TZID=America/Chicago:20251007T160000
DTEND;TZID=America/Chicago:20251007T170000
DTSTAMP:20260422T070938
CREATED:20241104T192022Z
LAST-MODIFIED:20250903T203155Z
UID:10002573-1759852800-1759856400@www.cordovalibrary.com
SUMMARY:Crochet
DESCRIPTION:Meet friends to crochet or knit.
URL:https://www.cordovalibrary.com/event/crochet/2025-10-07/
LOCATION:Cordova Library\, 402 Main Ave\, Cordova\, IL\, 61242\, United States
CATEGORIES:Adults
ORGANIZER;CN="Cordova Library":MAILTO:cfornero-green@cordovalibrary.com
END:VEVENT
BEGIN:VEVENT
DTSTART;TZID=America/Chicago:20251008T090000
DTEND;TZID=America/Chicago:20251008T093000
DTSTAMP:20260422T070938
CREATED:20240808T233504Z
LAST-MODIFIED:20251120T223457Z
UID:10000246-1759914000-1759915800@www.cordovalibrary.com
SUMMARY:Chair Exercise
DESCRIPTION:Join friends for chair exercise. Exercise is led by a DVD instructor.
URL:https://www.cordovalibrary.com/event/chair-exercise/2025-10-08/
LOCATION:Cordova Library\, 402 Main Ave\, Cordova\, IL\, 61242\, United States
CATEGORIES:Adults
ORGANIZER;CN="Cordova Library":MAILTO:cfornero-green@cordovalibrary.com
END:VEVENT
BEGIN:VEVENT
DTSTART;TZID=America/Chicago:20251008T130000
DTEND;TZID=America/Chicago:20251008T140000
DTSTAMP:20260422T070938
CREATED:20250903T203920Z
LAST-MODIFIED:20250903T203920Z
UID:10002891-1759928400-1759932000@www.cordovalibrary.com
SUMMARY:Homeschool Art & Craft Day
DESCRIPTION:Homeschool kiddos join us for a monthly art & craft day. Each month\, there will be a different art project or craft project to complete.
URL:https://www.cordovalibrary.com/event/homeschool-art-craft-day-5/2025-10-08/
LOCATION:Cordova Library\, 402 Main Ave\, Cordova\, IL\, 61242\, United States
CATEGORIES:Children's
ORGANIZER;CN="Cordova Library":MAILTO:cfornero-green@cordovalibrary.com
END:VEVENT
BEGIN:VEVENT
DTSTART;TZID=America/Chicago:20251009T163000
DTEND;TZID=America/Chicago:20251009T183000
DTSTAMP:20260422T070938
CREATED:20250903T212300Z
LAST-MODIFIED:20250903T212300Z
UID:10002991-1760027400-1760034600@www.cordovalibrary.com
SUMMARY:Riverdale PTO Fall Fest
DESCRIPTION:Riverdale PTO’s annual Fall Fest. Trunk or treat in the parking lot of the High School.
URL:https://www.cordovalibrary.com/event/riverdale-pto-fall-fest/
LOCATION:Riverdale Schools\, 9622 256th St. N\, Port Byron\, IL\, 61278\, United States
CATEGORIES:Adults,Children's,Teens
END:VEVENT
BEGIN:VEVENT
DTSTART;TZID=America/Chicago:20251010T090000
DTEND;TZID=America/Chicago:20251010T093000
DTSTAMP:20260422T070938
CREATED:20240808T233504Z
LAST-MODIFIED:20251120T223457Z
UID:10000247-1760086800-1760088600@www.cordovalibrary.com
SUMMARY:Chair Exercise
DESCRIPTION:Join friends for chair exercise. Exercise is led by a DVD instructor.
URL:https://www.cordovalibrary.com/event/chair-exercise/2025-10-10/
LOCATION:Cordova Library\, 402 Main Ave\, Cordova\, IL\, 61242\, United States
CATEGORIES:Adults
ORGANIZER;CN="Cordova Library":MAILTO:cfornero-green@cordovalibrary.com
END:VEVENT
BEGIN:VEVENT
DTSTART;TZID=America/Chicago:20251010T100000
DTEND;TZID=America/Chicago:20251010T110000
DTSTAMP:20260422T070938
CREATED:20240809T002629Z
LAST-MODIFIED:20260102T160037Z
UID:10001166-1760090400-1760094000@www.cordovalibrary.com
SUMMARY:Story Time
DESCRIPTION:Books\, singing\, dancing and playing…at Story Time! All ages are welcome to attend our Story Time in the Library. On May 23rd…we will be having Story Time at the Civic Center Park. If there is bad weather\, we will be in the library.
URL:https://www.cordovalibrary.com/event/story-time-2/2025-10-10/
LOCATION:Cordova Library\, 402 Main Ave\, Cordova\, IL\, 61242\, United States
CATEGORIES:Children's
ATTACH;FMTTYPE=image/jpeg:https://www.cordovalibrary.com/wp-content/uploads/2024/07/IMG_5543.jpg
ORGANIZER;CN="Cordova Library":MAILTO:cfornero-green@cordovalibrary.com
END:VEVENT
BEGIN:VEVENT
DTSTART;TZID=America/Chicago:20251011T180000
DTEND;TZID=America/Chicago:20251011T200000
DTSTAMP:20260422T070938
CREATED:20250903T211957Z
LAST-MODIFIED:20250903T211957Z
UID:10002989-1760205600-1760212800@www.cordovalibrary.com
SUMMARY:Movie in the Park
DESCRIPTION:Join Cordova Park Department and Cordova Library for Lilo & Stitch in the Park! Drinks and popcorn will be provided.
URL:https://www.cordovalibrary.com/event/movie-in-the-park/
LOCATION:Cordova Civic Center Park\, 910 3rd Ave. S.\, Cordova\, IL\, 61242\, United States
CATEGORIES:Adults,Children's,Teens
ORGANIZER;CN="Cordova Library":MAILTO:cfornero-green@cordovalibrary.com
END:VEVENT
BEGIN:VEVENT
DTSTART;TZID=America/Chicago:20251012T070000
DTEND;TZID=America/Chicago:20251012T120000
DTSTAMP:20260422T070938
CREATED:20250903T212059Z
LAST-MODIFIED:20250903T212059Z
UID:10002990-1760252400-1760270400@www.cordovalibrary.com
SUMMARY:Cordova Firefighters' Pancake Breakfast
DESCRIPTION:Cordova Firefighters’ annual pancake breakfast.
URL:https://www.cordovalibrary.com/event/cordova-firefighters-pancake-breakfast/
LOCATION:Cordova Fire Deparment\, 906 Main Ave\, Cordova\, IL\, 61242\, United States
CATEGORIES:Adults
ORGANIZER;CN="Cordova Library":MAILTO:cfornero-green@cordovalibrary.com
END:VEVENT
BEGIN:VEVENT
DTSTART;TZID=America/Chicago:20251013T090000
DTEND;TZID=America/Chicago:20251013T093000
DTSTAMP:20260422T070938
CREATED:20240808T233504Z
LAST-MODIFIED:20251120T223457Z
UID:10000248-1760346000-1760347800@www.cordovalibrary.com
SUMMARY:Chair Exercise
DESCRIPTION:Join friends for chair exercise. Exercise is led by a DVD instructor.
URL:https://www.cordovalibrary.com/event/chair-exercise/2025-10-13/
LOCATION:Cordova Library\, 402 Main Ave\, Cordova\, IL\, 61242\, United States
CATEGORIES:Adults
ORGANIZER;CN="Cordova Library":MAILTO:cfornero-green@cordovalibrary.com
END:VEVENT
BEGIN:VEVENT
DTSTART;TZID=America/Chicago:20251013T090000
DTEND;TZID=America/Chicago:20251018T170000
DTSTAMP:20260422T070938
CREATED:20250903T211118Z
LAST-MODIFIED:20250903T211118Z
UID:10002984-1760346000-1760806800@www.cordovalibrary.com
SUMMARY:Book Sale
DESCRIPTION:Semi annual book sale. Books\, DVDs\, audio books will be available by donation.
URL:https://www.cordovalibrary.com/event/book-sale-2/
LOCATION:IL
CATEGORIES:Adults
END:VEVENT
BEGIN:VEVENT
DTSTART;TZID=America/Chicago:20251014T160000
DTEND;TZID=America/Chicago:20251014T170000
DTSTAMP:20260422T070938
CREATED:20241104T192022Z
LAST-MODIFIED:20250903T203155Z
UID:10002574-1760457600-1760461200@www.cordovalibrary.com
SUMMARY:Crochet
DESCRIPTION:Meet friends to crochet or knit.
URL:https://www.cordovalibrary.com/event/crochet/2025-10-14/
LOCATION:Cordova Library\, 402 Main Ave\, Cordova\, IL\, 61242\, United States
CATEGORIES:Adults
ORGANIZER;CN="Cordova Library":MAILTO:cfornero-green@cordovalibrary.com
END:VEVENT
BEGIN:VEVENT
DTSTART;TZID=America/Chicago:20251015T090000
DTEND;TZID=America/Chicago:20251015T093000
DTSTAMP:20260422T070938
CREATED:20240808T233504Z
LAST-MODIFIED:20251120T223457Z
UID:10000249-1760518800-1760520600@www.cordovalibrary.com
SUMMARY:Chair Exercise
DESCRIPTION:Join friends for chair exercise. Exercise is led by a DVD instructor.
URL:https://www.cordovalibrary.com/event/chair-exercise/2025-10-15/
LOCATION:Cordova Library\, 402 Main Ave\, Cordova\, IL\, 61242\, United States
CATEGORIES:Adults
ORGANIZER;CN="Cordova Library":MAILTO:cfornero-green@cordovalibrary.com
END:VEVENT
BEGIN:VEVENT
DTSTART;TZID=America/Chicago:20251015T150000
DTEND;TZID=America/Chicago:20251015T160000
DTSTAMP:20260422T070938
CREATED:20250825T152352Z
LAST-MODIFIED:20250825T152352Z
UID:10002523-1760540400-1760544000@www.cordovalibrary.com
SUMMARY:Custom Styrofoam Heads
DESCRIPTION:Decorate a styrofoam head any way you want! Make it look like yourself\, a friend\, a celebrity\, etc.
URL:https://www.cordovalibrary.com/event/custom-styrofoam-heads/
LOCATION:Cordova Library\, 402 Main Ave\, Cordova\, IL\, 61242\, United States
CATEGORIES:Teens
ORGANIZER;CN="Cordova Library":MAILTO:cfornero-green@cordovalibrary.com
END:VEVENT
BEGIN:VEVENT
DTSTART;TZID=America/Chicago:20251015T180000
DTEND;TZID=America/Chicago:20251015T190000
DTSTAMP:20260422T070938
CREATED:20240809T003445Z
LAST-MODIFIED:20240809T003556Z
UID:10001502-1760551200-1760554800@www.cordovalibrary.com
SUMMARY:American Legion Meeting
DESCRIPTION:Monthly meeting of the American Legion Post 1033.
URL:https://www.cordovalibrary.com/event/american-legion-meeting/2025-10-15/
LOCATION:Cordova Library\, 402 Main Ave\, Cordova\, IL\, 61242\, United States
CATEGORIES:Adults
ORGANIZER;CN="Cordova Library":MAILTO:cfornero-green@cordovalibrary.com
END:VEVENT
BEGIN:VEVENT
DTSTART;TZID=America/Chicago:20251016T090000
DTEND;TZID=America/Chicago:20251016T103000
DTSTAMP:20260422T070938
CREATED:20240919T145842Z
LAST-MODIFIED:20250903T204702Z
UID:10001575-1760605200-1760610600@www.cordovalibrary.com
SUMMARY:Library Board Meeting
DESCRIPTION:Monthly meeting of the Cordova Library Board.
URL:https://www.cordovalibrary.com/event/library-board-meeting-3/2025-10-16/
LOCATION:Cordova Library\, 402 Main Ave\, Cordova\, IL\, 61242\, United States
CATEGORIES:Board Meetings
ORGANIZER;CN="Cordova Library":MAILTO:cfornero-green@cordovalibrary.com
END:VEVENT
BEGIN:VEVENT
DTSTART;TZID=America/Chicago:20251016T130000
DTEND;TZID=America/Chicago:20251016T150000
DTSTAMP:20260422T070938
CREATED:20250903T205449Z
LAST-MODIFIED:20250903T205449Z
UID:10002916-1760619600-1760626800@www.cordovalibrary.com
SUMMARY:Home Extension
DESCRIPTION:Monthly meeting of the Home Extension group.
URL:https://www.cordovalibrary.com/event/home-extension/2025-10-16/
LOCATION:Cordova Library\, 402 Main Ave\, Cordova\, IL\, 61242\, United States
CATEGORIES:Adults
ORGANIZER;CN="Cordova Library":MAILTO:cfornero-green@cordovalibrary.com
END:VEVENT
BEGIN:VEVENT
DTSTART;TZID=America/Chicago:20251017T090000
DTEND;TZID=America/Chicago:20251017T093000
DTSTAMP:20260422T070938
CREATED:20240808T233504Z
LAST-MODIFIED:20251120T223457Z
UID:10000250-1760691600-1760693400@www.cordovalibrary.com
SUMMARY:Chair Exercise
DESCRIPTION:Join friends for chair exercise. Exercise is led by a DVD instructor.
URL:https://www.cordovalibrary.com/event/chair-exercise/2025-10-17/
LOCATION:Cordova Library\, 402 Main Ave\, Cordova\, IL\, 61242\, United States
CATEGORIES:Adults
ORGANIZER;CN="Cordova Library":MAILTO:cfornero-green@cordovalibrary.com
END:VEVENT
BEGIN:VEVENT
DTSTART;TZID=America/Chicago:20251017T100000
DTEND;TZID=America/Chicago:20251017T110000
DTSTAMP:20260422T070938
CREATED:20240809T002629Z
LAST-MODIFIED:20260102T160037Z
UID:10001167-1760695200-1760698800@www.cordovalibrary.com
SUMMARY:Story Time
DESCRIPTION:Books\, singing\, dancing and playing…at Story Time! All ages are welcome to attend our Story Time in the Library. On May 23rd…we will be having Story Time at the Civic Center Park. If there is bad weather\, we will be in the library.
URL:https://www.cordovalibrary.com/event/story-time-2/2025-10-17/
LOCATION:Cordova Library\, 402 Main Ave\, Cordova\, IL\, 61242\, United States
CATEGORIES:Children's
ATTACH;FMTTYPE=image/jpeg:https://www.cordovalibrary.com/wp-content/uploads/2024/07/IMG_5543.jpg
ORGANIZER;CN="Cordova Library":MAILTO:cfornero-green@cordovalibrary.com
END:VEVENT
BEGIN:VEVENT
DTSTART;TZID=America/Chicago:20251017T120000
DTEND;TZID=America/Chicago:20251017T130000
DTSTAMP:20260422T070938
CREATED:20250825T152445Z
LAST-MODIFIED:20250825T152452Z
UID:10002524-1760702400-1760706000@www.cordovalibrary.com
SUMMARY:Slime
DESCRIPTION:Our typical slime program.
URL:https://www.cordovalibrary.com/event/slime-2/
LOCATION:Cordova Library\, 402 Main Ave\, Cordova\, IL\, 61242\, United States
CATEGORIES:Teens
ORGANIZER;CN="Cordova Library":MAILTO:cfornero-green@cordovalibrary.com
END:VEVENT
BEGIN:VEVENT
DTSTART;TZID=America/Chicago:20251020T090000
DTEND;TZID=America/Chicago:20251020T093000
DTSTAMP:20260422T070938
CREATED:20240808T233504Z
LAST-MODIFIED:20251120T223457Z
UID:10000251-1760950800-1760952600@www.cordovalibrary.com
SUMMARY:Chair Exercise
DESCRIPTION:Join friends for chair exercise. Exercise is led by a DVD instructor.
URL:https://www.cordovalibrary.com/event/chair-exercise/2025-10-20/
LOCATION:Cordova Library\, 402 Main Ave\, Cordova\, IL\, 61242\, United States
CATEGORIES:Adults
ORGANIZER;CN="Cordova Library":MAILTO:cfornero-green@cordovalibrary.com
END:VEVENT
BEGIN:VEVENT
DTSTART;TZID=America/Chicago:20251020T120000
DTEND;TZID=America/Chicago:20251020T130000
DTSTAMP:20260422T070938
CREATED:20250825T152557Z
LAST-MODIFIED:20250825T152557Z
UID:10002525-1760961600-1760965200@www.cordovalibrary.com
SUMMARY:Franken-Stuffed Animals/Teen Advisory
DESCRIPTION:Tear apart stuffed animals\, then put them back together! Part of the time will be used as our monthly Teen Advisory.
URL:https://www.cordovalibrary.com/event/franken-stuffed-animals-teen-advisory/
LOCATION:Cordova Library\, 402 Main Ave\, Cordova\, IL\, 61242\, United States
CATEGORIES:Teens
ORGANIZER;CN="Cordova Library":MAILTO:cfornero-green@cordovalibrary.com
END:VEVENT
END:VCALENDAR