BEGIN:VCALENDAR
VERSION:2.0
PRODID:-//Cordova District Library - ECPv6.15.20//NONSGML v1.0//EN
CALSCALE:GREGORIAN
METHOD:PUBLISH
X-WR-CALNAME:Cordova District Library
X-ORIGINAL-URL:https://www.cordovalibrary.com
X-WR-CALDESC:Events for Cordova District Library
REFRESH-INTERVAL;VALUE=DURATION:PT1H
X-Robots-Tag:noindex
X-PUBLISHED-TTL:PT1H
BEGIN:VTIMEZONE
TZID:America/Chicago
BEGIN:DAYLIGHT
TZOFFSETFROM:-0600
TZOFFSETTO:-0500
TZNAME:CDT
DTSTART:20250309T080000
END:DAYLIGHT
BEGIN:STANDARD
TZOFFSETFROM:-0500
TZOFFSETTO:-0600
TZNAME:CST
DTSTART:20251102T070000
END:STANDARD
BEGIN:DAYLIGHT
TZOFFSETFROM:-0600
TZOFFSETTO:-0500
TZNAME:CDT
DTSTART:20260308T080000
END:DAYLIGHT
BEGIN:STANDARD
TZOFFSETFROM:-0500
TZOFFSETTO:-0600
TZNAME:CST
DTSTART:20261101T070000
END:STANDARD
BEGIN:DAYLIGHT
TZOFFSETFROM:-0600
TZOFFSETTO:-0500
TZNAME:CDT
DTSTART:20270314T080000
END:DAYLIGHT
BEGIN:STANDARD
TZOFFSETFROM:-0500
TZOFFSETTO:-0600
TZNAME:CST
DTSTART:20271107T070000
END:STANDARD
END:VTIMEZONE
BEGIN:VEVENT
DTSTART;TZID=America/Chicago:20260313T130000
DTEND;TZID=America/Chicago:20260313T140000
DTSTAMP:20260421T181334
CREATED:20260302T184707Z
LAST-MODIFIED:20260302T184707Z
UID:10003655-1773406800-1773410400@www.cordovalibrary.com
SUMMARY:Candle Making
DESCRIPTION:Make candles from scratch by picking your jars\, scents\, and colors!
URL:https://www.cordovalibrary.com/event/candle-making-2/
LOCATION:Cordova Library\, 402 Main Ave\, Cordova\, IL\, 61242\, United States
CATEGORIES:Teens
ORGANIZER;CN="Cordova Library":MAILTO:cfornero-green@cordovalibrary.com
END:VEVENT
BEGIN:VEVENT
DTSTART;TZID=America/Chicago:20260316T140000
DTEND;TZID=America/Chicago:20260316T160000
DTSTAMP:20260421T181334
CREATED:20260302T184747Z
LAST-MODIFIED:20260302T184747Z
UID:10003656-1773669600-1773676800@www.cordovalibrary.com
SUMMARY:International Snack Tasting
DESCRIPTION:Try snacks from all around the world that are hard to find here.
URL:https://www.cordovalibrary.com/event/international-snack-tasting-2/
LOCATION:Cordova Library\, 402 Main Ave\, Cordova\, IL\, 61242\, United States
CATEGORIES:Teens
ORGANIZER;CN="Cordova Library":MAILTO:cfornero-green@cordovalibrary.com
END:VEVENT
BEGIN:VEVENT
DTSTART;TZID=America/Chicago:20260318T150000
DTEND;TZID=America/Chicago:20260318T170000
DTSTAMP:20260421T181334
CREATED:20260302T184824Z
LAST-MODIFIED:20260302T184824Z
UID:10003657-1773846000-1773853200@www.cordovalibrary.com
SUMMARY:Beaded Wall Hangings
DESCRIPTION:Design a small beaded curtain to hang on your wall by stringing pony beads.
URL:https://www.cordovalibrary.com/event/beaded-wall-hangings/
LOCATION:Cordova Library\, 402 Main Ave\, Cordova\, IL\, 61242\, United States
CATEGORIES:Teens
ORGANIZER;CN="Cordova Library":MAILTO:cfornero-green@cordovalibrary.com
END:VEVENT
BEGIN:VEVENT
DTSTART;TZID=America/Chicago:20260320T190000
DTEND;TZID=America/Chicago:20260320T220000
DTSTAMP:20260421T181334
CREATED:20260302T184907Z
LAST-MODIFIED:20260302T184907Z
UID:10003658-1774033200-1774044000@www.cordovalibrary.com
SUMMARY:Lock-In
DESCRIPTION:Stay in the library after dark and play games\, eat dinner\, enjoy snacks\, watch movies and more!
URL:https://www.cordovalibrary.com/event/lock-in-3/
LOCATION:Cordova Library\, 402 Main Ave\, Cordova\, IL\, 61242\, United States
CATEGORIES:Teens
ORGANIZER;CN="Cordova Library":MAILTO:cfornero-green@cordovalibrary.com
END:VEVENT
BEGIN:VEVENT
DTSTART;TZID=America/Chicago:20260323T163000
DTEND;TZID=America/Chicago:20260323T173000
DTSTAMP:20260421T181334
CREATED:20260302T184955Z
LAST-MODIFIED:20260302T184955Z
UID:10003659-1774283400-1774287000@www.cordovalibrary.com
SUMMARY:Slime/Teen Advisory
DESCRIPTION:Create custom slime. Part of the time will be used for our monthly Teen Advisory.
URL:https://www.cordovalibrary.com/event/slime-teen-advisory-6/
LOCATION:Cordova Library\, 402 Main Ave\, Cordova\, IL\, 61242\, United States
CATEGORIES:Teens
ORGANIZER;CN="Cordova Library":MAILTO:cfornero-green@cordovalibrary.com
END:VEVENT
END:VCALENDAR