BEGIN:VCALENDAR
VERSION:2.0
PRODID:-//Cordova District Library - ECPv6.15.20//NONSGML v1.0//EN
CALSCALE:GREGORIAN
METHOD:PUBLISH
X-ORIGINAL-URL:https://www.cordovalibrary.com
X-WR-CALDESC:Events for Cordova District Library
REFRESH-INTERVAL;VALUE=DURATION:PT1H
X-Robots-Tag:noindex
X-PUBLISHED-TTL:PT1H
BEGIN:VTIMEZONE
TZID:America/Chicago
BEGIN:DAYLIGHT
TZOFFSETFROM:-0600
TZOFFSETTO:-0500
TZNAME:CDT
DTSTART:20240310T080000
END:DAYLIGHT
BEGIN:STANDARD
TZOFFSETFROM:-0500
TZOFFSETTO:-0600
TZNAME:CST
DTSTART:20241103T070000
END:STANDARD
BEGIN:DAYLIGHT
TZOFFSETFROM:-0600
TZOFFSETTO:-0500
TZNAME:CDT
DTSTART:20250309T080000
END:DAYLIGHT
BEGIN:STANDARD
TZOFFSETFROM:-0500
TZOFFSETTO:-0600
TZNAME:CST
DTSTART:20251102T070000
END:STANDARD
BEGIN:DAYLIGHT
TZOFFSETFROM:-0600
TZOFFSETTO:-0500
TZNAME:CDT
DTSTART:20260308T080000
END:DAYLIGHT
BEGIN:STANDARD
TZOFFSETFROM:-0500
TZOFFSETTO:-0600
TZNAME:CST
DTSTART:20261101T070000
END:STANDARD
END:VTIMEZONE
BEGIN:VEVENT
DTSTART;TZID=America/Chicago:20251001T163000
DTEND;TZID=America/Chicago:20251001T173000
DTSTAMP:20260422T022021
CREATED:20250825T151833Z
LAST-MODIFIED:20251029T182729Z
UID:10003007-1759336200-1759339800@www.cordovalibrary.com
SUMMARY:Who's Got Game?
DESCRIPTION:Join us to play games on the switch/xbox one/laptops or board games\, card games\, and more in an open game room!
URL:https://www.cordovalibrary.com/event/whos-got-game-3/2025-10-01/
LOCATION:Cordova Library\, 402 Main Ave\, Cordova\, IL\, 61242\, United States
CATEGORIES:Teens
ORGANIZER;CN="Cordova Library":MAILTO:cfornero-green@cordovalibrary.com
END:VEVENT
BEGIN:VEVENT
DTSTART;TZID=America/Chicago:20251003T190000
DTEND;TZID=America/Chicago:20251003T220000
DTSTAMP:20260422T022021
CREATED:20250825T152256Z
LAST-MODIFIED:20250825T152256Z
UID:10002522-1759518000-1759528800@www.cordovalibrary.com
SUMMARY:Lock-In
DESCRIPTION:Stay in the library after closing hours! We will provide food\, drinks\, and activities.
URL:https://www.cordovalibrary.com/event/lock-in-2/
LOCATION:Cordova Library\, 402 Main Ave\, Cordova\, IL\, 61242\, United States
CATEGORIES:Teens
ORGANIZER;CN="Cordova Library":MAILTO:cfornero-green@cordovalibrary.com
END:VEVENT
BEGIN:VEVENT
DTSTART;TZID=America/Chicago:20251009T163000
DTEND;TZID=America/Chicago:20251009T183000
DTSTAMP:20260422T022021
CREATED:20250903T212300Z
LAST-MODIFIED:20250903T212300Z
UID:10002991-1760027400-1760034600@www.cordovalibrary.com
SUMMARY:Riverdale PTO Fall Fest
DESCRIPTION:Riverdale PTO’s annual Fall Fest. Trunk or treat in the parking lot of the High School.
URL:https://www.cordovalibrary.com/event/riverdale-pto-fall-fest/
LOCATION:Riverdale Schools\, 9622 256th St. N\, Port Byron\, IL\, 61278\, United States
CATEGORIES:Adults,Children's,Teens
END:VEVENT
BEGIN:VEVENT
DTSTART;TZID=America/Chicago:20251011T180000
DTEND;TZID=America/Chicago:20251011T200000
DTSTAMP:20260422T022021
CREATED:20250903T211957Z
LAST-MODIFIED:20250903T211957Z
UID:10002989-1760205600-1760212800@www.cordovalibrary.com
SUMMARY:Movie in the Park
DESCRIPTION:Join Cordova Park Department and Cordova Library for Lilo & Stitch in the Park! Drinks and popcorn will be provided.
URL:https://www.cordovalibrary.com/event/movie-in-the-park/
LOCATION:Cordova Civic Center Park\, 910 3rd Ave. S.\, Cordova\, IL\, 61242\, United States
CATEGORIES:Adults,Children's,Teens
ORGANIZER;CN="Cordova Library":MAILTO:cfornero-green@cordovalibrary.com
END:VEVENT
BEGIN:VEVENT
DTSTART;TZID=America/Chicago:20251015T150000
DTEND;TZID=America/Chicago:20251015T160000
DTSTAMP:20260422T022021
CREATED:20250825T152352Z
LAST-MODIFIED:20250825T152352Z
UID:10002523-1760540400-1760544000@www.cordovalibrary.com
SUMMARY:Custom Styrofoam Heads
DESCRIPTION:Decorate a styrofoam head any way you want! Make it look like yourself\, a friend\, a celebrity\, etc.
URL:https://www.cordovalibrary.com/event/custom-styrofoam-heads/
LOCATION:Cordova Library\, 402 Main Ave\, Cordova\, IL\, 61242\, United States
CATEGORIES:Teens
ORGANIZER;CN="Cordova Library":MAILTO:cfornero-green@cordovalibrary.com
END:VEVENT
BEGIN:VEVENT
DTSTART;TZID=America/Chicago:20251017T120000
DTEND;TZID=America/Chicago:20251017T130000
DTSTAMP:20260422T022021
CREATED:20250825T152445Z
LAST-MODIFIED:20250825T152452Z
UID:10002524-1760702400-1760706000@www.cordovalibrary.com
SUMMARY:Slime
DESCRIPTION:Our typical slime program.
URL:https://www.cordovalibrary.com/event/slime-2/
LOCATION:Cordova Library\, 402 Main Ave\, Cordova\, IL\, 61242\, United States
CATEGORIES:Teens
ORGANIZER;CN="Cordova Library":MAILTO:cfornero-green@cordovalibrary.com
END:VEVENT
BEGIN:VEVENT
DTSTART;TZID=America/Chicago:20251020T120000
DTEND;TZID=America/Chicago:20251020T130000
DTSTAMP:20260422T022021
CREATED:20250825T152557Z
LAST-MODIFIED:20250825T152557Z
UID:10002525-1760961600-1760965200@www.cordovalibrary.com
SUMMARY:Franken-Stuffed Animals/Teen Advisory
DESCRIPTION:Tear apart stuffed animals\, then put them back together! Part of the time will be used as our monthly Teen Advisory.
URL:https://www.cordovalibrary.com/event/franken-stuffed-animals-teen-advisory/
LOCATION:Cordova Library\, 402 Main Ave\, Cordova\, IL\, 61242\, United States
CATEGORIES:Teens
ORGANIZER;CN="Cordova Library":MAILTO:cfornero-green@cordovalibrary.com
END:VEVENT
BEGIN:VEVENT
DTSTART;TZID=America/Chicago:20251027T160000
DTEND;TZID=America/Chicago:20251027T180000
DTSTAMP:20260422T022021
CREATED:20250825T152644Z
LAST-MODIFIED:20250825T152647Z
UID:10002526-1761580800-1761588000@www.cordovalibrary.com
SUMMARY:Films & Friends - M3GAN
DESCRIPTION:Join us to watch a selected film in our Meeting Room. We will provide drinks\, snacks\, and most importantly popcorn. Movie is PG-13.
URL:https://www.cordovalibrary.com/event/films-friends-m3gan/
LOCATION:Cordova Library\, 402 Main Ave\, Cordova\, IL\, 61242\, United States
CATEGORIES:Teens
ORGANIZER;CN="Cordova Library":MAILTO:cfornero-green@cordovalibrary.com
END:VEVENT
BEGIN:VEVENT
DTSTART;TZID=America/Chicago:20251031T173000
DTEND;TZID=America/Chicago:20251031T193000
DTSTAMP:20260422T022021
CREATED:20250903T212630Z
LAST-MODIFIED:20250903T212630Z
UID:10002994-1761931800-1761939000@www.cordovalibrary.com
SUMMARY:Trick or Treat in the Library
DESCRIPTION:Want to pass out candy to kiddos in Cordova? Join us inside the library to see all the fun costumes.
URL:https://www.cordovalibrary.com/event/trick-or-treat-in-the-library/
LOCATION:Cordova Library\, 402 Main Ave\, Cordova\, IL\, 61242\, United States
CATEGORIES:Adults,Children's,Teens
ORGANIZER;CN="Cordova Library":MAILTO:cfornero-green@cordovalibrary.com
END:VEVENT
END:VCALENDAR