BEGIN:VCALENDAR
VERSION:2.0
PRODID:-//Cordova District Library - ECPv6.15.20//NONSGML v1.0//EN
CALSCALE:GREGORIAN
METHOD:PUBLISH
X-ORIGINAL-URL:https://www.cordovalibrary.com
X-WR-CALDESC:Events for Cordova District Library
REFRESH-INTERVAL;VALUE=DURATION:PT1H
X-Robots-Tag:noindex
X-PUBLISHED-TTL:PT1H
BEGIN:VTIMEZONE
TZID:America/Chicago
BEGIN:DAYLIGHT
TZOFFSETFROM:-0600
TZOFFSETTO:-0500
TZNAME:CDT
DTSTART:20240310T080000
END:DAYLIGHT
BEGIN:STANDARD
TZOFFSETFROM:-0500
TZOFFSETTO:-0600
TZNAME:CST
DTSTART:20241103T070000
END:STANDARD
BEGIN:DAYLIGHT
TZOFFSETFROM:-0600
TZOFFSETTO:-0500
TZNAME:CDT
DTSTART:20250309T080000
END:DAYLIGHT
BEGIN:STANDARD
TZOFFSETFROM:-0500
TZOFFSETTO:-0600
TZNAME:CST
DTSTART:20251102T070000
END:STANDARD
BEGIN:DAYLIGHT
TZOFFSETFROM:-0600
TZOFFSETTO:-0500
TZNAME:CDT
DTSTART:20260308T080000
END:DAYLIGHT
BEGIN:STANDARD
TZOFFSETFROM:-0500
TZOFFSETTO:-0600
TZNAME:CST
DTSTART:20261101T070000
END:STANDARD
END:VTIMEZONE
BEGIN:VEVENT
DTSTART;TZID=America/Chicago:20250702T133000
DTEND;TZID=America/Chicago:20250702T153000
DTSTAMP:20260422T071042
CREATED:20250430T202931Z
LAST-MODIFIED:20250430T202931Z
UID:10002005-1751463000-1751470200@www.cordovalibrary.com
SUMMARY:Science Camp-ish #2: Egg Drop
DESCRIPTION:*Sign-up open for Cordova Residents May 8th\, Non-Residents\, May 15th* \nGrades 4th and up. \nOnce again\, for Science Camp-ish #2 we are doing an egg drop. Participants will try to build a contraption that will protect an egg from cracking after being dropped off a ladder. Whether we do in inside or outside will depend on the weather.
URL:https://www.cordovalibrary.com/event/science-camp-ish-2-egg-drop/
LOCATION:Cordova Library\, 402 Main Ave\, Cordova\, IL\, 61242\, United States
CATEGORIES:Children's,Teens
ORGANIZER;CN="Cordova Library":MAILTO:cfornero-green@cordovalibrary.com
END:VEVENT
BEGIN:VEVENT
DTSTART;VALUE=DATE:20250704
DTEND;VALUE=DATE:20250705
DTSTAMP:20260422T071042
CREATED:20250610T144148Z
LAST-MODIFIED:20250610T144325Z
UID:10002488-1751587200-1751673599@www.cordovalibrary.com
SUMMARY:Library Closed
DESCRIPTION:Library is closed for July 4th.
URL:https://www.cordovalibrary.com/event/library-closed-8/
LOCATION:Cordova Library\, 402 Main Ave\, Cordova\, IL\, 61242\, United States
CATEGORIES:Adults,Children's,Teens
ORGANIZER;CN="Cordova Library":MAILTO:cfornero-green@cordovalibrary.com
END:VEVENT
BEGIN:VEVENT
DTSTART;TZID=America/Chicago:20250714T160000
DTEND;TZID=America/Chicago:20250714T170000
DTSTAMP:20260422T071042
CREATED:20250714T161518Z
LAST-MODIFIED:20250714T161518Z
UID:10002492-1752508800-1752512400@www.cordovalibrary.com
SUMMARY:Sip & Read
DESCRIPTION:Make a custom drink to sip on while we read to earn points for our Summer Learning Challenge. Reading here will earn you double points. Participating in this program will earn you an additional 50 points.
URL:https://www.cordovalibrary.com/event/sip-read-2/
LOCATION:Cordova Library\, 402 Main Ave\, Cordova\, IL\, 61242\, United States
CATEGORIES:Teens
ORGANIZER;CN="Cordova Library":MAILTO:cfornero-green@cordovalibrary.com
END:VEVENT
BEGIN:VEVENT
DTSTART;TZID=America/Chicago:20250716T140000
DTEND;TZID=America/Chicago:20250716T150000
DTSTAMP:20260422T071042
CREATED:20250714T161614Z
LAST-MODIFIED:20250714T161933Z
UID:10002493-1752674400-1752678000@www.cordovalibrary.com
SUMMARY:Cardboard & Paper Mache Animal Decor
DESCRIPTION:Make your own animal decor using cardboard and paper mache! Once the paper mache dries\, you’ll be able to decorate your animal however you want!
URL:https://www.cordovalibrary.com/event/cardboard-paper-mache-animal-decor/
LOCATION:Cordova Library\, 402 Main Ave\, Cordova\, IL\, 61242\, United States
CATEGORIES:Teens
ORGANIZER;CN="Cordova Library":MAILTO:cfornero-green@cordovalibrary.com
END:VEVENT
BEGIN:VEVENT
DTSTART;TZID=America/Chicago:20250718T170000
DTEND;TZID=America/Chicago:20250718T190000
DTSTAMP:20260422T071042
CREATED:20250610T144057Z
LAST-MODIFIED:20250610T144057Z
UID:10002485-1752858000-1752865200@www.cordovalibrary.com
SUMMARY:Bingo
DESCRIPTION:Bingo for all ages! Join us for bingo games and prizes. Bring your own snacks and drinks to this fun night.
URL:https://www.cordovalibrary.com/event/bingo/2025-07-18/
LOCATION:Cordova Library\, 402 Main Ave\, Cordova\, IL\, 61242\, United States
CATEGORIES:Adults,Children's,Teens
ORGANIZER;CN="Cordova Library":MAILTO:cfornero-green@cordovalibrary.com
END:VEVENT
BEGIN:VEVENT
DTSTART;TZID=America/Chicago:20250728T140000
DTEND;TZID=America/Chicago:20250728T150000
DTSTAMP:20260422T071042
CREATED:20250714T161717Z
LAST-MODIFIED:20250714T161717Z
UID:10002494-1753711200-1753714800@www.cordovalibrary.com
SUMMARY:Slime/Teen Advisory
DESCRIPTION:Our monthly slime program. Part of the time will be used as our monthly Teen Advisory.
URL:https://www.cordovalibrary.com/event/slime-teen-advisory-4/
LOCATION:Cordova Library\, 402 Main Ave\, Cordova\, IL\, 61242\, United States
CATEGORIES:Teens
ORGANIZER;CN="Cordova Library":MAILTO:cfornero-green@cordovalibrary.com
END:VEVENT
BEGIN:VEVENT
DTSTART;TZID=America/Chicago:20250728T160000
DTEND;TZID=America/Chicago:20250728T180000
DTSTAMP:20260422T071042
CREATED:20250714T162146Z
LAST-MODIFIED:20250714T162537Z
UID:10002495-1753718400-1753725600@www.cordovalibrary.com
SUMMARY:Films & Friends
DESCRIPTION:Join us to watch the Minecraft Movie in our Meeting Room. We will provide drinks\, snacks\, and most importantly popcorn!
URL:https://www.cordovalibrary.com/event/films-friends-2/
LOCATION:Cordova Library\, 402 Main Ave\, Cordova\, IL\, 61242\, United States
CATEGORIES:Teens
ORGANIZER;CN="Cordova Library":MAILTO:cfornero-green@cordovalibrary.com
END:VEVENT
BEGIN:VEVENT
DTSTART;TZID=America/Chicago:20250730T173000
DTEND;TZID=America/Chicago:20250730T183000
DTSTAMP:20260422T071042
CREATED:20250430T195426Z
LAST-MODIFIED:20250430T195426Z
UID:10001992-1753896600-1753900200@www.cordovalibrary.com
SUMMARY:Summer Gala
DESCRIPTION:Showcase of all the work from all of our Summer Camps. There will be snacks and refreshments. Open to all.
URL:https://www.cordovalibrary.com/event/summer-gala-2/
LOCATION:Cordova Library\, 402 Main Ave\, Cordova\, IL\, 61242\, United States
CATEGORIES:Adults,Children's,Teens
ORGANIZER;CN="Cordova Library":MAILTO:cfornero-green@cordovalibrary.com
END:VEVENT
END:VCALENDAR