BEGIN:VCALENDAR
VERSION:2.0
PRODID:-//Cordova District Library - ECPv6.15.20//NONSGML v1.0//EN
CALSCALE:GREGORIAN
METHOD:PUBLISH
X-ORIGINAL-URL:https://www.cordovalibrary.com
X-WR-CALDESC:Events for Cordova District Library
REFRESH-INTERVAL;VALUE=DURATION:PT1H
X-Robots-Tag:noindex
X-PUBLISHED-TTL:PT1H
BEGIN:VTIMEZONE
TZID:America/Chicago
BEGIN:DAYLIGHT
TZOFFSETFROM:-0600
TZOFFSETTO:-0500
TZNAME:CDT
DTSTART:20240310T080000
END:DAYLIGHT
BEGIN:STANDARD
TZOFFSETFROM:-0500
TZOFFSETTO:-0600
TZNAME:CST
DTSTART:20241103T070000
END:STANDARD
BEGIN:DAYLIGHT
TZOFFSETFROM:-0600
TZOFFSETTO:-0500
TZNAME:CDT
DTSTART:20250309T080000
END:DAYLIGHT
BEGIN:STANDARD
TZOFFSETFROM:-0500
TZOFFSETTO:-0600
TZNAME:CST
DTSTART:20251102T070000
END:STANDARD
BEGIN:DAYLIGHT
TZOFFSETFROM:-0600
TZOFFSETTO:-0500
TZNAME:CDT
DTSTART:20260308T080000
END:DAYLIGHT
BEGIN:STANDARD
TZOFFSETFROM:-0500
TZOFFSETTO:-0600
TZNAME:CST
DTSTART:20261101T070000
END:STANDARD
END:VTIMEZONE
BEGIN:VEVENT
DTSTART;TZID=America/Chicago:20250409T130000
DTEND;TZID=America/Chicago:20250409T140000
DTSTAMP:20260422T121556
CREATED:20250303T215204Z
LAST-MODIFIED:20250303T215204Z
UID:10001984-1744203600-1744207200@www.cordovalibrary.com
SUMMARY:Painting Planters
DESCRIPTION:Paint ceramic pots with us! We’ll have different types of planters so you can choose one just for you.
URL:https://www.cordovalibrary.com/event/painting-planters/
LOCATION:Cordova Library\, 402 Main Ave\, Cordova\, IL\, 61242\, United States
CATEGORIES:Teens
ORGANIZER;CN="Cordova Library":MAILTO:cfornero-green@cordovalibrary.com
END:VEVENT
BEGIN:VEVENT
DTSTART;TZID=America/Chicago:20250421T130000
DTEND;TZID=America/Chicago:20250421T140000
DTSTAMP:20260422T121556
CREATED:20250303T215410Z
LAST-MODIFIED:20250303T215410Z
UID:10001986-1745240400-1745244000@www.cordovalibrary.com
SUMMARY:Slime/Teen Advisory
DESCRIPTION:Our typical slime program! \nPart of the time will be used for our Teen Advisory.
URL:https://www.cordovalibrary.com/event/slime-teen-advisory/
LOCATION:Cordova Library\, 402 Main Ave\, Cordova\, IL\, 61242\, United States
CATEGORIES:Teens
ORGANIZER;CN="Cordova Library":MAILTO:cfornero-green@cordovalibrary.com
END:VEVENT
BEGIN:VEVENT
DTSTART;TZID=America/Chicago:20250430T140000
DTEND;TZID=America/Chicago:20250430T150000
DTSTAMP:20260422T121556
CREATED:20250430T200024Z
LAST-MODIFIED:20250430T200024Z
UID:10001996-1746021600-1746025200@www.cordovalibrary.com
SUMMARY:Candle Making
DESCRIPTION:Make your own custom candles from scratch! You can choose the color/scent/shape/container to put it in!
URL:https://www.cordovalibrary.com/event/candle-making/
LOCATION:Cordova Library\, 402 Main Ave\, Cordova\, IL\, 61242\, United States
CATEGORIES:Teens
ORGANIZER;CN="Cordova Library":MAILTO:cfornero-green@cordovalibrary.com
END:VEVENT
BEGIN:VEVENT
DTSTART;TZID=America/Chicago:20250430T190000
DTEND;TZID=America/Chicago:20250430T220000
DTSTAMP:20260422T121556
CREATED:20250430T200108Z
LAST-MODIFIED:20250430T200108Z
UID:10001997-1746039600-1746050400@www.cordovalibrary.com
SUMMARY:Lock-In
DESCRIPTION:Stay in the library after closing hours! We will provide snacks\, drinks\, and activities!
URL:https://www.cordovalibrary.com/event/lock-in/
LOCATION:Cordova Library\, 402 Main Ave\, Cordova\, IL\, 61242\, United States
CATEGORIES:Teens
ORGANIZER;CN="Cordova Library":MAILTO:cfornero-green@cordovalibrary.com
END:VEVENT
END:VCALENDAR