BEGIN:VCALENDAR
VERSION:2.0
PRODID:-//Cordova District Library - ECPv6.15.20//NONSGML v1.0//EN
CALSCALE:GREGORIAN
METHOD:PUBLISH
X-ORIGINAL-URL:https://www.cordovalibrary.com
X-WR-CALDESC:Events for Cordova District Library
REFRESH-INTERVAL;VALUE=DURATION:PT1H
X-Robots-Tag:noindex
X-PUBLISHED-TTL:PT1H
BEGIN:VTIMEZONE
TZID:America/Chicago
BEGIN:DAYLIGHT
TZOFFSETFROM:-0600
TZOFFSETTO:-0500
TZNAME:CDT
DTSTART:20240310T080000
END:DAYLIGHT
BEGIN:STANDARD
TZOFFSETFROM:-0500
TZOFFSETTO:-0600
TZNAME:CST
DTSTART:20241103T070000
END:STANDARD
BEGIN:DAYLIGHT
TZOFFSETFROM:-0600
TZOFFSETTO:-0500
TZNAME:CDT
DTSTART:20250309T080000
END:DAYLIGHT
BEGIN:STANDARD
TZOFFSETFROM:-0500
TZOFFSETTO:-0600
TZNAME:CST
DTSTART:20251102T070000
END:STANDARD
BEGIN:DAYLIGHT
TZOFFSETFROM:-0600
TZOFFSETTO:-0500
TZNAME:CDT
DTSTART:20260308T080000
END:DAYLIGHT
BEGIN:STANDARD
TZOFFSETFROM:-0500
TZOFFSETTO:-0600
TZNAME:CST
DTSTART:20261101T070000
END:STANDARD
END:VTIMEZONE
BEGIN:VEVENT
DTSTART;TZID=America/Chicago:20250303T120000
DTEND;TZID=America/Chicago:20250303T130000
DTSTAMP:20260422T134830
CREATED:20250303T215310Z
LAST-MODIFIED:20250303T215310Z
UID:10001985-1741003200-1741006800@www.cordovalibrary.com
SUMMARY:Making Sub Sandwiches
DESCRIPTION:Make your own Sub Sandwiches! Customize the bread\, cheese\, meat\, toppings\, and sauce.
URL:https://www.cordovalibrary.com/event/making-sub-sandwiches/
LOCATION:Cordova Library\, 402 Main Ave\, Cordova\, IL\, 61242\, United States
CATEGORIES:Teens
ORGANIZER;CN="Cordova Library":MAILTO:cfornero-green@cordovalibrary.com
END:VEVENT
BEGIN:VEVENT
DTSTART;TZID=America/Chicago:20250312T163000
DTEND;TZID=America/Chicago:20250312T173000
DTSTAMP:20260422T134830
CREATED:20250303T214725Z
LAST-MODIFIED:20250303T215038Z
UID:10001981-1741797000-1741800600@www.cordovalibrary.com
SUMMARY:Keychains
DESCRIPTION:Many many types of keychains! Beaded\, clay\, shrinky-dink and more!
URL:https://www.cordovalibrary.com/event/teen-scene-keychains/
LOCATION:Cordova Library\, 402 Main Ave\, Cordova\, IL\, 61242\, United States
CATEGORIES:Teens
ORGANIZER;CN="Cordova Library":MAILTO:cfornero-green@cordovalibrary.com
END:VEVENT
BEGIN:VEVENT
DTSTART;TZID=America/Chicago:20250317T120000
DTEND;TZID=America/Chicago:20250317T150000
DTSTAMP:20260422T134830
CREATED:20250303T214903Z
LAST-MODIFIED:20250303T215032Z
UID:10001982-1742212800-1742223600@www.cordovalibrary.com
SUMMARY:Wreath Making/ Teen Advisory (Rescheduled Date)
DESCRIPTION:Sign up Closed \nOur rescheduled Wreath Making! \nPart of the time will be for our Teen Advisory.
URL:https://www.cordovalibrary.com/event/teen-scene-wreath-making-teen-advisory-rescheduled-date/
LOCATION:Cordova Library\, 402 Main Ave\, Cordova\, IL\, 61242\, United States
CATEGORIES:Teens
ORGANIZER;CN="Cordova Library":MAILTO:cfornero-green@cordovalibrary.com
END:VEVENT
BEGIN:VEVENT
DTSTART;TZID=America/Chicago:20250319T150000
DTEND;TZID=America/Chicago:20250319T170000
DTSTAMP:20260422T134830
CREATED:20250303T215013Z
LAST-MODIFIED:20250303T215013Z
UID:10001983-1742396400-1742403600@www.cordovalibrary.com
SUMMARY:International Snack Tasting
DESCRIPTION:Back again: International Snack Tasting! We’ll have many different types of snacks from many different countries!
URL:https://www.cordovalibrary.com/event/international-snack-tasting/
LOCATION:Cordova Library\, 402 Main Ave\, Cordova\, IL\, 61242\, United States
CATEGORIES:Teens
ORGANIZER;CN="Cordova Library":MAILTO:cfornero-green@cordovalibrary.com
END:VEVENT
BEGIN:VEVENT
DTSTART;TZID=America/Chicago:20250321T170000
DTEND;TZID=America/Chicago:20250321T190000
DTSTAMP:20260422T134830
CREATED:20250225T164420Z
LAST-MODIFIED:20250225T164420Z
UID:10001977-1742576400-1742583600@www.cordovalibrary.com
SUMMARY:Family Bingo
DESCRIPTION:Family Bingo is back! Bring your own snacks and beverages.
URL:https://www.cordovalibrary.com/event/family-bingo-6/
LOCATION:Cordova Library\, 402 Main Ave\, Cordova\, IL\, 61242\, United States
CATEGORIES:Adults,Children's,Teens
ORGANIZER;CN="Cordova Library":MAILTO:cfornero-green@cordovalibrary.com
END:VEVENT
BEGIN:VEVENT
DTSTART;TZID=America/Chicago:20250327T130000
DTEND;TZID=America/Chicago:20250327T170000
DTSTAMP:20260422T134830
CREATED:20250225T164331Z
LAST-MODIFIED:20250225T164331Z
UID:10001976-1743080400-1743094800@www.cordovalibrary.com
SUMMARY:Open House
DESCRIPTION:Live music with Chris Vallillo starts at 1pm. Enjoy music and a fun gift.
URL:https://www.cordovalibrary.com/event/open-house/
LOCATION:Cordova Library\, 402 Main Ave\, Cordova\, IL\, 61242\, United States
CATEGORIES:Adults,Children's,Teens
ORGANIZER;CN="Cordova Library":MAILTO:cfornero-green@cordovalibrary.com
END:VEVENT
END:VCALENDAR