BEGIN:VCALENDAR
VERSION:2.0
PRODID:-//Cordova District Library - ECPv6.15.20//NONSGML v1.0//EN
CALSCALE:GREGORIAN
METHOD:PUBLISH
X-WR-CALNAME:Cordova District Library
X-ORIGINAL-URL:https://www.cordovalibrary.com
X-WR-CALDESC:Events for Cordova District Library
REFRESH-INTERVAL;VALUE=DURATION:PT1H
X-Robots-Tag:noindex
X-PUBLISHED-TTL:PT1H
BEGIN:VTIMEZONE
TZID:America/Chicago
BEGIN:DAYLIGHT
TZOFFSETFROM:-0600
TZOFFSETTO:-0500
TZNAME:CDT
DTSTART:20240310T080000
END:DAYLIGHT
BEGIN:STANDARD
TZOFFSETFROM:-0500
TZOFFSETTO:-0600
TZNAME:CST
DTSTART:20241103T070000
END:STANDARD
BEGIN:DAYLIGHT
TZOFFSETFROM:-0600
TZOFFSETTO:-0500
TZNAME:CDT
DTSTART:20250309T080000
END:DAYLIGHT
BEGIN:STANDARD
TZOFFSETFROM:-0500
TZOFFSETTO:-0600
TZNAME:CST
DTSTART:20251102T070000
END:STANDARD
BEGIN:DAYLIGHT
TZOFFSETFROM:-0600
TZOFFSETTO:-0500
TZNAME:CDT
DTSTART:20260308T080000
END:DAYLIGHT
BEGIN:STANDARD
TZOFFSETFROM:-0500
TZOFFSETTO:-0600
TZNAME:CST
DTSTART:20261101T070000
END:STANDARD
END:VTIMEZONE
BEGIN:VEVENT
DTSTART;TZID=America/Chicago:20250207T123000
DTEND;TZID=America/Chicago:20250207T133000
DTSTAMP:20260422T151313
CREATED:20250115T201332Z
LAST-MODIFIED:20250115T201332Z
UID:10001966-1738931400-1738935000@www.cordovalibrary.com
SUMMARY:Teen Scene: Flower Arranging
DESCRIPTION:Arrange a vase/or a bouquet of pretty flowers for yourself\, or for a valentine!
URL:https://www.cordovalibrary.com/event/teen-scene-flower-arranging/
LOCATION:Cordova Library\, 402 Main Ave\, Cordova\, IL\, 61242\, United States
CATEGORIES:Teens
ORGANIZER;CN="Cordova Library":MAILTO:cfornero-green@cordovalibrary.com
END:VEVENT
BEGIN:VEVENT
DTSTART;TZID=America/Chicago:20250217T120000
DTEND;TZID=America/Chicago:20250217T130000
DTSTAMP:20260422T151313
CREATED:20250115T201446Z
LAST-MODIFIED:20250115T201446Z
UID:10001967-1739793600-1739797200@www.cordovalibrary.com
SUMMARY:Paint by Number/Teen Advisory
DESCRIPTION:Take your time working on a Paint by Number piece of artwork! \nPart of the time will be used as a Teen Advisory to discuss things going on in the library.
URL:https://www.cordovalibrary.com/event/paint-by-number-teen-advisory/
LOCATION:Cordova Library\, 402 Main Ave\, Cordova\, IL\, 61242\, United States
CATEGORIES:Teens
ORGANIZER;CN="Cordova Library":MAILTO:cfornero-green@cordovalibrary.com
END:VEVENT
BEGIN:VEVENT
DTSTART;TZID=America/Chicago:20250221T170000
DTEND;TZID=America/Chicago:20250221T190000
DTSTAMP:20260422T151313
CREATED:20250213T204642Z
LAST-MODIFIED:20250213T204642Z
UID:10001973-1740157200-1740164400@www.cordovalibrary.com
SUMMARY:Family Bingo
DESCRIPTION:Family Bingo is back! Bring your own snacks and beverages.
URL:https://www.cordovalibrary.com/event/family-bingo-5/
LOCATION:Cordova Library\, 402 Main Ave\, Cordova\, IL\, 61242\, United States
CATEGORIES:Adults,Children's,Teens
ORGANIZER;CN="Cordova Library":MAILTO:cfornero-green@cordovalibrary.com
END:VEVENT
BEGIN:VEVENT
DTSTART;TZID=America/Chicago:20250226T163000
DTEND;TZID=America/Chicago:20250226T173000
DTSTAMP:20260422T151313
CREATED:20250115T201558Z
LAST-MODIFIED:20250115T201558Z
UID:10001968-1740587400-1740591000@www.cordovalibrary.com
SUMMARY:Slime
DESCRIPTION:Our monthly slime program! Enjoy making some slime with others.
URL:https://www.cordovalibrary.com/event/slime/
LOCATION:Cordova Library\, 402 Main Ave\, Cordova\, IL\, 61242\, United States
CATEGORIES:Teens
ORGANIZER;CN="Cordova Library":MAILTO:cfornero-green@cordovalibrary.com
END:VEVENT
END:VCALENDAR