BEGIN:VCALENDAR
VERSION:2.0
PRODID:-//Cordova District Library - ECPv6.15.20//NONSGML v1.0//EN
CALSCALE:GREGORIAN
METHOD:PUBLISH
X-ORIGINAL-URL:https://www.cordovalibrary.com
X-WR-CALDESC:Events for Cordova District Library
REFRESH-INTERVAL;VALUE=DURATION:PT1H
X-Robots-Tag:noindex
X-PUBLISHED-TTL:PT1H
BEGIN:VTIMEZONE
TZID:America/Chicago
BEGIN:DAYLIGHT
TZOFFSETFROM:-0600
TZOFFSETTO:-0500
TZNAME:CDT
DTSTART:20230312T080000
END:DAYLIGHT
BEGIN:STANDARD
TZOFFSETFROM:-0500
TZOFFSETTO:-0600
TZNAME:CST
DTSTART:20231105T070000
END:STANDARD
BEGIN:DAYLIGHT
TZOFFSETFROM:-0600
TZOFFSETTO:-0500
TZNAME:CDT
DTSTART:20240310T080000
END:DAYLIGHT
BEGIN:STANDARD
TZOFFSETFROM:-0500
TZOFFSETTO:-0600
TZNAME:CST
DTSTART:20241103T070000
END:STANDARD
BEGIN:DAYLIGHT
TZOFFSETFROM:-0600
TZOFFSETTO:-0500
TZNAME:CDT
DTSTART:20250309T080000
END:DAYLIGHT
BEGIN:STANDARD
TZOFFSETFROM:-0500
TZOFFSETTO:-0600
TZNAME:CST
DTSTART:20251102T070000
END:STANDARD
END:VTIMEZONE
BEGIN:VEVENT
DTSTART;TZID=America/Chicago:20241204T163000
DTEND;TZID=America/Chicago:20241204T173000
DTSTAMP:20260422T180603
CREATED:20241108T162549Z
LAST-MODIFIED:20241108T164213Z
UID:10001960-1733329800-1733333400@www.cordovalibrary.com
SUMMARY:Ornament Making
DESCRIPTION:Make different types of ornaments for yourself or others.
URL:https://www.cordovalibrary.com/event/ornament-making/
LOCATION:Cordova Library\, 402 Main Ave\, Cordova\, IL\, 61242\, United States
CATEGORIES:Teens
ORGANIZER;CN="Cordova Library":MAILTO:cfornero-green@cordovalibrary.com
END:VEVENT
BEGIN:VEVENT
DTSTART;TZID=America/Chicago:20241211T163000
DTEND;TZID=America/Chicago:20241211T173000
DTSTAMP:20260422T180603
CREATED:20241108T162742Z
LAST-MODIFIED:20241108T162742Z
UID:10001961-1733934600-1733938200@www.cordovalibrary.com
SUMMARY:Cookies and Cocoa: Gingerbread Houses
DESCRIPTION:Enjoy hot cocoa while making gingerbread houses!
URL:https://www.cordovalibrary.com/event/cookies-and-cocoa-gingerbread-houses/
LOCATION:Cordova Library\, 402 Main Ave\, Cordova\, IL\, 61242\, United States
CATEGORIES:Teens
ORGANIZER;CN="Cordova Library":MAILTO:cfornero-green@cordovalibrary.com
END:VEVENT
BEGIN:VEVENT
DTSTART;TZID=America/Chicago:20241212T130000
DTEND;TZID=America/Chicago:20241212T170000
DTSTAMP:20260422T180603
CREATED:20241104T200323Z
LAST-MODIFIED:20241104T200323Z
UID:10001948-1734008400-1734022800@www.cordovalibrary.com
SUMMARY:Library Open House
DESCRIPTION:Annual open house to celebrate the holidays.
URL:https://www.cordovalibrary.com/event/library-open-house/
LOCATION:Cordova Library\, 402 Main Ave\, Cordova\, IL\, 61242\, United States
CATEGORIES:Adults,Children's,Teens
ORGANIZER;CN="Cordova Library":MAILTO:cfornero-green@cordovalibrary.com
END:VEVENT
BEGIN:VEVENT
DTSTART;TZID=America/Chicago:20241220T130000
DTEND;TZID=America/Chicago:20241220T140000
DTSTAMP:20260422T180603
CREATED:20241108T163929Z
LAST-MODIFIED:20241108T163929Z
UID:10001962-1734699600-1734703200@www.cordovalibrary.com
SUMMARY:Gift Making + Lunch
DESCRIPTION:Make gifts for the holidays with lunch provided!
URL:https://www.cordovalibrary.com/event/gift-making-lunch/
LOCATION:Cordova Library\, 402 Main Ave\, Cordova\, IL\, 61242\, United States
CATEGORIES:Teens
ORGANIZER;CN="Cordova Library":MAILTO:cfornero-green@cordovalibrary.com
END:VEVENT
BEGIN:VEVENT
DTSTART;VALUE=DATE:20241224
DTEND;VALUE=DATE:20241225
DTSTAMP:20260422T180603
CREATED:20241104T200715Z
LAST-MODIFIED:20241104T200715Z
UID:10001952-1734998400-1735084799@www.cordovalibrary.com
SUMMARY:Library Closed
DESCRIPTION:Library is closed for Christmas Eve.
URL:https://www.cordovalibrary.com/event/library-closed-3/
LOCATION:Cordova Library\, 402 Main Ave\, Cordova\, IL\, 61242\, United States
CATEGORIES:Adults,Children's,Teens
ORGANIZER;CN="Cordova Library":MAILTO:cfornero-green@cordovalibrary.com
END:VEVENT
BEGIN:VEVENT
DTSTART;VALUE=DATE:20241225
DTEND;VALUE=DATE:20241226
DTSTAMP:20260422T180603
CREATED:20241104T200747Z
LAST-MODIFIED:20241104T200747Z
UID:10001953-1735084800-1735171199@www.cordovalibrary.com
SUMMARY:Library Closed
DESCRIPTION:Library is closed for Christmas.
URL:https://www.cordovalibrary.com/event/library-closed-4/
LOCATION:Cordova Library\, 402 Main Ave\, Cordova\, IL\, 61242\, United States
CATEGORIES:Adults,Children's,Teens
ORGANIZER;CN="Cordova Library":MAILTO:cfornero-green@cordovalibrary.com
END:VEVENT
BEGIN:VEVENT
DTSTART;TZID=America/Chicago:20241227T110000
DTEND;TZID=America/Chicago:20241227T120000
DTSTAMP:20260422T180603
CREATED:20241108T170211Z
LAST-MODIFIED:20241108T170305Z
UID:10001963-1735297200-1735300800@www.cordovalibrary.com
SUMMARY:Friendsmas/Teen Advisory
DESCRIPTION:Enjoy a variety of foods while hanging with your friends and other peers. A small portion of the time will be spent like a Teen Advisory. \nSign-Up Required for Food Amount
URL:https://www.cordovalibrary.com/event/friendsmas-teen-advisory/
LOCATION:Cordova Library\, 402 Main Ave\, Cordova\, IL\, 61242\, United States
CATEGORIES:Teens
ORGANIZER;CN="Cordova Library":MAILTO:cfornero-green@cordovalibrary.com
END:VEVENT
BEGIN:VEVENT
DTSTART;TZID=America/Chicago:20241230T150000
DTEND;TZID=America/Chicago:20241230T160000
DTSTAMP:20260422T180603
CREATED:20241108T170901Z
LAST-MODIFIED:20241108T170901Z
UID:10001964-1735570800-1735574400@www.cordovalibrary.com
SUMMARY:Cooking Class: Grilled Cheese
DESCRIPTION:Learn how to make a grilled cheese and try different bread\, cheese and add-on combos!
URL:https://www.cordovalibrary.com/event/cooking-class-grilled-cheese/
LOCATION:Cordova Library\, 402 Main Ave\, Cordova\, IL\, 61242\, United States
CATEGORIES:Teens
ORGANIZER;CN="Cordova Library":MAILTO:cfornero-green@cordovalibrary.com
END:VEVENT
BEGIN:VEVENT
DTSTART;VALUE=DATE:20241231
DTEND;VALUE=DATE:20250101
DTSTAMP:20260422T180603
CREATED:20241104T201144Z
LAST-MODIFIED:20241104T201144Z
UID:10001955-1735603200-1735689599@www.cordovalibrary.com
SUMMARY:Library Closed
DESCRIPTION:Library is closed for New Years Eve.
URL:https://www.cordovalibrary.com/event/library-closed-5/
LOCATION:IL
CATEGORIES:Adults,Children's,Teens
END:VEVENT
END:VCALENDAR