BEGIN:VCALENDAR
VERSION:2.0
PRODID:-//Cordova District Library - ECPv6.15.20//NONSGML v1.0//EN
CALSCALE:GREGORIAN
METHOD:PUBLISH
X-WR-CALNAME:Cordova District Library
X-ORIGINAL-URL:https://www.cordovalibrary.com
X-WR-CALDESC:Events for Cordova District Library
REFRESH-INTERVAL;VALUE=DURATION:PT1H
X-Robots-Tag:noindex
X-PUBLISHED-TTL:PT1H
BEGIN:VTIMEZONE
TZID:America/Chicago
BEGIN:DAYLIGHT
TZOFFSETFROM:-0600
TZOFFSETTO:-0500
TZNAME:CDT
DTSTART:20230312T080000
END:DAYLIGHT
BEGIN:STANDARD
TZOFFSETFROM:-0500
TZOFFSETTO:-0600
TZNAME:CST
DTSTART:20231105T070000
END:STANDARD
BEGIN:DAYLIGHT
TZOFFSETFROM:-0600
TZOFFSETTO:-0500
TZNAME:CDT
DTSTART:20240310T080000
END:DAYLIGHT
BEGIN:STANDARD
TZOFFSETFROM:-0500
TZOFFSETTO:-0600
TZNAME:CST
DTSTART:20241103T070000
END:STANDARD
BEGIN:DAYLIGHT
TZOFFSETFROM:-0600
TZOFFSETTO:-0500
TZNAME:CDT
DTSTART:20250309T080000
END:DAYLIGHT
BEGIN:STANDARD
TZOFFSETFROM:-0500
TZOFFSETTO:-0600
TZNAME:CST
DTSTART:20251102T070000
END:STANDARD
END:VTIMEZONE
BEGIN:VEVENT
DTSTART;TZID=America/Chicago:20241008T180000
DTEND;TZID=America/Chicago:20241008T200000
DTSTAMP:20260422T203837
CREATED:20240919T150107Z
LAST-MODIFIED:20240919T150107Z
UID:10001622-1728410400-1728417600@www.cordovalibrary.com
SUMMARY:Science of Fire
DESCRIPTION:Learn about the science of fire with the Cordova Fire Department. This is for all ages to learn about fire safety.
URL:https://www.cordovalibrary.com/event/science-of-fire/
LOCATION:Cordova Fire Deparment\, 906 Main Ave\, Cordova\, IL\, 61242\, United States
CATEGORIES:Adults,Children's,Teens
ATTACH;FMTTYPE=image/jpeg:https://www.cordovalibrary.com/wp-content/uploads/2024/05/IMG_0795.jpg
ORGANIZER;CN="Cordova Library":MAILTO:cfornero-green@cordovalibrary.com
END:VEVENT
BEGIN:VEVENT
DTSTART;TZID=America/Chicago:20241009T163000
DTEND;TZID=America/Chicago:20241009T173000
DTSTAMP:20260422T203837
CREATED:20240911T154405Z
LAST-MODIFIED:20240911T154405Z
UID:10001552-1728491400-1728495000@www.cordovalibrary.com
SUMMARY:Teen Scene: Cookies & Cocoa
DESCRIPTION:Cookie Decorating \nEnjoy hot chocolate while eating/decorating cookies.
URL:https://www.cordovalibrary.com/event/teen-scene-cookies-cocoa/
LOCATION:Cordova Library\, 402 Main Ave\, Cordova\, IL\, 61242\, United States
CATEGORIES:Teens
ORGANIZER;CN="Cordova Library":MAILTO:cfornero-green@cordovalibrary.com
END:VEVENT
BEGIN:VEVENT
DTSTART;TZID=America/Chicago:20241016T163000
DTEND;TZID=America/Chicago:20241016T173000
DTSTAMP:20260422T203837
CREATED:20240911T154451Z
LAST-MODIFIED:20240911T155325Z
UID:10001553-1729096200-1729099800@www.cordovalibrary.com
SUMMARY:Teen Scene: Mini Skeleton Customizing
DESCRIPTION:Decorate a mini skeleton to make it look like yourself\, somebody you know\, a famous person\, or other. We’ll have fabric\, paint\, “hair”\, and more
URL:https://www.cordovalibrary.com/event/teen-scene-mini-skeleton-customizing/
LOCATION:Cordova Library\, 402 Main Ave\, Cordova\, IL\, 61242\, United States
CATEGORIES:Teens
ORGANIZER;CN="Cordova Library":MAILTO:cfornero-green@cordovalibrary.com
END:VEVENT
BEGIN:VEVENT
DTSTART;TZID=America/Chicago:20241018T130000
DTEND;TZID=America/Chicago:20241018T140000
DTSTAMP:20260422T203837
CREATED:20240911T154640Z
LAST-MODIFIED:20240911T155245Z
UID:10001554-1729256400-1729260000@www.cordovalibrary.com
SUMMARY:Teen Scene: Carving/Painting Pumpkins
DESCRIPTION:Carve or Paint real pumpkins while enjoying snacks and drinks.
URL:https://www.cordovalibrary.com/event/teen-scene-carving-painting-pumpkins/
LOCATION:Cordova Library\, 402 Main Ave\, Cordova\, IL\, 61242\, United States
CATEGORIES:Teens
ORGANIZER;CN="Cordova Library":MAILTO:cfornero-green@cordovalibrary.com
END:VEVENT
BEGIN:VEVENT
DTSTART;TZID=America/Chicago:20241021T163000
DTEND;TZID=America/Chicago:20241021T170000
DTSTAMP:20260422T203837
CREATED:20240911T154725Z
LAST-MODIFIED:20240911T155414Z
UID:10001555-1729528200-1729530000@www.cordovalibrary.com
SUMMARY:Teen Advisory
DESCRIPTION:Plan programs\, give input and connect with our Youth Services staff member
URL:https://www.cordovalibrary.com/event/teen-advisory-4/
LOCATION:Cordova Library\, 402 Main Ave\, Cordova\, IL\, 61242\, United States
CATEGORIES:Teens
ORGANIZER;CN="Cordova Library":MAILTO:cfornero-green@cordovalibrary.com
END:VEVENT
BEGIN:VEVENT
DTSTART;TZID=America/Chicago:20241023T163000
DTEND;TZID=America/Chicago:20241023T173000
DTSTAMP:20260422T203837
CREATED:20240911T154814Z
LAST-MODIFIED:20241014T220059Z
UID:10001556-1729701000-1729704600@www.cordovalibrary.com
SUMMARY:Teen Scene: Jewelry Making
DESCRIPTION:Make earrings\, necklaces\, bracelets and more! Mostly beaded jewelry. (Changed from Costume Help to Jewelry Making)
URL:https://www.cordovalibrary.com/event/teen-scene-costume-help/
LOCATION:Cordova Library\, 402 Main Ave\, Cordova\, IL\, 61242\, United States
CATEGORIES:Teens
ORGANIZER;CN="Cordova Library":MAILTO:cfornero-green@cordovalibrary.com
END:VEVENT
BEGIN:VEVENT
DTSTART;TZID=America/Chicago:20241025T080000
DTEND;TZID=America/Chicago:20241025T170000
DTSTAMP:20260422T203837
CREATED:20240919T145047Z
LAST-MODIFIED:20240919T145047Z
UID:10001559-1729843200-1729875600@www.cordovalibrary.com
SUMMARY:Family Bingo
DESCRIPTION:Bingo for all ages! Bring your own snacks and drinks-we have the bingo supplies.
URL:https://www.cordovalibrary.com/event/family-bingo-4/2024-10-25/
LOCATION:Cordova Library\, 402 Main Ave\, Cordova\, IL\, 61242\, United States
CATEGORIES:Adults,Children's,Teens
ORGANIZER;CN="Cordova Library":MAILTO:cfornero-green@cordovalibrary.com
END:VEVENT
END:VCALENDAR