BEGIN:VCALENDAR
VERSION:2.0
PRODID:-//Cordova District Library - ECPv6.15.20//NONSGML v1.0//EN
CALSCALE:GREGORIAN
METHOD:PUBLISH
X-WR-CALNAME:Cordova District Library
X-ORIGINAL-URL:https://www.cordovalibrary.com
X-WR-CALDESC:Events for Cordova District Library
REFRESH-INTERVAL;VALUE=DURATION:PT1H
X-Robots-Tag:noindex
X-PUBLISHED-TTL:PT1H
BEGIN:VTIMEZONE
TZID:America/Chicago
BEGIN:DAYLIGHT
TZOFFSETFROM:-0600
TZOFFSETTO:-0500
TZNAME:CDT
DTSTART:20230312T080000
END:DAYLIGHT
BEGIN:STANDARD
TZOFFSETFROM:-0500
TZOFFSETTO:-0600
TZNAME:CST
DTSTART:20231105T070000
END:STANDARD
BEGIN:DAYLIGHT
TZOFFSETFROM:-0600
TZOFFSETTO:-0500
TZNAME:CDT
DTSTART:20240310T080000
END:DAYLIGHT
BEGIN:STANDARD
TZOFFSETFROM:-0500
TZOFFSETTO:-0600
TZNAME:CST
DTSTART:20241103T070000
END:STANDARD
BEGIN:DAYLIGHT
TZOFFSETFROM:-0600
TZOFFSETTO:-0500
TZNAME:CDT
DTSTART:20250309T080000
END:DAYLIGHT
BEGIN:STANDARD
TZOFFSETFROM:-0500
TZOFFSETTO:-0600
TZNAME:CST
DTSTART:20251102T070000
END:STANDARD
END:VTIMEZONE
BEGIN:VEVENT
DTSTART;TZID=America/Chicago:20240603T130000
DTEND;TZID=America/Chicago:20240603T170000
DTSTAMP:20260423T021340
CREATED:20240522T200930Z
LAST-MODIFIED:20240522T204854Z
UID:10000027-1717419600-1717434000@www.cordovalibrary.com
SUMMARY:Intermediate Art Camp
DESCRIPTION:One camp spanning over each Monday in June. A little bit of learning and a whole lot of creating. A step up from our regular Art Camp that focuses on quality over quantity.  \nSign up here.
URL:https://www.cordovalibrary.com/event/intermediate-art-camp/
LOCATION:Cordova Library\, 402 Main Ave\, Cordova\, IL\, 61242\, United States
CATEGORIES:Teens
ORGANIZER;CN="Cordova Library":MAILTO:cfornero-green@cordovalibrary.com
END:VEVENT
BEGIN:VEVENT
DTSTART;TZID=America/Chicago:20240605T140000
DTEND;TZID=America/Chicago:20240605T150000
DTSTAMP:20260423T021340
CREATED:20240522T202417Z
LAST-MODIFIED:20240522T202706Z
UID:10000028-1717596000-1717599600@www.cordovalibrary.com
SUMMARY:Teen Scene: Rubber Duck Customizing
DESCRIPTION:Customize your own duck with paint\, fabric\, and more!
URL:https://www.cordovalibrary.com/event/teen-scene-rubber-duck-customizing/
LOCATION:Cordova Library\, 402 Main Ave\, Cordova\, IL\, 61242\, United States
CATEGORIES:Teens
ORGANIZER;CN="Cordova Library":MAILTO:cfornero-green@cordovalibrary.com
END:VEVENT
BEGIN:VEVENT
DTSTART;TZID=America/Chicago:20240608T110000
DTEND;TZID=America/Chicago:20240608T140000
DTSTAMP:20260423T021340
CREATED:20240522T204109Z
LAST-MODIFIED:20240601T124919Z
UID:10000033-1717844400-1717855200@www.cordovalibrary.com
SUMMARY:Paint the Road
DESCRIPTION:Edit: Rescheduled to Saturday\, June 8th at 11am due to weather. \nOur annual celebration to kick off summer! Join us for Paint the Road on Saturday\, June 1st at 11am. There will be hamburgers and hotdogs\, drinks and ice cream for participants. The rain date for the event is Saturday\, June 8th.
URL:https://www.cordovalibrary.com/event/paint-the-road/
LOCATION:Cordova Library\, 402 Main Ave\, Cordova\, IL\, 61242\, United States
CATEGORIES:Children's,Teens
ATTACH;FMTTYPE=image/jpeg:https://www.cordovalibrary.com/wp-content/uploads/2024/02/IMG_1517.jpg
ORGANIZER;CN="Cordova Library":MAILTO:cfornero-green@cordovalibrary.com
END:VEVENT
BEGIN:VEVENT
DTSTART;TZID=America/Chicago:20240610T130000
DTEND;TZID=America/Chicago:20240610T170000
DTSTAMP:20260423T021340
CREATED:20240522T202620Z
LAST-MODIFIED:20240522T205027Z
UID:10000029-1718024400-1718038800@www.cordovalibrary.com
SUMMARY:Intermediate Art Camp
DESCRIPTION:One camp spanning over each Monday in June. A little bit of learning and a whole lot of creating. A step up from our regular Art Camp that focuses on quality over quantity.   \nSign up here.
URL:https://www.cordovalibrary.com/event/intermediate-art-camp-2/
LOCATION:Cordova Library\, 402 Main Ave\, Cordova\, IL\, 61242\, United States
CATEGORIES:Teens
ORGANIZER;CN="Cordova Library":MAILTO:cfornero-green@cordovalibrary.com
END:VEVENT
BEGIN:VEVENT
DTSTART;TZID=America/Chicago:20240614T190000
DTEND;TZID=America/Chicago:20240614T220000
DTSTAMP:20260423T021340
CREATED:20240522T202953Z
LAST-MODIFIED:20240522T202953Z
UID:10000030-1718391600-1718402400@www.cordovalibrary.com
SUMMARY:Teen Lock-In
DESCRIPTION:Be locked in the library after dark with your friends\, food\, games\, and more!
URL:https://www.cordovalibrary.com/event/teen-lock-in/
LOCATION:Cordova Library\, 402 Main Ave\, Cordova\, IL\, 61242\, United States
CATEGORIES:Teens
ORGANIZER;CN="Cordova Library":MAILTO:cfornero-green@cordovalibrary.com
END:VEVENT
BEGIN:VEVENT
DTSTART;TZID=America/Chicago:20240617T130000
DTEND;TZID=America/Chicago:20240617T170000
DTSTAMP:20260423T021340
CREATED:20240522T205212Z
LAST-MODIFIED:20240522T205212Z
UID:10000037-1718629200-1718643600@www.cordovalibrary.com
SUMMARY:Intermediate Art Camp
DESCRIPTION:One camp spanning over each Monday in June. A little bit of learning and a whole lot of creating. A step up from our regular Art Camp that focuses on quality over quantity.   \nSign up here.
URL:https://www.cordovalibrary.com/event/intermediate-art-camp-3/
LOCATION:Cordova Library\, 402 Main Ave\, Cordova\, IL\, 61242\, United States
CATEGORIES:Teens
ORGANIZER;CN="Cordova Library":MAILTO:cfornero-green@cordovalibrary.com
END:VEVENT
BEGIN:VEVENT
DTSTART;TZID=America/Chicago:20240619T150000
DTEND;TZID=America/Chicago:20240619T170000
DTSTAMP:20260423T021340
CREATED:20240522T203253Z
LAST-MODIFIED:20240522T203253Z
UID:10000031-1718809200-1718816400@www.cordovalibrary.com
SUMMARY:Teen Advisory
DESCRIPTION:We want teen input for our library! Discuss future programs\, issues\, and more with our Youth Services staff member.
URL:https://www.cordovalibrary.com/event/teen-advisory/
LOCATION:Cordova Library\, 402 Main Ave\, Cordova\, IL\, 61242\, United States
CATEGORIES:Teens
ORGANIZER;CN="Cordova Library":MAILTO:cfornero-green@cordovalibrary.com
END:VEVENT
BEGIN:VEVENT
DTSTART;TZID=America/Chicago:20240621T110000
DTEND;TZID=America/Chicago:20240621T130000
DTSTAMP:20260423T021340
CREATED:20240522T203530Z
LAST-MODIFIED:20240522T211356Z
UID:10000032-1718967600-1718974800@www.cordovalibrary.com
SUMMARY:Science Camp-ish - Part 1
DESCRIPTION:Science in the air. Figure out how to keep an egg safe after we drop it off a ladder\, and how to make a plane or a glider go farther than others.
URL:https://www.cordovalibrary.com/event/science-camp-ish-part-1/
LOCATION:Cordova Library\, 402 Main Ave\, Cordova\, IL\, 61242\, United States
CATEGORIES:Teens
ORGANIZER;CN="Cordova Library":MAILTO:cfornero-green@cordovalibrary.com
END:VEVENT
BEGIN:VEVENT
DTSTART;TZID=America/Chicago:20240624T130000
DTEND;TZID=America/Chicago:20240624T170000
DTSTAMP:20260423T021340
CREATED:20240522T205243Z
LAST-MODIFIED:20240522T205243Z
UID:10000038-1719234000-1719248400@www.cordovalibrary.com
SUMMARY:Intermediate Art Camp
DESCRIPTION:One camp spanning over each Monday in June. A little bit of learning and a whole lot of creating. A step up from our regular Art Camp that focuses on quality over quantity.   \nSign up here.
URL:https://www.cordovalibrary.com/event/intermediate-art-camp-4/
LOCATION:Cordova Library\, 402 Main Ave\, Cordova\, IL\, 61242\, United States
CATEGORIES:Teens
ORGANIZER;CN="Cordova Library":MAILTO:cfornero-green@cordovalibrary.com
END:VEVENT
BEGIN:VEVENT
DTSTART;TZID=America/Chicago:20240626T140000
DTEND;TZID=America/Chicago:20240626T150000
DTSTAMP:20260423T021340
CREATED:20240522T203749Z
LAST-MODIFIED:20240522T203749Z
UID:10000034-1719410400-1719414000@www.cordovalibrary.com
SUMMARY:Teen Scene: Owl Pellet Dissection
DESCRIPTION:Dissect an owl pellet to see the bones and other objects owls spit out!
URL:https://www.cordovalibrary.com/event/teen-scene-owl-pellet-dissection/
LOCATION:Cordova Library\, 402 Main Ave\, Cordova\, IL\, 61242\, United States
CATEGORIES:Teens
ORGANIZER;CN="Cordova Library":MAILTO:cfornero-green@cordovalibrary.com
END:VEVENT
END:VCALENDAR