BEGIN:VCALENDAR
VERSION:2.0
PRODID:-//Cordova District Library - ECPv6.15.20//NONSGML v1.0//EN
CALSCALE:GREGORIAN
METHOD:PUBLISH
X-ORIGINAL-URL:https://www.cordovalibrary.com
X-WR-CALDESC:Events for Cordova District Library
REFRESH-INTERVAL;VALUE=DURATION:PT1H
X-Robots-Tag:noindex
X-PUBLISHED-TTL:PT1H
BEGIN:VTIMEZONE
TZID:America/Chicago
BEGIN:DAYLIGHT
TZOFFSETFROM:-0600
TZOFFSETTO:-0500
TZNAME:CDT
DTSTART:20270314T080000
END:DAYLIGHT
BEGIN:STANDARD
TZOFFSETFROM:-0500
TZOFFSETTO:-0600
TZNAME:CST
DTSTART:20271107T070000
END:STANDARD
BEGIN:DAYLIGHT
TZOFFSETFROM:-0600
TZOFFSETTO:-0500
TZNAME:CDT
DTSTART:20280312T080000
END:DAYLIGHT
BEGIN:STANDARD
TZOFFSETFROM:-0500
TZOFFSETTO:-0600
TZNAME:CST
DTSTART:20281105T070000
END:STANDARD
BEGIN:DAYLIGHT
TZOFFSETFROM:-0600
TZOFFSETTO:-0500
TZNAME:CDT
DTSTART:20290311T080000
END:DAYLIGHT
BEGIN:STANDARD
TZOFFSETFROM:-0500
TZOFFSETTO:-0600
TZNAME:CST
DTSTART:20291104T070000
END:STANDARD
END:VTIMEZONE
BEGIN:VEVENT
DTSTART;TZID=America/Chicago:20280705T090000
DTEND;TZID=America/Chicago:20280705T093000
DTSTAMP:20260423T083423
CREATED:20240808T233504Z
LAST-MODIFIED:20251120T223457Z
UID:10000675-1846400400-1846402200@www.cordovalibrary.com
SUMMARY:Chair Exercise
DESCRIPTION:Join friends for chair exercise. Exercise is led by a DVD instructor.
URL:https://www.cordovalibrary.com/event/chair-exercise/2028-07-05/
LOCATION:Cordova Library\, 402 Main Ave\, Cordova\, IL\, 61242\, United States
CATEGORIES:Adults
ORGANIZER;CN="Cordova Library":MAILTO:cfornero-green@cordovalibrary.com
END:VEVENT
BEGIN:VEVENT
DTSTART;TZID=America/Chicago:20280707T090000
DTEND;TZID=America/Chicago:20280707T093000
DTSTAMP:20260423T083423
CREATED:20240808T233504Z
LAST-MODIFIED:20251120T223457Z
UID:10000676-1846573200-1846575000@www.cordovalibrary.com
SUMMARY:Chair Exercise
DESCRIPTION:Join friends for chair exercise. Exercise is led by a DVD instructor.
URL:https://www.cordovalibrary.com/event/chair-exercise/2028-07-07/
LOCATION:Cordova Library\, 402 Main Ave\, Cordova\, IL\, 61242\, United States
CATEGORIES:Adults
ORGANIZER;CN="Cordova Library":MAILTO:cfornero-green@cordovalibrary.com
END:VEVENT
BEGIN:VEVENT
DTSTART;TZID=America/Chicago:20280710T090000
DTEND;TZID=America/Chicago:20280710T093000
DTSTAMP:20260423T083423
CREATED:20240808T233504Z
LAST-MODIFIED:20251120T223457Z
UID:10000677-1846832400-1846834200@www.cordovalibrary.com
SUMMARY:Chair Exercise
DESCRIPTION:Join friends for chair exercise. Exercise is led by a DVD instructor.
URL:https://www.cordovalibrary.com/event/chair-exercise/2028-07-10/
LOCATION:Cordova Library\, 402 Main Ave\, Cordova\, IL\, 61242\, United States
CATEGORIES:Adults
ORGANIZER;CN="Cordova Library":MAILTO:cfornero-green@cordovalibrary.com
END:VEVENT
BEGIN:VEVENT
DTSTART;TZID=America/Chicago:20280711T160000
DTEND;TZID=America/Chicago:20280711T170000
DTSTAMP:20260423T083423
CREATED:20241104T192022Z
LAST-MODIFIED:20250903T203155Z
UID:10002717-1846944000-1846947600@www.cordovalibrary.com
SUMMARY:Crochet
DESCRIPTION:Meet friends to crochet or knit.
URL:https://www.cordovalibrary.com/event/crochet/2028-07-11/
LOCATION:Cordova Library\, 402 Main Ave\, Cordova\, IL\, 61242\, United States
CATEGORIES:Adults
ORGANIZER;CN="Cordova Library":MAILTO:cfornero-green@cordovalibrary.com
END:VEVENT
BEGIN:VEVENT
DTSTART;TZID=America/Chicago:20280712T090000
DTEND;TZID=America/Chicago:20280712T093000
DTSTAMP:20260423T083423
CREATED:20240808T233504Z
LAST-MODIFIED:20251120T223457Z
UID:10000678-1847005200-1847007000@www.cordovalibrary.com
SUMMARY:Chair Exercise
DESCRIPTION:Join friends for chair exercise. Exercise is led by a DVD instructor.
URL:https://www.cordovalibrary.com/event/chair-exercise/2028-07-12/
LOCATION:Cordova Library\, 402 Main Ave\, Cordova\, IL\, 61242\, United States
CATEGORIES:Adults
ORGANIZER;CN="Cordova Library":MAILTO:cfornero-green@cordovalibrary.com
END:VEVENT
BEGIN:VEVENT
DTSTART;TZID=America/Chicago:20280713T090000
DTEND;TZID=America/Chicago:20280713T170000
DTSTAMP:20260423T083423
CREATED:20260304T230930Z
LAST-MODIFIED:20260304T230930Z
UID:10003701-1847091600-1847120400@www.cordovalibrary.com
SUMMARY:Do Your Own Thing
DESCRIPTION:Join friends to work on crafts.
URL:https://www.cordovalibrary.com/event/do-your-own-thing-4/2028-07-13/
LOCATION:Cordova Library\, 402 Main Ave\, Cordova\, IL\, 61242\, United States
CATEGORIES:Adults
ORGANIZER;CN="Cordova Library":MAILTO:cfornero-green@cordovalibrary.com
END:VEVENT
BEGIN:VEVENT
DTSTART;TZID=America/Chicago:20280714T090000
DTEND;TZID=America/Chicago:20280714T093000
DTSTAMP:20260423T083423
CREATED:20240808T233504Z
LAST-MODIFIED:20251120T223457Z
UID:10000679-1847178000-1847179800@www.cordovalibrary.com
SUMMARY:Chair Exercise
DESCRIPTION:Join friends for chair exercise. Exercise is led by a DVD instructor.
URL:https://www.cordovalibrary.com/event/chair-exercise/2028-07-14/
LOCATION:Cordova Library\, 402 Main Ave\, Cordova\, IL\, 61242\, United States
CATEGORIES:Adults
ORGANIZER;CN="Cordova Library":MAILTO:cfornero-green@cordovalibrary.com
END:VEVENT
BEGIN:VEVENT
DTSTART;TZID=America/Chicago:20280717T090000
DTEND;TZID=America/Chicago:20280717T093000
DTSTAMP:20260423T083423
CREATED:20240808T233504Z
LAST-MODIFIED:20251120T223457Z
UID:10000680-1847437200-1847439000@www.cordovalibrary.com
SUMMARY:Chair Exercise
DESCRIPTION:Join friends for chair exercise. Exercise is led by a DVD instructor.
URL:https://www.cordovalibrary.com/event/chair-exercise/2028-07-17/
LOCATION:Cordova Library\, 402 Main Ave\, Cordova\, IL\, 61242\, United States
CATEGORIES:Adults
ORGANIZER;CN="Cordova Library":MAILTO:cfornero-green@cordovalibrary.com
END:VEVENT
BEGIN:VEVENT
DTSTART;TZID=America/Chicago:20280718T160000
DTEND;TZID=America/Chicago:20280718T170000
DTSTAMP:20260423T083423
CREATED:20241104T192022Z
LAST-MODIFIED:20250903T203155Z
UID:10002718-1847548800-1847552400@www.cordovalibrary.com
SUMMARY:Crochet
DESCRIPTION:Meet friends to crochet or knit.
URL:https://www.cordovalibrary.com/event/crochet/2028-07-18/
LOCATION:Cordova Library\, 402 Main Ave\, Cordova\, IL\, 61242\, United States
CATEGORIES:Adults
ORGANIZER;CN="Cordova Library":MAILTO:cfornero-green@cordovalibrary.com
END:VEVENT
BEGIN:VEVENT
DTSTART;TZID=America/Chicago:20280719T090000
DTEND;TZID=America/Chicago:20280719T093000
DTSTAMP:20260423T083423
CREATED:20240808T233504Z
LAST-MODIFIED:20251120T223457Z
UID:10000681-1847610000-1847611800@www.cordovalibrary.com
SUMMARY:Chair Exercise
DESCRIPTION:Join friends for chair exercise. Exercise is led by a DVD instructor.
URL:https://www.cordovalibrary.com/event/chair-exercise/2028-07-19/
LOCATION:Cordova Library\, 402 Main Ave\, Cordova\, IL\, 61242\, United States
CATEGORIES:Adults
ORGANIZER;CN="Cordova Library":MAILTO:cfornero-green@cordovalibrary.com
END:VEVENT
BEGIN:VEVENT
DTSTART;TZID=America/Chicago:20280719T180000
DTEND;TZID=America/Chicago:20280719T190000
DTSTAMP:20260423T083423
CREATED:20240809T003445Z
LAST-MODIFIED:20240809T003556Z
UID:10001535-1847642400-1847646000@www.cordovalibrary.com
SUMMARY:American Legion Meeting
DESCRIPTION:Monthly meeting of the American Legion Post 1033.
URL:https://www.cordovalibrary.com/event/american-legion-meeting/2028-07-19/
LOCATION:Cordova Library\, 402 Main Ave\, Cordova\, IL\, 61242\, United States
CATEGORIES:Adults
ORGANIZER;CN="Cordova Library":MAILTO:cfornero-green@cordovalibrary.com
END:VEVENT
BEGIN:VEVENT
DTSTART;TZID=America/Chicago:20280721T090000
DTEND;TZID=America/Chicago:20280721T093000
DTSTAMP:20260423T083423
CREATED:20240808T233504Z
LAST-MODIFIED:20251120T223457Z
UID:10000682-1847782800-1847784600@www.cordovalibrary.com
SUMMARY:Chair Exercise
DESCRIPTION:Join friends for chair exercise. Exercise is led by a DVD instructor.
URL:https://www.cordovalibrary.com/event/chair-exercise/2028-07-21/
LOCATION:Cordova Library\, 402 Main Ave\, Cordova\, IL\, 61242\, United States
CATEGORIES:Adults
ORGANIZER;CN="Cordova Library":MAILTO:cfornero-green@cordovalibrary.com
END:VEVENT
BEGIN:VEVENT
DTSTART;TZID=America/Chicago:20280724T090000
DTEND;TZID=America/Chicago:20280724T093000
DTSTAMP:20260423T083423
CREATED:20240808T233504Z
LAST-MODIFIED:20251120T223457Z
UID:10000683-1848042000-1848043800@www.cordovalibrary.com
SUMMARY:Chair Exercise
DESCRIPTION:Join friends for chair exercise. Exercise is led by a DVD instructor.
URL:https://www.cordovalibrary.com/event/chair-exercise/2028-07-24/
LOCATION:Cordova Library\, 402 Main Ave\, Cordova\, IL\, 61242\, United States
CATEGORIES:Adults
ORGANIZER;CN="Cordova Library":MAILTO:cfornero-green@cordovalibrary.com
END:VEVENT
BEGIN:VEVENT
DTSTART;TZID=America/Chicago:20280725T080000
DTEND;TZID=America/Chicago:20280725T170000
DTSTAMP:20260423T083423
CREATED:20260205T163418Z
LAST-MODIFIED:20260205T163418Z
UID:10003624-1848124800-1848157200@www.cordovalibrary.com
SUMMARY:Do Your Own Thing
DESCRIPTION:Work on a project with friends! Bring a dish to pass for lunch.
URL:https://www.cordovalibrary.com/event/do-your-own-thing-2-2/2028-07-25/
LOCATION:Cordova Library\, 402 Main Ave\, Cordova\, IL\, 61242\, United States
CATEGORIES:Adults
ORGANIZER;CN="Cordova Library":MAILTO:cfornero-green@cordovalibrary.com
END:VEVENT
BEGIN:VEVENT
DTSTART;TZID=America/Chicago:20280725T160000
DTEND;TZID=America/Chicago:20280725T170000
DTSTAMP:20260423T083423
CREATED:20241104T192022Z
LAST-MODIFIED:20250903T203155Z
UID:10002719-1848153600-1848157200@www.cordovalibrary.com
SUMMARY:Crochet
DESCRIPTION:Meet friends to crochet or knit.
URL:https://www.cordovalibrary.com/event/crochet/2028-07-25/
LOCATION:Cordova Library\, 402 Main Ave\, Cordova\, IL\, 61242\, United States
CATEGORIES:Adults
ORGANIZER;CN="Cordova Library":MAILTO:cfornero-green@cordovalibrary.com
END:VEVENT
BEGIN:VEVENT
DTSTART;TZID=America/Chicago:20280726T090000
DTEND;TZID=America/Chicago:20280726T093000
DTSTAMP:20260423T083423
CREATED:20240808T233504Z
LAST-MODIFIED:20251120T223457Z
UID:10000684-1848214800-1848216600@www.cordovalibrary.com
SUMMARY:Chair Exercise
DESCRIPTION:Join friends for chair exercise. Exercise is led by a DVD instructor.
URL:https://www.cordovalibrary.com/event/chair-exercise/2028-07-26/
LOCATION:Cordova Library\, 402 Main Ave\, Cordova\, IL\, 61242\, United States
CATEGORIES:Adults
ORGANIZER;CN="Cordova Library":MAILTO:cfornero-green@cordovalibrary.com
END:VEVENT
BEGIN:VEVENT
DTSTART;TZID=America/Chicago:20280728T090000
DTEND;TZID=America/Chicago:20280728T093000
DTSTAMP:20260423T083423
CREATED:20240808T233504Z
LAST-MODIFIED:20251120T223457Z
UID:10000685-1848387600-1848389400@www.cordovalibrary.com
SUMMARY:Chair Exercise
DESCRIPTION:Join friends for chair exercise. Exercise is led by a DVD instructor.
URL:https://www.cordovalibrary.com/event/chair-exercise/2028-07-28/
LOCATION:Cordova Library\, 402 Main Ave\, Cordova\, IL\, 61242\, United States
CATEGORIES:Adults
ORGANIZER;CN="Cordova Library":MAILTO:cfornero-green@cordovalibrary.com
END:VEVENT
BEGIN:VEVENT
DTSTART;TZID=America/Chicago:20280731T090000
DTEND;TZID=America/Chicago:20280731T093000
DTSTAMP:20260423T083423
CREATED:20240808T233504Z
LAST-MODIFIED:20251120T223457Z
UID:10000686-1848646800-1848648600@www.cordovalibrary.com
SUMMARY:Chair Exercise
DESCRIPTION:Join friends for chair exercise. Exercise is led by a DVD instructor.
URL:https://www.cordovalibrary.com/event/chair-exercise/2028-07-31/
LOCATION:Cordova Library\, 402 Main Ave\, Cordova\, IL\, 61242\, United States
CATEGORIES:Adults
ORGANIZER;CN="Cordova Library":MAILTO:cfornero-green@cordovalibrary.com
END:VEVENT
BEGIN:VEVENT
DTSTART;TZID=America/Chicago:20280801T100000
DTEND;TZID=America/Chicago:20280801T110000
DTSTAMP:20260423T083423
CREATED:20250903T210830Z
LAST-MODIFIED:20250903T210830Z
UID:10002957-1848736800-1848740400@www.cordovalibrary.com
SUMMARY:Book Club
DESCRIPTION:Morning book club where a variety of genres are discussed.
URL:https://www.cordovalibrary.com/event/book-club-2/2028-08-01/
LOCATION:Cordova Library\, 402 Main Ave\, Cordova\, IL\, 61242\, United States
CATEGORIES:Adults
ORGANIZER;CN="Cordova Library":MAILTO:cfornero-green@cordovalibrary.com
END:VEVENT
BEGIN:VEVENT
DTSTART;TZID=America/Chicago:20280801T160000
DTEND;TZID=America/Chicago:20280801T170000
DTSTAMP:20260423T083423
CREATED:20241104T192022Z
LAST-MODIFIED:20250903T203155Z
UID:10002720-1848758400-1848762000@www.cordovalibrary.com
SUMMARY:Crochet
DESCRIPTION:Meet friends to crochet or knit.
URL:https://www.cordovalibrary.com/event/crochet/2028-08-01/
LOCATION:Cordova Library\, 402 Main Ave\, Cordova\, IL\, 61242\, United States
CATEGORIES:Adults
ORGANIZER;CN="Cordova Library":MAILTO:cfornero-green@cordovalibrary.com
END:VEVENT
BEGIN:VEVENT
DTSTART;TZID=America/Chicago:20280802T090000
DTEND;TZID=America/Chicago:20280802T093000
DTSTAMP:20260423T083423
CREATED:20240808T233504Z
LAST-MODIFIED:20251120T223457Z
UID:10000687-1848819600-1848821400@www.cordovalibrary.com
SUMMARY:Chair Exercise
DESCRIPTION:Join friends for chair exercise. Exercise is led by a DVD instructor.
URL:https://www.cordovalibrary.com/event/chair-exercise/2028-08-02/
LOCATION:Cordova Library\, 402 Main Ave\, Cordova\, IL\, 61242\, United States
CATEGORIES:Adults
ORGANIZER;CN="Cordova Library":MAILTO:cfornero-green@cordovalibrary.com
END:VEVENT
BEGIN:VEVENT
DTSTART;TZID=America/Chicago:20280804T090000
DTEND;TZID=America/Chicago:20280804T093000
DTSTAMP:20260423T083423
CREATED:20240808T233504Z
LAST-MODIFIED:20251120T223457Z
UID:10000688-1848992400-1848994200@www.cordovalibrary.com
SUMMARY:Chair Exercise
DESCRIPTION:Join friends for chair exercise. Exercise is led by a DVD instructor.
URL:https://www.cordovalibrary.com/event/chair-exercise/2028-08-04/
LOCATION:Cordova Library\, 402 Main Ave\, Cordova\, IL\, 61242\, United States
CATEGORIES:Adults
ORGANIZER;CN="Cordova Library":MAILTO:cfornero-green@cordovalibrary.com
END:VEVENT
BEGIN:VEVENT
DTSTART;TZID=America/Chicago:20280807T090000
DTEND;TZID=America/Chicago:20280807T093000
DTSTAMP:20260423T083423
CREATED:20240808T233504Z
LAST-MODIFIED:20251120T223457Z
UID:10000689-1849251600-1849253400@www.cordovalibrary.com
SUMMARY:Chair Exercise
DESCRIPTION:Join friends for chair exercise. Exercise is led by a DVD instructor.
URL:https://www.cordovalibrary.com/event/chair-exercise/2028-08-07/
LOCATION:Cordova Library\, 402 Main Ave\, Cordova\, IL\, 61242\, United States
CATEGORIES:Adults
ORGANIZER;CN="Cordova Library":MAILTO:cfornero-green@cordovalibrary.com
END:VEVENT
BEGIN:VEVENT
DTSTART;TZID=America/Chicago:20280808T160000
DTEND;TZID=America/Chicago:20280808T170000
DTSTAMP:20260423T083423
CREATED:20241104T192022Z
LAST-MODIFIED:20250903T203155Z
UID:10002721-1849363200-1849366800@www.cordovalibrary.com
SUMMARY:Crochet
DESCRIPTION:Meet friends to crochet or knit.
URL:https://www.cordovalibrary.com/event/crochet/2028-08-08/
LOCATION:Cordova Library\, 402 Main Ave\, Cordova\, IL\, 61242\, United States
CATEGORIES:Adults
ORGANIZER;CN="Cordova Library":MAILTO:cfornero-green@cordovalibrary.com
END:VEVENT
BEGIN:VEVENT
DTSTART;TZID=America/Chicago:20280809T090000
DTEND;TZID=America/Chicago:20280809T093000
DTSTAMP:20260423T083423
CREATED:20240808T233504Z
LAST-MODIFIED:20251120T223457Z
UID:10000690-1849424400-1849426200@www.cordovalibrary.com
SUMMARY:Chair Exercise
DESCRIPTION:Join friends for chair exercise. Exercise is led by a DVD instructor.
URL:https://www.cordovalibrary.com/event/chair-exercise/2028-08-09/
LOCATION:Cordova Library\, 402 Main Ave\, Cordova\, IL\, 61242\, United States
CATEGORIES:Adults
ORGANIZER;CN="Cordova Library":MAILTO:cfornero-green@cordovalibrary.com
END:VEVENT
BEGIN:VEVENT
DTSTART;TZID=America/Chicago:20280810T090000
DTEND;TZID=America/Chicago:20280810T170000
DTSTAMP:20260423T083423
CREATED:20260304T230930Z
LAST-MODIFIED:20260304T230930Z
UID:10003702-1849510800-1849539600@www.cordovalibrary.com
SUMMARY:Do Your Own Thing
DESCRIPTION:Join friends to work on crafts.
URL:https://www.cordovalibrary.com/event/do-your-own-thing-4/2028-08-10/
LOCATION:Cordova Library\, 402 Main Ave\, Cordova\, IL\, 61242\, United States
CATEGORIES:Adults
ORGANIZER;CN="Cordova Library":MAILTO:cfornero-green@cordovalibrary.com
END:VEVENT
BEGIN:VEVENT
DTSTART;TZID=America/Chicago:20280811T090000
DTEND;TZID=America/Chicago:20280811T093000
DTSTAMP:20260423T083423
CREATED:20240808T233504Z
LAST-MODIFIED:20251120T223457Z
UID:10000691-1849597200-1849599000@www.cordovalibrary.com
SUMMARY:Chair Exercise
DESCRIPTION:Join friends for chair exercise. Exercise is led by a DVD instructor.
URL:https://www.cordovalibrary.com/event/chair-exercise/2028-08-11/
LOCATION:Cordova Library\, 402 Main Ave\, Cordova\, IL\, 61242\, United States
CATEGORIES:Adults
ORGANIZER;CN="Cordova Library":MAILTO:cfornero-green@cordovalibrary.com
END:VEVENT
BEGIN:VEVENT
DTSTART;TZID=America/Chicago:20280814T090000
DTEND;TZID=America/Chicago:20280814T093000
DTSTAMP:20260423T083423
CREATED:20240808T233504Z
LAST-MODIFIED:20251120T223457Z
UID:10000692-1849856400-1849858200@www.cordovalibrary.com
SUMMARY:Chair Exercise
DESCRIPTION:Join friends for chair exercise. Exercise is led by a DVD instructor.
URL:https://www.cordovalibrary.com/event/chair-exercise/2028-08-14/
LOCATION:Cordova Library\, 402 Main Ave\, Cordova\, IL\, 61242\, United States
CATEGORIES:Adults
ORGANIZER;CN="Cordova Library":MAILTO:cfornero-green@cordovalibrary.com
END:VEVENT
BEGIN:VEVENT
DTSTART;TZID=America/Chicago:20280815T160000
DTEND;TZID=America/Chicago:20280815T170000
DTSTAMP:20260423T083423
CREATED:20241104T192022Z
LAST-MODIFIED:20250903T203155Z
UID:10002722-1849968000-1849971600@www.cordovalibrary.com
SUMMARY:Crochet
DESCRIPTION:Meet friends to crochet or knit.
URL:https://www.cordovalibrary.com/event/crochet/2028-08-15/
LOCATION:Cordova Library\, 402 Main Ave\, Cordova\, IL\, 61242\, United States
CATEGORIES:Adults
ORGANIZER;CN="Cordova Library":MAILTO:cfornero-green@cordovalibrary.com
END:VEVENT
BEGIN:VEVENT
DTSTART;TZID=America/Chicago:20280816T090000
DTEND;TZID=America/Chicago:20280816T093000
DTSTAMP:20260423T083423
CREATED:20240808T233504Z
LAST-MODIFIED:20251120T223457Z
UID:10000693-1850029200-1850031000@www.cordovalibrary.com
SUMMARY:Chair Exercise
DESCRIPTION:Join friends for chair exercise. Exercise is led by a DVD instructor.
URL:https://www.cordovalibrary.com/event/chair-exercise/2028-08-16/
LOCATION:Cordova Library\, 402 Main Ave\, Cordova\, IL\, 61242\, United States
CATEGORIES:Adults
ORGANIZER;CN="Cordova Library":MAILTO:cfornero-green@cordovalibrary.com
END:VEVENT
END:VCALENDAR