BEGIN:VCALENDAR
VERSION:2.0
PRODID:-//Cordova District Library - ECPv6.15.20//NONSGML v1.0//EN
CALSCALE:GREGORIAN
METHOD:PUBLISH
X-ORIGINAL-URL:https://www.cordovalibrary.com
X-WR-CALDESC:Events for Cordova District Library
REFRESH-INTERVAL;VALUE=DURATION:PT1H
X-Robots-Tag:noindex
X-PUBLISHED-TTL:PT1H
BEGIN:VTIMEZONE
TZID:America/Chicago
BEGIN:DAYLIGHT
TZOFFSETFROM:-0600
TZOFFSETTO:-0500
TZNAME:CDT
DTSTART:20250309T080000
END:DAYLIGHT
BEGIN:STANDARD
TZOFFSETFROM:-0500
TZOFFSETTO:-0600
TZNAME:CST
DTSTART:20251102T070000
END:STANDARD
BEGIN:DAYLIGHT
TZOFFSETFROM:-0600
TZOFFSETTO:-0500
TZNAME:CDT
DTSTART:20260308T080000
END:DAYLIGHT
BEGIN:STANDARD
TZOFFSETFROM:-0500
TZOFFSETTO:-0600
TZNAME:CST
DTSTART:20261101T070000
END:STANDARD
BEGIN:DAYLIGHT
TZOFFSETFROM:-0600
TZOFFSETTO:-0500
TZNAME:CDT
DTSTART:20270314T080000
END:DAYLIGHT
BEGIN:STANDARD
TZOFFSETFROM:-0500
TZOFFSETTO:-0600
TZNAME:CST
DTSTART:20271107T070000
END:STANDARD
END:VTIMEZONE
BEGIN:VEVENT
DTSTART;TZID=America/Chicago:20260519T160000
DTEND;TZID=America/Chicago:20260519T170000
DTSTAMP:20260420T083246
CREATED:20241104T192022Z
LAST-MODIFIED:20250903T203155Z
UID:10002605-1779206400-1779210000@www.cordovalibrary.com
SUMMARY:Crochet
DESCRIPTION:Meet friends to crochet or knit.
URL:https://www.cordovalibrary.com/event/crochet/2026-05-19/
LOCATION:Cordova Library\, 402 Main Ave\, Cordova\, IL\, 61242\, United States
CATEGORIES:Adults
ORGANIZER;CN="Cordova Library":MAILTO:cfornero-green@cordovalibrary.com
END:VEVENT
BEGIN:VEVENT
DTSTART;TZID=America/Chicago:20260520T090000
DTEND;TZID=America/Chicago:20260520T093000
DTSTAMP:20260420T083246
CREATED:20240808T233504Z
LAST-MODIFIED:20251120T223457Z
UID:10000342-1779267600-1779269400@www.cordovalibrary.com
SUMMARY:Chair Exercise
DESCRIPTION:Join friends for chair exercise. Exercise is led by a DVD instructor.
URL:https://www.cordovalibrary.com/event/chair-exercise/2026-05-20/
LOCATION:Cordova Library\, 402 Main Ave\, Cordova\, IL\, 61242\, United States
CATEGORIES:Adults
ORGANIZER;CN="Cordova Library":MAILTO:cfornero-green@cordovalibrary.com
END:VEVENT
BEGIN:VEVENT
DTSTART;TZID=America/Chicago:20260520T180000
DTEND;TZID=America/Chicago:20260520T190000
DTSTAMP:20260420T083246
CREATED:20240809T003445Z
LAST-MODIFIED:20240809T003556Z
UID:10001509-1779300000-1779303600@www.cordovalibrary.com
SUMMARY:American Legion Meeting
DESCRIPTION:Monthly meeting of the American Legion Post 1033.
URL:https://www.cordovalibrary.com/event/american-legion-meeting/2026-05-20/
LOCATION:Cordova Library\, 402 Main Ave\, Cordova\, IL\, 61242\, United States
CATEGORIES:Adults
ORGANIZER;CN="Cordova Library":MAILTO:cfornero-green@cordovalibrary.com
END:VEVENT
BEGIN:VEVENT
DTSTART;TZID=America/Chicago:20260522T090000
DTEND;TZID=America/Chicago:20260522T093000
DTSTAMP:20260420T083246
CREATED:20240808T233504Z
LAST-MODIFIED:20251120T223457Z
UID:10000343-1779440400-1779442200@www.cordovalibrary.com
SUMMARY:Chair Exercise
DESCRIPTION:Join friends for chair exercise. Exercise is led by a DVD instructor.
URL:https://www.cordovalibrary.com/event/chair-exercise/2026-05-22/
LOCATION:Cordova Library\, 402 Main Ave\, Cordova\, IL\, 61242\, United States
CATEGORIES:Adults
ORGANIZER;CN="Cordova Library":MAILTO:cfornero-green@cordovalibrary.com
END:VEVENT
BEGIN:VEVENT
DTSTART;TZID=America/Chicago:20260522T130000
DTEND;TZID=America/Chicago:20260522T140000
DTSTAMP:20260420T083246
CREATED:20260102T155802Z
LAST-MODIFIED:20260102T155850Z
UID:10003321-1779454800-1779458400@www.cordovalibrary.com
SUMMARY:Euchre
DESCRIPTION:
URL:https://www.cordovalibrary.com/event/euchre-2/2026-05-22/
LOCATION:Cordova Library\, 402 Main Ave\, Cordova\, IL\, 61242\, United States
CATEGORIES:Adults
ORGANIZER;CN="Cordova Library":MAILTO:cfornero-green@cordovalibrary.com
END:VEVENT
BEGIN:VEVENT
DTSTART;TZID=America/Chicago:20260525T090000
DTEND;TZID=America/Chicago:20260525T093000
DTSTAMP:20260420T083246
CREATED:20240808T233504Z
LAST-MODIFIED:20251120T223457Z
UID:10000344-1779699600-1779701400@www.cordovalibrary.com
SUMMARY:Chair Exercise
DESCRIPTION:Join friends for chair exercise. Exercise is led by a DVD instructor.
URL:https://www.cordovalibrary.com/event/chair-exercise/2026-05-25/
LOCATION:Cordova Library\, 402 Main Ave\, Cordova\, IL\, 61242\, United States
CATEGORIES:Adults
ORGANIZER;CN="Cordova Library":MAILTO:cfornero-green@cordovalibrary.com
END:VEVENT
BEGIN:VEVENT
DTSTART;TZID=America/Chicago:20260526T080000
DTEND;TZID=America/Chicago:20260526T170000
DTSTAMP:20260420T083246
CREATED:20260205T163418Z
LAST-MODIFIED:20260205T163418Z
UID:10003598-1779782400-1779814800@www.cordovalibrary.com
SUMMARY:Do Your Own Thing
DESCRIPTION:Work on a project with friends! Bring a dish to pass for lunch.
URL:https://www.cordovalibrary.com/event/do-your-own-thing-2-2/2026-05-26/
LOCATION:Cordova Library\, 402 Main Ave\, Cordova\, IL\, 61242\, United States
CATEGORIES:Adults
ORGANIZER;CN="Cordova Library":MAILTO:cfornero-green@cordovalibrary.com
END:VEVENT
BEGIN:VEVENT
DTSTART;TZID=America/Chicago:20260526T160000
DTEND;TZID=America/Chicago:20260526T170000
DTSTAMP:20260420T083246
CREATED:20241104T192022Z
LAST-MODIFIED:20250903T203155Z
UID:10002606-1779811200-1779814800@www.cordovalibrary.com
SUMMARY:Crochet
DESCRIPTION:Meet friends to crochet or knit.
URL:https://www.cordovalibrary.com/event/crochet/2026-05-26/
LOCATION:Cordova Library\, 402 Main Ave\, Cordova\, IL\, 61242\, United States
CATEGORIES:Adults
ORGANIZER;CN="Cordova Library":MAILTO:cfornero-green@cordovalibrary.com
END:VEVENT
BEGIN:VEVENT
DTSTART;TZID=America/Chicago:20260527T090000
DTEND;TZID=America/Chicago:20260527T093000
DTSTAMP:20260420T083246
CREATED:20240808T233504Z
LAST-MODIFIED:20251120T223457Z
UID:10000345-1779872400-1779874200@www.cordovalibrary.com
SUMMARY:Chair Exercise
DESCRIPTION:Join friends for chair exercise. Exercise is led by a DVD instructor.
URL:https://www.cordovalibrary.com/event/chair-exercise/2026-05-27/
LOCATION:Cordova Library\, 402 Main Ave\, Cordova\, IL\, 61242\, United States
CATEGORIES:Adults
ORGANIZER;CN="Cordova Library":MAILTO:cfornero-green@cordovalibrary.com
END:VEVENT
BEGIN:VEVENT
DTSTART;TZID=America/Chicago:20260529T090000
DTEND;TZID=America/Chicago:20260529T093000
DTSTAMP:20260420T083246
CREATED:20240808T233504Z
LAST-MODIFIED:20251120T223457Z
UID:10000346-1780045200-1780047000@www.cordovalibrary.com
SUMMARY:Chair Exercise
DESCRIPTION:Join friends for chair exercise. Exercise is led by a DVD instructor.
URL:https://www.cordovalibrary.com/event/chair-exercise/2026-05-29/
LOCATION:Cordova Library\, 402 Main Ave\, Cordova\, IL\, 61242\, United States
CATEGORIES:Adults
ORGANIZER;CN="Cordova Library":MAILTO:cfornero-green@cordovalibrary.com
END:VEVENT
BEGIN:VEVENT
DTSTART;TZID=America/Chicago:20260529T130000
DTEND;TZID=America/Chicago:20260529T140000
DTSTAMP:20260420T083246
CREATED:20260102T155802Z
LAST-MODIFIED:20260102T155850Z
UID:10003322-1780059600-1780063200@www.cordovalibrary.com
SUMMARY:Euchre
DESCRIPTION:
URL:https://www.cordovalibrary.com/event/euchre-2/2026-05-29/
LOCATION:Cordova Library\, 402 Main Ave\, Cordova\, IL\, 61242\, United States
CATEGORIES:Adults
ORGANIZER;CN="Cordova Library":MAILTO:cfornero-green@cordovalibrary.com
END:VEVENT
BEGIN:VEVENT
DTSTART;TZID=America/Chicago:20260601T090000
DTEND;TZID=America/Chicago:20260601T093000
DTSTAMP:20260420T083246
CREATED:20240808T233504Z
LAST-MODIFIED:20251120T223457Z
UID:10000347-1780304400-1780306200@www.cordovalibrary.com
SUMMARY:Chair Exercise
DESCRIPTION:Join friends for chair exercise. Exercise is led by a DVD instructor.
URL:https://www.cordovalibrary.com/event/chair-exercise/2026-06-01/
LOCATION:Cordova Library\, 402 Main Ave\, Cordova\, IL\, 61242\, United States
CATEGORIES:Adults
ORGANIZER;CN="Cordova Library":MAILTO:cfornero-green@cordovalibrary.com
END:VEVENT
BEGIN:VEVENT
DTSTART;TZID=America/Chicago:20260602T100000
DTEND;TZID=America/Chicago:20260602T110000
DTSTAMP:20260420T083246
CREATED:20250903T210830Z
LAST-MODIFIED:20250903T210830Z
UID:10002931-1780394400-1780398000@www.cordovalibrary.com
SUMMARY:Book Club
DESCRIPTION:Morning book club where a variety of genres are discussed.
URL:https://www.cordovalibrary.com/event/book-club-2/2026-06-02/
LOCATION:Cordova Library\, 402 Main Ave\, Cordova\, IL\, 61242\, United States
CATEGORIES:Adults
ORGANIZER;CN="Cordova Library":MAILTO:cfornero-green@cordovalibrary.com
END:VEVENT
BEGIN:VEVENT
DTSTART;TZID=America/Chicago:20260602T160000
DTEND;TZID=America/Chicago:20260602T170000
DTSTAMP:20260420T083246
CREATED:20241104T192022Z
LAST-MODIFIED:20250903T203155Z
UID:10002607-1780416000-1780419600@www.cordovalibrary.com
SUMMARY:Crochet
DESCRIPTION:Meet friends to crochet or knit.
URL:https://www.cordovalibrary.com/event/crochet/2026-06-02/
LOCATION:Cordova Library\, 402 Main Ave\, Cordova\, IL\, 61242\, United States
CATEGORIES:Adults
ORGANIZER;CN="Cordova Library":MAILTO:cfornero-green@cordovalibrary.com
END:VEVENT
BEGIN:VEVENT
DTSTART;TZID=America/Chicago:20260603T090000
DTEND;TZID=America/Chicago:20260603T093000
DTSTAMP:20260420T083246
CREATED:20240808T233504Z
LAST-MODIFIED:20251120T223457Z
UID:10000348-1780477200-1780479000@www.cordovalibrary.com
SUMMARY:Chair Exercise
DESCRIPTION:Join friends for chair exercise. Exercise is led by a DVD instructor.
URL:https://www.cordovalibrary.com/event/chair-exercise/2026-06-03/
LOCATION:Cordova Library\, 402 Main Ave\, Cordova\, IL\, 61242\, United States
CATEGORIES:Adults
ORGANIZER;CN="Cordova Library":MAILTO:cfornero-green@cordovalibrary.com
END:VEVENT
BEGIN:VEVENT
DTSTART;TZID=America/Chicago:20260605T090000
DTEND;TZID=America/Chicago:20260605T093000
DTSTAMP:20260420T083246
CREATED:20240808T233504Z
LAST-MODIFIED:20251120T223457Z
UID:10000349-1780650000-1780651800@www.cordovalibrary.com
SUMMARY:Chair Exercise
DESCRIPTION:Join friends for chair exercise. Exercise is led by a DVD instructor.
URL:https://www.cordovalibrary.com/event/chair-exercise/2026-06-05/
LOCATION:Cordova Library\, 402 Main Ave\, Cordova\, IL\, 61242\, United States
CATEGORIES:Adults
ORGANIZER;CN="Cordova Library":MAILTO:cfornero-green@cordovalibrary.com
END:VEVENT
BEGIN:VEVENT
DTSTART;TZID=America/Chicago:20260605T130000
DTEND;TZID=America/Chicago:20260605T140000
DTSTAMP:20260420T083246
CREATED:20260102T155802Z
LAST-MODIFIED:20260102T155850Z
UID:10003323-1780664400-1780668000@www.cordovalibrary.com
SUMMARY:Euchre
DESCRIPTION:
URL:https://www.cordovalibrary.com/event/euchre-2/2026-06-05/
LOCATION:Cordova Library\, 402 Main Ave\, Cordova\, IL\, 61242\, United States
CATEGORIES:Adults
ORGANIZER;CN="Cordova Library":MAILTO:cfornero-green@cordovalibrary.com
END:VEVENT
BEGIN:VEVENT
DTSTART;TZID=America/Chicago:20260608T090000
DTEND;TZID=America/Chicago:20260608T093000
DTSTAMP:20260420T083246
CREATED:20240808T233504Z
LAST-MODIFIED:20251120T223457Z
UID:10000350-1780909200-1780911000@www.cordovalibrary.com
SUMMARY:Chair Exercise
DESCRIPTION:Join friends for chair exercise. Exercise is led by a DVD instructor.
URL:https://www.cordovalibrary.com/event/chair-exercise/2026-06-08/
LOCATION:Cordova Library\, 402 Main Ave\, Cordova\, IL\, 61242\, United States
CATEGORIES:Adults
ORGANIZER;CN="Cordova Library":MAILTO:cfornero-green@cordovalibrary.com
END:VEVENT
BEGIN:VEVENT
DTSTART;TZID=America/Chicago:20260609T160000
DTEND;TZID=America/Chicago:20260609T170000
DTSTAMP:20260420T083246
CREATED:20241104T192022Z
LAST-MODIFIED:20250903T203155Z
UID:10002608-1781020800-1781024400@www.cordovalibrary.com
SUMMARY:Crochet
DESCRIPTION:Meet friends to crochet or knit.
URL:https://www.cordovalibrary.com/event/crochet/2026-06-09/
LOCATION:Cordova Library\, 402 Main Ave\, Cordova\, IL\, 61242\, United States
CATEGORIES:Adults
ORGANIZER;CN="Cordova Library":MAILTO:cfornero-green@cordovalibrary.com
END:VEVENT
BEGIN:VEVENT
DTSTART;TZID=America/Chicago:20260610T090000
DTEND;TZID=America/Chicago:20260610T093000
DTSTAMP:20260420T083246
CREATED:20240808T233504Z
LAST-MODIFIED:20251120T223457Z
UID:10000351-1781082000-1781083800@www.cordovalibrary.com
SUMMARY:Chair Exercise
DESCRIPTION:Join friends for chair exercise. Exercise is led by a DVD instructor.
URL:https://www.cordovalibrary.com/event/chair-exercise/2026-06-10/
LOCATION:Cordova Library\, 402 Main Ave\, Cordova\, IL\, 61242\, United States
CATEGORIES:Adults
ORGANIZER;CN="Cordova Library":MAILTO:cfornero-green@cordovalibrary.com
END:VEVENT
BEGIN:VEVENT
DTSTART;TZID=America/Chicago:20260611T090000
DTEND;TZID=America/Chicago:20260611T170000
DTSTAMP:20260420T083246
CREATED:20260304T230930Z
LAST-MODIFIED:20260304T230930Z
UID:10003676-1781168400-1781197200@www.cordovalibrary.com
SUMMARY:Do Your Own Thing
DESCRIPTION:Join friends to work on crafts.
URL:https://www.cordovalibrary.com/event/do-your-own-thing-4/2026-06-11/
LOCATION:Cordova Library\, 402 Main Ave\, Cordova\, IL\, 61242\, United States
CATEGORIES:Adults
ORGANIZER;CN="Cordova Library":MAILTO:cfornero-green@cordovalibrary.com
END:VEVENT
BEGIN:VEVENT
DTSTART;TZID=America/Chicago:20260612T090000
DTEND;TZID=America/Chicago:20260612T093000
DTSTAMP:20260420T083246
CREATED:20240808T233504Z
LAST-MODIFIED:20251120T223457Z
UID:10000352-1781254800-1781256600@www.cordovalibrary.com
SUMMARY:Chair Exercise
DESCRIPTION:Join friends for chair exercise. Exercise is led by a DVD instructor.
URL:https://www.cordovalibrary.com/event/chair-exercise/2026-06-12/
LOCATION:Cordova Library\, 402 Main Ave\, Cordova\, IL\, 61242\, United States
CATEGORIES:Adults
ORGANIZER;CN="Cordova Library":MAILTO:cfornero-green@cordovalibrary.com
END:VEVENT
BEGIN:VEVENT
DTSTART;TZID=America/Chicago:20260612T130000
DTEND;TZID=America/Chicago:20260612T140000
DTSTAMP:20260420T083246
CREATED:20260102T155802Z
LAST-MODIFIED:20260102T155850Z
UID:10003324-1781269200-1781272800@www.cordovalibrary.com
SUMMARY:Euchre
DESCRIPTION:
URL:https://www.cordovalibrary.com/event/euchre-2/2026-06-12/
LOCATION:Cordova Library\, 402 Main Ave\, Cordova\, IL\, 61242\, United States
CATEGORIES:Adults
ORGANIZER;CN="Cordova Library":MAILTO:cfornero-green@cordovalibrary.com
END:VEVENT
BEGIN:VEVENT
DTSTART;TZID=America/Chicago:20260615T090000
DTEND;TZID=America/Chicago:20260615T093000
DTSTAMP:20260420T083246
CREATED:20240808T233504Z
LAST-MODIFIED:20251120T223457Z
UID:10000353-1781514000-1781515800@www.cordovalibrary.com
SUMMARY:Chair Exercise
DESCRIPTION:Join friends for chair exercise. Exercise is led by a DVD instructor.
URL:https://www.cordovalibrary.com/event/chair-exercise/2026-06-15/
LOCATION:Cordova Library\, 402 Main Ave\, Cordova\, IL\, 61242\, United States
CATEGORIES:Adults
ORGANIZER;CN="Cordova Library":MAILTO:cfornero-green@cordovalibrary.com
END:VEVENT
BEGIN:VEVENT
DTSTART;TZID=America/Chicago:20260616T160000
DTEND;TZID=America/Chicago:20260616T170000
DTSTAMP:20260420T083246
CREATED:20241104T192022Z
LAST-MODIFIED:20250903T203155Z
UID:10002609-1781625600-1781629200@www.cordovalibrary.com
SUMMARY:Crochet
DESCRIPTION:Meet friends to crochet or knit.
URL:https://www.cordovalibrary.com/event/crochet/2026-06-16/
LOCATION:Cordova Library\, 402 Main Ave\, Cordova\, IL\, 61242\, United States
CATEGORIES:Adults
ORGANIZER;CN="Cordova Library":MAILTO:cfornero-green@cordovalibrary.com
END:VEVENT
BEGIN:VEVENT
DTSTART;TZID=America/Chicago:20260617T090000
DTEND;TZID=America/Chicago:20260617T093000
DTSTAMP:20260420T083246
CREATED:20240808T233504Z
LAST-MODIFIED:20251120T223457Z
UID:10000354-1781686800-1781688600@www.cordovalibrary.com
SUMMARY:Chair Exercise
DESCRIPTION:Join friends for chair exercise. Exercise is led by a DVD instructor.
URL:https://www.cordovalibrary.com/event/chair-exercise/2026-06-17/
LOCATION:Cordova Library\, 402 Main Ave\, Cordova\, IL\, 61242\, United States
CATEGORIES:Adults
ORGANIZER;CN="Cordova Library":MAILTO:cfornero-green@cordovalibrary.com
END:VEVENT
BEGIN:VEVENT
DTSTART;TZID=America/Chicago:20260617T180000
DTEND;TZID=America/Chicago:20260617T190000
DTSTAMP:20260420T083246
CREATED:20240809T003445Z
LAST-MODIFIED:20240809T003556Z
UID:10001510-1781719200-1781722800@www.cordovalibrary.com
SUMMARY:American Legion Meeting
DESCRIPTION:Monthly meeting of the American Legion Post 1033.
URL:https://www.cordovalibrary.com/event/american-legion-meeting/2026-06-17/
LOCATION:Cordova Library\, 402 Main Ave\, Cordova\, IL\, 61242\, United States
CATEGORIES:Adults
ORGANIZER;CN="Cordova Library":MAILTO:cfornero-green@cordovalibrary.com
END:VEVENT
BEGIN:VEVENT
DTSTART;TZID=America/Chicago:20260619T090000
DTEND;TZID=America/Chicago:20260619T093000
DTSTAMP:20260420T083246
CREATED:20240808T233504Z
LAST-MODIFIED:20251120T223457Z
UID:10000355-1781859600-1781861400@www.cordovalibrary.com
SUMMARY:Chair Exercise
DESCRIPTION:Join friends for chair exercise. Exercise is led by a DVD instructor.
URL:https://www.cordovalibrary.com/event/chair-exercise/2026-06-19/
LOCATION:Cordova Library\, 402 Main Ave\, Cordova\, IL\, 61242\, United States
CATEGORIES:Adults
ORGANIZER;CN="Cordova Library":MAILTO:cfornero-green@cordovalibrary.com
END:VEVENT
BEGIN:VEVENT
DTSTART;TZID=America/Chicago:20260619T130000
DTEND;TZID=America/Chicago:20260619T140000
DTSTAMP:20260420T083246
CREATED:20260102T155802Z
LAST-MODIFIED:20260102T155850Z
UID:10003325-1781874000-1781877600@www.cordovalibrary.com
SUMMARY:Euchre
DESCRIPTION:
URL:https://www.cordovalibrary.com/event/euchre-2/2026-06-19/
LOCATION:Cordova Library\, 402 Main Ave\, Cordova\, IL\, 61242\, United States
CATEGORIES:Adults
ORGANIZER;CN="Cordova Library":MAILTO:cfornero-green@cordovalibrary.com
END:VEVENT
BEGIN:VEVENT
DTSTART;TZID=America/Chicago:20260622T090000
DTEND;TZID=America/Chicago:20260622T093000
DTSTAMP:20260420T083246
CREATED:20240808T233504Z
LAST-MODIFIED:20251120T223457Z
UID:10000356-1782118800-1782120600@www.cordovalibrary.com
SUMMARY:Chair Exercise
DESCRIPTION:Join friends for chair exercise. Exercise is led by a DVD instructor.
URL:https://www.cordovalibrary.com/event/chair-exercise/2026-06-22/
LOCATION:Cordova Library\, 402 Main Ave\, Cordova\, IL\, 61242\, United States
CATEGORIES:Adults
ORGANIZER;CN="Cordova Library":MAILTO:cfornero-green@cordovalibrary.com
END:VEVENT
END:VCALENDAR