BEGIN:VCALENDAR
VERSION:2.0
PRODID:-//Cordova District Library - ECPv6.15.20//NONSGML v1.0//EN
CALSCALE:GREGORIAN
METHOD:PUBLISH
X-ORIGINAL-URL:https://www.cordovalibrary.com
X-WR-CALDESC:Events for Cordova District Library
REFRESH-INTERVAL;VALUE=DURATION:PT1H
X-Robots-Tag:noindex
X-PUBLISHED-TTL:PT1H
BEGIN:VTIMEZONE
TZID:America/Chicago
BEGIN:DAYLIGHT
TZOFFSETFROM:-0600
TZOFFSETTO:-0500
TZNAME:CDT
DTSTART:20290311T080000
END:DAYLIGHT
BEGIN:STANDARD
TZOFFSETFROM:-0500
TZOFFSETTO:-0600
TZNAME:CST
DTSTART:20291104T070000
END:STANDARD
BEGIN:DAYLIGHT
TZOFFSETFROM:-0600
TZOFFSETTO:-0500
TZNAME:CDT
DTSTART:20300310T080000
END:DAYLIGHT
BEGIN:STANDARD
TZOFFSETFROM:-0500
TZOFFSETTO:-0600
TZNAME:CST
DTSTART:20301103T070000
END:STANDARD
BEGIN:DAYLIGHT
TZOFFSETFROM:-0600
TZOFFSETTO:-0500
TZNAME:CDT
DTSTART:20310309T080000
END:DAYLIGHT
BEGIN:STANDARD
TZOFFSETFROM:-0500
TZOFFSETTO:-0600
TZNAME:CST
DTSTART:20311102T070000
END:STANDARD
END:VTIMEZONE
BEGIN:VEVENT
DTSTART;TZID=America/Chicago:20300701T090000
DTEND;TZID=America/Chicago:20300701T093000
DTSTAMP:20260424T173253
CREATED:20240808T233504Z
LAST-MODIFIED:20251120T223457Z
UID:10003165-1909126800-1909128600@www.cordovalibrary.com
SUMMARY:Chair Exercise
DESCRIPTION:Join friends for chair exercise. Exercise is led by a DVD instructor.
URL:https://www.cordovalibrary.com/event/chair-exercise/2030-07-01/
LOCATION:Cordova Library\, 402 Main Ave\, Cordova\, IL\, 61242\, United States
CATEGORIES:Adults
ORGANIZER;CN="Cordova Library":MAILTO:cfornero-green@cordovalibrary.com
END:VEVENT
BEGIN:VEVENT
DTSTART;TZID=America/Chicago:20300702T100000
DTEND;TZID=America/Chicago:20300702T110000
DTSTAMP:20260424T173253
CREATED:20250903T210830Z
LAST-MODIFIED:20250903T210830Z
UID:10002980-1909216800-1909220400@www.cordovalibrary.com
SUMMARY:Book Club
DESCRIPTION:Morning book club where a variety of genres are discussed.
URL:https://www.cordovalibrary.com/event/book-club-2/2030-07-02/
LOCATION:Cordova Library\, 402 Main Ave\, Cordova\, IL\, 61242\, United States
CATEGORIES:Adults
ORGANIZER;CN="Cordova Library":MAILTO:cfornero-green@cordovalibrary.com
END:VEVENT
BEGIN:VEVENT
DTSTART;TZID=America/Chicago:20300702T160000
DTEND;TZID=America/Chicago:20300702T170000
DTSTAMP:20260424T173253
CREATED:20241104T192022Z
LAST-MODIFIED:20250903T203155Z
UID:10002820-1909238400-1909242000@www.cordovalibrary.com
SUMMARY:Crochet
DESCRIPTION:Meet friends to crochet or knit.
URL:https://www.cordovalibrary.com/event/crochet/2030-07-02/
LOCATION:Cordova Library\, 402 Main Ave\, Cordova\, IL\, 61242\, United States
CATEGORIES:Adults
ORGANIZER;CN="Cordova Library":MAILTO:cfornero-green@cordovalibrary.com
END:VEVENT
BEGIN:VEVENT
DTSTART;TZID=America/Chicago:20300703T090000
DTEND;TZID=America/Chicago:20300703T093000
DTSTAMP:20260424T173253
CREATED:20240808T233504Z
LAST-MODIFIED:20251120T223457Z
UID:10003166-1909299600-1909301400@www.cordovalibrary.com
SUMMARY:Chair Exercise
DESCRIPTION:Join friends for chair exercise. Exercise is led by a DVD instructor.
URL:https://www.cordovalibrary.com/event/chair-exercise/2030-07-03/
LOCATION:Cordova Library\, 402 Main Ave\, Cordova\, IL\, 61242\, United States
CATEGORIES:Adults
ORGANIZER;CN="Cordova Library":MAILTO:cfornero-green@cordovalibrary.com
END:VEVENT
BEGIN:VEVENT
DTSTART;TZID=America/Chicago:20300705T090000
DTEND;TZID=America/Chicago:20300705T093000
DTSTAMP:20260424T173253
CREATED:20240808T233504Z
LAST-MODIFIED:20251120T223457Z
UID:10003167-1909472400-1909474200@www.cordovalibrary.com
SUMMARY:Chair Exercise
DESCRIPTION:Join friends for chair exercise. Exercise is led by a DVD instructor.
URL:https://www.cordovalibrary.com/event/chair-exercise/2030-07-05/
LOCATION:Cordova Library\, 402 Main Ave\, Cordova\, IL\, 61242\, United States
CATEGORIES:Adults
ORGANIZER;CN="Cordova Library":MAILTO:cfornero-green@cordovalibrary.com
END:VEVENT
BEGIN:VEVENT
DTSTART;TZID=America/Chicago:20300708T090000
DTEND;TZID=America/Chicago:20300708T093000
DTSTAMP:20260424T173253
CREATED:20240808T233504Z
LAST-MODIFIED:20251120T223457Z
UID:10003168-1909731600-1909733400@www.cordovalibrary.com
SUMMARY:Chair Exercise
DESCRIPTION:Join friends for chair exercise. Exercise is led by a DVD instructor.
URL:https://www.cordovalibrary.com/event/chair-exercise/2030-07-08/
LOCATION:Cordova Library\, 402 Main Ave\, Cordova\, IL\, 61242\, United States
CATEGORIES:Adults
ORGANIZER;CN="Cordova Library":MAILTO:cfornero-green@cordovalibrary.com
END:VEVENT
BEGIN:VEVENT
DTSTART;TZID=America/Chicago:20300709T160000
DTEND;TZID=America/Chicago:20300709T170000
DTSTAMP:20260424T173253
CREATED:20241104T192022Z
LAST-MODIFIED:20250903T203155Z
UID:10002821-1909843200-1909846800@www.cordovalibrary.com
SUMMARY:Crochet
DESCRIPTION:Meet friends to crochet or knit.
URL:https://www.cordovalibrary.com/event/crochet/2030-07-09/
LOCATION:Cordova Library\, 402 Main Ave\, Cordova\, IL\, 61242\, United States
CATEGORIES:Adults
ORGANIZER;CN="Cordova Library":MAILTO:cfornero-green@cordovalibrary.com
END:VEVENT
BEGIN:VEVENT
DTSTART;TZID=America/Chicago:20300710T090000
DTEND;TZID=America/Chicago:20300710T093000
DTSTAMP:20260424T173253
CREATED:20240808T233504Z
LAST-MODIFIED:20251120T223457Z
UID:10003169-1909904400-1909906200@www.cordovalibrary.com
SUMMARY:Chair Exercise
DESCRIPTION:Join friends for chair exercise. Exercise is led by a DVD instructor.
URL:https://www.cordovalibrary.com/event/chair-exercise/2030-07-10/
LOCATION:Cordova Library\, 402 Main Ave\, Cordova\, IL\, 61242\, United States
CATEGORIES:Adults
ORGANIZER;CN="Cordova Library":MAILTO:cfornero-green@cordovalibrary.com
END:VEVENT
BEGIN:VEVENT
DTSTART;TZID=America/Chicago:20300711T090000
DTEND;TZID=America/Chicago:20300711T170000
DTSTAMP:20260424T173253
CREATED:20260304T230930Z
LAST-MODIFIED:20260304T230930Z
UID:10003725-1909990800-1910019600@www.cordovalibrary.com
SUMMARY:Do Your Own Thing
DESCRIPTION:Join friends to work on crafts.
URL:https://www.cordovalibrary.com/event/do-your-own-thing-4/2030-07-11/
LOCATION:Cordova Library\, 402 Main Ave\, Cordova\, IL\, 61242\, United States
CATEGORIES:Adults
ORGANIZER;CN="Cordova Library":MAILTO:cfornero-green@cordovalibrary.com
END:VEVENT
BEGIN:VEVENT
DTSTART;TZID=America/Chicago:20300712T090000
DTEND;TZID=America/Chicago:20300712T093000
DTSTAMP:20260424T173253
CREATED:20240808T233504Z
LAST-MODIFIED:20251120T223457Z
UID:10003170-1910077200-1910079000@www.cordovalibrary.com
SUMMARY:Chair Exercise
DESCRIPTION:Join friends for chair exercise. Exercise is led by a DVD instructor.
URL:https://www.cordovalibrary.com/event/chair-exercise/2030-07-12/
LOCATION:Cordova Library\, 402 Main Ave\, Cordova\, IL\, 61242\, United States
CATEGORIES:Adults
ORGANIZER;CN="Cordova Library":MAILTO:cfornero-green@cordovalibrary.com
END:VEVENT
BEGIN:VEVENT
DTSTART;TZID=America/Chicago:20300715T090000
DTEND;TZID=America/Chicago:20300715T093000
DTSTAMP:20260424T173253
CREATED:20240808T233504Z
LAST-MODIFIED:20251120T223457Z
UID:10003171-1910336400-1910338200@www.cordovalibrary.com
SUMMARY:Chair Exercise
DESCRIPTION:Join friends for chair exercise. Exercise is led by a DVD instructor.
URL:https://www.cordovalibrary.com/event/chair-exercise/2030-07-15/
LOCATION:Cordova Library\, 402 Main Ave\, Cordova\, IL\, 61242\, United States
CATEGORIES:Adults
ORGANIZER;CN="Cordova Library":MAILTO:cfornero-green@cordovalibrary.com
END:VEVENT
BEGIN:VEVENT
DTSTART;TZID=America/Chicago:20300716T160000
DTEND;TZID=America/Chicago:20300716T170000
DTSTAMP:20260424T173253
CREATED:20241104T192022Z
LAST-MODIFIED:20250903T203155Z
UID:10002822-1910448000-1910451600@www.cordovalibrary.com
SUMMARY:Crochet
DESCRIPTION:Meet friends to crochet or knit.
URL:https://www.cordovalibrary.com/event/crochet/2030-07-16/
LOCATION:Cordova Library\, 402 Main Ave\, Cordova\, IL\, 61242\, United States
CATEGORIES:Adults
ORGANIZER;CN="Cordova Library":MAILTO:cfornero-green@cordovalibrary.com
END:VEVENT
BEGIN:VEVENT
DTSTART;TZID=America/Chicago:20300717T090000
DTEND;TZID=America/Chicago:20300717T093000
DTSTAMP:20260424T173253
CREATED:20240808T233504Z
LAST-MODIFIED:20251120T223457Z
UID:10003172-1910509200-1910511000@www.cordovalibrary.com
SUMMARY:Chair Exercise
DESCRIPTION:Join friends for chair exercise. Exercise is led by a DVD instructor.
URL:https://www.cordovalibrary.com/event/chair-exercise/2030-07-17/
LOCATION:Cordova Library\, 402 Main Ave\, Cordova\, IL\, 61242\, United States
CATEGORIES:Adults
ORGANIZER;CN="Cordova Library":MAILTO:cfornero-green@cordovalibrary.com
END:VEVENT
BEGIN:VEVENT
DTSTART;TZID=America/Chicago:20300719T090000
DTEND;TZID=America/Chicago:20300719T093000
DTSTAMP:20260424T173253
CREATED:20240808T233504Z
LAST-MODIFIED:20251120T223457Z
UID:10003173-1910682000-1910683800@www.cordovalibrary.com
SUMMARY:Chair Exercise
DESCRIPTION:Join friends for chair exercise. Exercise is led by a DVD instructor.
URL:https://www.cordovalibrary.com/event/chair-exercise/2030-07-19/
LOCATION:Cordova Library\, 402 Main Ave\, Cordova\, IL\, 61242\, United States
CATEGORIES:Adults
ORGANIZER;CN="Cordova Library":MAILTO:cfornero-green@cordovalibrary.com
END:VEVENT
BEGIN:VEVENT
DTSTART;TZID=America/Chicago:20300722T090000
DTEND;TZID=America/Chicago:20300722T093000
DTSTAMP:20260424T173253
CREATED:20240808T233504Z
LAST-MODIFIED:20251120T223457Z
UID:10003174-1910941200-1910943000@www.cordovalibrary.com
SUMMARY:Chair Exercise
DESCRIPTION:Join friends for chair exercise. Exercise is led by a DVD instructor.
URL:https://www.cordovalibrary.com/event/chair-exercise/2030-07-22/
LOCATION:Cordova Library\, 402 Main Ave\, Cordova\, IL\, 61242\, United States
CATEGORIES:Adults
ORGANIZER;CN="Cordova Library":MAILTO:cfornero-green@cordovalibrary.com
END:VEVENT
BEGIN:VEVENT
DTSTART;TZID=America/Chicago:20300723T160000
DTEND;TZID=America/Chicago:20300723T170000
DTSTAMP:20260424T173253
CREATED:20241104T192022Z
LAST-MODIFIED:20250903T203155Z
UID:10002823-1911052800-1911056400@www.cordovalibrary.com
SUMMARY:Crochet
DESCRIPTION:Meet friends to crochet or knit.
URL:https://www.cordovalibrary.com/event/crochet/2030-07-23/
LOCATION:Cordova Library\, 402 Main Ave\, Cordova\, IL\, 61242\, United States
CATEGORIES:Adults
ORGANIZER;CN="Cordova Library":MAILTO:cfornero-green@cordovalibrary.com
END:VEVENT
BEGIN:VEVENT
DTSTART;TZID=America/Chicago:20300724T090000
DTEND;TZID=America/Chicago:20300724T093000
DTSTAMP:20260424T173253
CREATED:20240808T233504Z
LAST-MODIFIED:20251120T223457Z
UID:10003175-1911114000-1911115800@www.cordovalibrary.com
SUMMARY:Chair Exercise
DESCRIPTION:Join friends for chair exercise. Exercise is led by a DVD instructor.
URL:https://www.cordovalibrary.com/event/chair-exercise/2030-07-24/
LOCATION:Cordova Library\, 402 Main Ave\, Cordova\, IL\, 61242\, United States
CATEGORIES:Adults
ORGANIZER;CN="Cordova Library":MAILTO:cfornero-green@cordovalibrary.com
END:VEVENT
BEGIN:VEVENT
DTSTART;TZID=America/Chicago:20300726T090000
DTEND;TZID=America/Chicago:20300726T093000
DTSTAMP:20260424T173253
CREATED:20240808T233504Z
LAST-MODIFIED:20251120T223457Z
UID:10003176-1911286800-1911288600@www.cordovalibrary.com
SUMMARY:Chair Exercise
DESCRIPTION:Join friends for chair exercise. Exercise is led by a DVD instructor.
URL:https://www.cordovalibrary.com/event/chair-exercise/2030-07-26/
LOCATION:Cordova Library\, 402 Main Ave\, Cordova\, IL\, 61242\, United States
CATEGORIES:Adults
ORGANIZER;CN="Cordova Library":MAILTO:cfornero-green@cordovalibrary.com
END:VEVENT
BEGIN:VEVENT
DTSTART;TZID=America/Chicago:20300729T090000
DTEND;TZID=America/Chicago:20300729T093000
DTSTAMP:20260424T173253
CREATED:20240808T233504Z
LAST-MODIFIED:20251120T223457Z
UID:10003177-1911546000-1911547800@www.cordovalibrary.com
SUMMARY:Chair Exercise
DESCRIPTION:Join friends for chair exercise. Exercise is led by a DVD instructor.
URL:https://www.cordovalibrary.com/event/chair-exercise/2030-07-29/
LOCATION:Cordova Library\, 402 Main Ave\, Cordova\, IL\, 61242\, United States
CATEGORIES:Adults
ORGANIZER;CN="Cordova Library":MAILTO:cfornero-green@cordovalibrary.com
END:VEVENT
BEGIN:VEVENT
DTSTART;TZID=America/Chicago:20300730T080000
DTEND;TZID=America/Chicago:20300730T170000
DTSTAMP:20260424T173253
CREATED:20260205T163418Z
LAST-MODIFIED:20260205T163418Z
UID:10003648-1911628800-1911661200@www.cordovalibrary.com
SUMMARY:Do Your Own Thing
DESCRIPTION:Work on a project with friends! Bring a dish to pass for lunch.
URL:https://www.cordovalibrary.com/event/do-your-own-thing-2-2/2030-07-30/
LOCATION:Cordova Library\, 402 Main Ave\, Cordova\, IL\, 61242\, United States
CATEGORIES:Adults
ORGANIZER;CN="Cordova Library":MAILTO:cfornero-green@cordovalibrary.com
END:VEVENT
BEGIN:VEVENT
DTSTART;TZID=America/Chicago:20300730T160000
DTEND;TZID=America/Chicago:20300730T170000
DTSTAMP:20260424T173253
CREATED:20241104T192022Z
LAST-MODIFIED:20250903T203155Z
UID:10002824-1911657600-1911661200@www.cordovalibrary.com
SUMMARY:Crochet
DESCRIPTION:Meet friends to crochet or knit.
URL:https://www.cordovalibrary.com/event/crochet/2030-07-30/
LOCATION:Cordova Library\, 402 Main Ave\, Cordova\, IL\, 61242\, United States
CATEGORIES:Adults
ORGANIZER;CN="Cordova Library":MAILTO:cfornero-green@cordovalibrary.com
END:VEVENT
BEGIN:VEVENT
DTSTART;TZID=America/Chicago:20300731T090000
DTEND;TZID=America/Chicago:20300731T093000
DTSTAMP:20260424T173253
CREATED:20240808T233504Z
LAST-MODIFIED:20251120T223457Z
UID:10003178-1911718800-1911720600@www.cordovalibrary.com
SUMMARY:Chair Exercise
DESCRIPTION:Join friends for chair exercise. Exercise is led by a DVD instructor.
URL:https://www.cordovalibrary.com/event/chair-exercise/2030-07-31/
LOCATION:Cordova Library\, 402 Main Ave\, Cordova\, IL\, 61242\, United States
CATEGORIES:Adults
ORGANIZER;CN="Cordova Library":MAILTO:cfornero-green@cordovalibrary.com
END:VEVENT
END:VCALENDAR