BEGIN:VCALENDAR
VERSION:2.0
PRODID:-//Cordova District Library - ECPv6.15.20//NONSGML v1.0//EN
CALSCALE:GREGORIAN
METHOD:PUBLISH
X-WR-CALNAME:Cordova District Library
X-ORIGINAL-URL:https://www.cordovalibrary.com
X-WR-CALDESC:Events for Cordova District Library
REFRESH-INTERVAL;VALUE=DURATION:PT1H
X-Robots-Tag:noindex
X-PUBLISHED-TTL:PT1H
BEGIN:VTIMEZONE
TZID:America/Chicago
BEGIN:DAYLIGHT
TZOFFSETFROM:-0600
TZOFFSETTO:-0500
TZNAME:CDT
DTSTART:20290311T080000
END:DAYLIGHT
BEGIN:STANDARD
TZOFFSETFROM:-0500
TZOFFSETTO:-0600
TZNAME:CST
DTSTART:20291104T070000
END:STANDARD
BEGIN:DAYLIGHT
TZOFFSETFROM:-0600
TZOFFSETTO:-0500
TZNAME:CDT
DTSTART:20300310T080000
END:DAYLIGHT
BEGIN:STANDARD
TZOFFSETFROM:-0500
TZOFFSETTO:-0600
TZNAME:CST
DTSTART:20301103T070000
END:STANDARD
BEGIN:DAYLIGHT
TZOFFSETFROM:-0600
TZOFFSETTO:-0500
TZNAME:CDT
DTSTART:20310309T080000
END:DAYLIGHT
BEGIN:STANDARD
TZOFFSETFROM:-0500
TZOFFSETTO:-0600
TZNAME:CST
DTSTART:20311102T070000
END:STANDARD
END:VTIMEZONE
BEGIN:VEVENT
DTSTART;TZID=America/Chicago:20300301T090000
DTEND;TZID=America/Chicago:20300301T093000
DTSTAMP:20260424T121315
CREATED:20240808T233504Z
LAST-MODIFIED:20251120T223457Z
UID:10002314-1898586000-1898587800@www.cordovalibrary.com
SUMMARY:Chair Exercise
DESCRIPTION:Join friends for chair exercise. Exercise is led by a DVD instructor.
URL:https://www.cordovalibrary.com/event/chair-exercise/2030-03-01/
LOCATION:Cordova Library\, 402 Main Ave\, Cordova\, IL\, 61242\, United States
CATEGORIES:Adults
ORGANIZER;CN="Cordova Library":MAILTO:cfornero-green@cordovalibrary.com
END:VEVENT
BEGIN:VEVENT
DTSTART;TZID=America/Chicago:20300304T090000
DTEND;TZID=America/Chicago:20300304T093000
DTSTAMP:20260424T121315
CREATED:20240808T233504Z
LAST-MODIFIED:20251120T223457Z
UID:10002315-1898845200-1898847000@www.cordovalibrary.com
SUMMARY:Chair Exercise
DESCRIPTION:Join friends for chair exercise. Exercise is led by a DVD instructor.
URL:https://www.cordovalibrary.com/event/chair-exercise/2030-03-04/
LOCATION:Cordova Library\, 402 Main Ave\, Cordova\, IL\, 61242\, United States
CATEGORIES:Adults
ORGANIZER;CN="Cordova Library":MAILTO:cfornero-green@cordovalibrary.com
END:VEVENT
BEGIN:VEVENT
DTSTART;TZID=America/Chicago:20300305T100000
DTEND;TZID=America/Chicago:20300305T110000
DTSTAMP:20260424T121315
CREATED:20250903T210830Z
LAST-MODIFIED:20250903T210830Z
UID:10002976-1898935200-1898938800@www.cordovalibrary.com
SUMMARY:Book Club
DESCRIPTION:Morning book club where a variety of genres are discussed.
URL:https://www.cordovalibrary.com/event/book-club-2/2030-03-05/
LOCATION:Cordova Library\, 402 Main Ave\, Cordova\, IL\, 61242\, United States
CATEGORIES:Adults
ORGANIZER;CN="Cordova Library":MAILTO:cfornero-green@cordovalibrary.com
END:VEVENT
BEGIN:VEVENT
DTSTART;TZID=America/Chicago:20300305T160000
DTEND;TZID=America/Chicago:20300305T170000
DTSTAMP:20260424T121315
CREATED:20241104T192022Z
LAST-MODIFIED:20250903T203155Z
UID:10002803-1898956800-1898960400@www.cordovalibrary.com
SUMMARY:Crochet
DESCRIPTION:Meet friends to crochet or knit.
URL:https://www.cordovalibrary.com/event/crochet/2030-03-05/
LOCATION:Cordova Library\, 402 Main Ave\, Cordova\, IL\, 61242\, United States
CATEGORIES:Adults
ORGANIZER;CN="Cordova Library":MAILTO:cfornero-green@cordovalibrary.com
END:VEVENT
BEGIN:VEVENT
DTSTART;TZID=America/Chicago:20300306T090000
DTEND;TZID=America/Chicago:20300306T093000
DTSTAMP:20260424T121315
CREATED:20240808T233504Z
LAST-MODIFIED:20251120T223457Z
UID:10002316-1899018000-1899019800@www.cordovalibrary.com
SUMMARY:Chair Exercise
DESCRIPTION:Join friends for chair exercise. Exercise is led by a DVD instructor.
URL:https://www.cordovalibrary.com/event/chair-exercise/2030-03-06/
LOCATION:Cordova Library\, 402 Main Ave\, Cordova\, IL\, 61242\, United States
CATEGORIES:Adults
ORGANIZER;CN="Cordova Library":MAILTO:cfornero-green@cordovalibrary.com
END:VEVENT
BEGIN:VEVENT
DTSTART;TZID=America/Chicago:20300308T090000
DTEND;TZID=America/Chicago:20300308T093000
DTSTAMP:20260424T121315
CREATED:20240808T233504Z
LAST-MODIFIED:20251120T223457Z
UID:10002317-1899190800-1899192600@www.cordovalibrary.com
SUMMARY:Chair Exercise
DESCRIPTION:Join friends for chair exercise. Exercise is led by a DVD instructor.
URL:https://www.cordovalibrary.com/event/chair-exercise/2030-03-08/
LOCATION:Cordova Library\, 402 Main Ave\, Cordova\, IL\, 61242\, United States
CATEGORIES:Adults
ORGANIZER;CN="Cordova Library":MAILTO:cfornero-green@cordovalibrary.com
END:VEVENT
BEGIN:VEVENT
DTSTART;TZID=America/Chicago:20300311T090000
DTEND;TZID=America/Chicago:20300311T093000
DTSTAMP:20260424T121315
CREATED:20240808T233504Z
LAST-MODIFIED:20251120T223457Z
UID:10002318-1899450000-1899451800@www.cordovalibrary.com
SUMMARY:Chair Exercise
DESCRIPTION:Join friends for chair exercise. Exercise is led by a DVD instructor.
URL:https://www.cordovalibrary.com/event/chair-exercise/2030-03-11/
LOCATION:Cordova Library\, 402 Main Ave\, Cordova\, IL\, 61242\, United States
CATEGORIES:Adults
ORGANIZER;CN="Cordova Library":MAILTO:cfornero-green@cordovalibrary.com
END:VEVENT
BEGIN:VEVENT
DTSTART;TZID=America/Chicago:20300312T160000
DTEND;TZID=America/Chicago:20300312T170000
DTSTAMP:20260424T121315
CREATED:20241104T192022Z
LAST-MODIFIED:20250903T203155Z
UID:10002804-1899561600-1899565200@www.cordovalibrary.com
SUMMARY:Crochet
DESCRIPTION:Meet friends to crochet or knit.
URL:https://www.cordovalibrary.com/event/crochet/2030-03-12/
LOCATION:Cordova Library\, 402 Main Ave\, Cordova\, IL\, 61242\, United States
CATEGORIES:Adults
ORGANIZER;CN="Cordova Library":MAILTO:cfornero-green@cordovalibrary.com
END:VEVENT
BEGIN:VEVENT
DTSTART;TZID=America/Chicago:20300313T090000
DTEND;TZID=America/Chicago:20300313T093000
DTSTAMP:20260424T121315
CREATED:20240808T233504Z
LAST-MODIFIED:20251120T223457Z
UID:10002319-1899622800-1899624600@www.cordovalibrary.com
SUMMARY:Chair Exercise
DESCRIPTION:Join friends for chair exercise. Exercise is led by a DVD instructor.
URL:https://www.cordovalibrary.com/event/chair-exercise/2030-03-13/
LOCATION:Cordova Library\, 402 Main Ave\, Cordova\, IL\, 61242\, United States
CATEGORIES:Adults
ORGANIZER;CN="Cordova Library":MAILTO:cfornero-green@cordovalibrary.com
END:VEVENT
BEGIN:VEVENT
DTSTART;TZID=America/Chicago:20300314T090000
DTEND;TZID=America/Chicago:20300314T170000
DTSTAMP:20260424T121315
CREATED:20260304T230930Z
LAST-MODIFIED:20260304T230930Z
UID:10003721-1899709200-1899738000@www.cordovalibrary.com
SUMMARY:Do Your Own Thing
DESCRIPTION:Join friends to work on crafts.
URL:https://www.cordovalibrary.com/event/do-your-own-thing-4/2030-03-14/
LOCATION:Cordova Library\, 402 Main Ave\, Cordova\, IL\, 61242\, United States
CATEGORIES:Adults
ORGANIZER;CN="Cordova Library":MAILTO:cfornero-green@cordovalibrary.com
END:VEVENT
BEGIN:VEVENT
DTSTART;TZID=America/Chicago:20300315T090000
DTEND;TZID=America/Chicago:20300315T093000
DTSTAMP:20260424T121315
CREATED:20240808T233504Z
LAST-MODIFIED:20251120T223457Z
UID:10002320-1899795600-1899797400@www.cordovalibrary.com
SUMMARY:Chair Exercise
DESCRIPTION:Join friends for chair exercise. Exercise is led by a DVD instructor.
URL:https://www.cordovalibrary.com/event/chair-exercise/2030-03-15/
LOCATION:Cordova Library\, 402 Main Ave\, Cordova\, IL\, 61242\, United States
CATEGORIES:Adults
ORGANIZER;CN="Cordova Library":MAILTO:cfornero-green@cordovalibrary.com
END:VEVENT
BEGIN:VEVENT
DTSTART;TZID=America/Chicago:20300318T090000
DTEND;TZID=America/Chicago:20300318T093000
DTSTAMP:20260424T121315
CREATED:20240808T233504Z
LAST-MODIFIED:20251120T223457Z
UID:10002321-1900054800-1900056600@www.cordovalibrary.com
SUMMARY:Chair Exercise
DESCRIPTION:Join friends for chair exercise. Exercise is led by a DVD instructor.
URL:https://www.cordovalibrary.com/event/chair-exercise/2030-03-18/
LOCATION:Cordova Library\, 402 Main Ave\, Cordova\, IL\, 61242\, United States
CATEGORIES:Adults
ORGANIZER;CN="Cordova Library":MAILTO:cfornero-green@cordovalibrary.com
END:VEVENT
BEGIN:VEVENT
DTSTART;TZID=America/Chicago:20300319T160000
DTEND;TZID=America/Chicago:20300319T170000
DTSTAMP:20260424T121315
CREATED:20241104T192022Z
LAST-MODIFIED:20250903T203155Z
UID:10002805-1900166400-1900170000@www.cordovalibrary.com
SUMMARY:Crochet
DESCRIPTION:Meet friends to crochet or knit.
URL:https://www.cordovalibrary.com/event/crochet/2030-03-19/
LOCATION:Cordova Library\, 402 Main Ave\, Cordova\, IL\, 61242\, United States
CATEGORIES:Adults
ORGANIZER;CN="Cordova Library":MAILTO:cfornero-green@cordovalibrary.com
END:VEVENT
BEGIN:VEVENT
DTSTART;TZID=America/Chicago:20300320T090000
DTEND;TZID=America/Chicago:20300320T093000
DTSTAMP:20260424T121315
CREATED:20240808T233504Z
LAST-MODIFIED:20251120T223457Z
UID:10002322-1900227600-1900229400@www.cordovalibrary.com
SUMMARY:Chair Exercise
DESCRIPTION:Join friends for chair exercise. Exercise is led by a DVD instructor.
URL:https://www.cordovalibrary.com/event/chair-exercise/2030-03-20/
LOCATION:Cordova Library\, 402 Main Ave\, Cordova\, IL\, 61242\, United States
CATEGORIES:Adults
ORGANIZER;CN="Cordova Library":MAILTO:cfornero-green@cordovalibrary.com
END:VEVENT
BEGIN:VEVENT
DTSTART;TZID=America/Chicago:20300322T090000
DTEND;TZID=America/Chicago:20300322T093000
DTSTAMP:20260424T121315
CREATED:20240808T233504Z
LAST-MODIFIED:20251120T223457Z
UID:10002323-1900400400-1900402200@www.cordovalibrary.com
SUMMARY:Chair Exercise
DESCRIPTION:Join friends for chair exercise. Exercise is led by a DVD instructor.
URL:https://www.cordovalibrary.com/event/chair-exercise/2030-03-22/
LOCATION:Cordova Library\, 402 Main Ave\, Cordova\, IL\, 61242\, United States
CATEGORIES:Adults
ORGANIZER;CN="Cordova Library":MAILTO:cfornero-green@cordovalibrary.com
END:VEVENT
BEGIN:VEVENT
DTSTART;TZID=America/Chicago:20300325T090000
DTEND;TZID=America/Chicago:20300325T093000
DTSTAMP:20260424T121315
CREATED:20240808T233504Z
LAST-MODIFIED:20251120T223457Z
UID:10002324-1900659600-1900661400@www.cordovalibrary.com
SUMMARY:Chair Exercise
DESCRIPTION:Join friends for chair exercise. Exercise is led by a DVD instructor.
URL:https://www.cordovalibrary.com/event/chair-exercise/2030-03-25/
LOCATION:Cordova Library\, 402 Main Ave\, Cordova\, IL\, 61242\, United States
CATEGORIES:Adults
ORGANIZER;CN="Cordova Library":MAILTO:cfornero-green@cordovalibrary.com
END:VEVENT
BEGIN:VEVENT
DTSTART;TZID=America/Chicago:20300326T080000
DTEND;TZID=America/Chicago:20300326T170000
DTSTAMP:20260424T121315
CREATED:20260205T163418Z
LAST-MODIFIED:20260205T163418Z
UID:10003644-1900742400-1900774800@www.cordovalibrary.com
SUMMARY:Do Your Own Thing
DESCRIPTION:Work on a project with friends! Bring a dish to pass for lunch.
URL:https://www.cordovalibrary.com/event/do-your-own-thing-2-2/2030-03-26/
LOCATION:Cordova Library\, 402 Main Ave\, Cordova\, IL\, 61242\, United States
CATEGORIES:Adults
ORGANIZER;CN="Cordova Library":MAILTO:cfornero-green@cordovalibrary.com
END:VEVENT
BEGIN:VEVENT
DTSTART;TZID=America/Chicago:20300326T160000
DTEND;TZID=America/Chicago:20300326T170000
DTSTAMP:20260424T121315
CREATED:20241104T192022Z
LAST-MODIFIED:20250903T203155Z
UID:10002806-1900771200-1900774800@www.cordovalibrary.com
SUMMARY:Crochet
DESCRIPTION:Meet friends to crochet or knit.
URL:https://www.cordovalibrary.com/event/crochet/2030-03-26/
LOCATION:Cordova Library\, 402 Main Ave\, Cordova\, IL\, 61242\, United States
CATEGORIES:Adults
ORGANIZER;CN="Cordova Library":MAILTO:cfornero-green@cordovalibrary.com
END:VEVENT
BEGIN:VEVENT
DTSTART;TZID=America/Chicago:20300327T090000
DTEND;TZID=America/Chicago:20300327T093000
DTSTAMP:20260424T121315
CREATED:20240808T233504Z
LAST-MODIFIED:20251120T223457Z
UID:10002325-1900832400-1900834200@www.cordovalibrary.com
SUMMARY:Chair Exercise
DESCRIPTION:Join friends for chair exercise. Exercise is led by a DVD instructor.
URL:https://www.cordovalibrary.com/event/chair-exercise/2030-03-27/
LOCATION:Cordova Library\, 402 Main Ave\, Cordova\, IL\, 61242\, United States
CATEGORIES:Adults
ORGANIZER;CN="Cordova Library":MAILTO:cfornero-green@cordovalibrary.com
END:VEVENT
BEGIN:VEVENT
DTSTART;TZID=America/Chicago:20300329T090000
DTEND;TZID=America/Chicago:20300329T093000
DTSTAMP:20260424T121315
CREATED:20240808T233504Z
LAST-MODIFIED:20251120T223457Z
UID:10002326-1901005200-1901007000@www.cordovalibrary.com
SUMMARY:Chair Exercise
DESCRIPTION:Join friends for chair exercise. Exercise is led by a DVD instructor.
URL:https://www.cordovalibrary.com/event/chair-exercise/2030-03-29/
LOCATION:Cordova Library\, 402 Main Ave\, Cordova\, IL\, 61242\, United States
CATEGORIES:Adults
ORGANIZER;CN="Cordova Library":MAILTO:cfornero-green@cordovalibrary.com
END:VEVENT
END:VCALENDAR