BEGIN:VCALENDAR
VERSION:2.0
PRODID:-//Cordova District Library - ECPv6.15.20//NONSGML v1.0//EN
CALSCALE:GREGORIAN
METHOD:PUBLISH
X-WR-CALNAME:Cordova District Library
X-ORIGINAL-URL:https://www.cordovalibrary.com
X-WR-CALDESC:Events for Cordova District Library
REFRESH-INTERVAL;VALUE=DURATION:PT1H
X-Robots-Tag:noindex
X-PUBLISHED-TTL:PT1H
BEGIN:VTIMEZONE
TZID:America/Chicago
BEGIN:DAYLIGHT
TZOFFSETFROM:-0600
TZOFFSETTO:-0500
TZNAME:CDT
DTSTART:20230312T080000
END:DAYLIGHT
BEGIN:STANDARD
TZOFFSETFROM:-0500
TZOFFSETTO:-0600
TZNAME:CST
DTSTART:20231105T070000
END:STANDARD
BEGIN:DAYLIGHT
TZOFFSETFROM:-0600
TZOFFSETTO:-0500
TZNAME:CDT
DTSTART:20240310T080000
END:DAYLIGHT
BEGIN:STANDARD
TZOFFSETFROM:-0500
TZOFFSETTO:-0600
TZNAME:CST
DTSTART:20241103T070000
END:STANDARD
BEGIN:DAYLIGHT
TZOFFSETFROM:-0600
TZOFFSETTO:-0500
TZNAME:CDT
DTSTART:20250309T080000
END:DAYLIGHT
BEGIN:STANDARD
TZOFFSETFROM:-0500
TZOFFSETTO:-0600
TZNAME:CST
DTSTART:20251102T070000
END:STANDARD
END:VTIMEZONE
BEGIN:VEVENT
DTSTART;TZID=America/Chicago:20241202T090000
DTEND;TZID=America/Chicago:20241202T093000
DTSTAMP:20260421T070559
CREATED:20240808T233504Z
LAST-MODIFIED:20251120T223457Z
UID:10000113-1733130000-1733131800@www.cordovalibrary.com
SUMMARY:Chair Exercise
DESCRIPTION:Join friends for chair exercise. Exercise is led by a DVD instructor.
URL:https://www.cordovalibrary.com/event/chair-exercise/2024-12-02/
LOCATION:Cordova Library\, 402 Main Ave\, Cordova\, IL\, 61242\, United States
CATEGORIES:Adults
ORGANIZER;CN="Cordova Library":MAILTO:cfornero-green@cordovalibrary.com
END:VEVENT
BEGIN:VEVENT
DTSTART;TZID=America/Chicago:20241202T120000
DTEND;TZID=America/Chicago:20241202T160000
DTSTAMP:20260421T070559
CREATED:20241104T193954Z
LAST-MODIFIED:20241104T193954Z
UID:10001946-1733140800-1733155200@www.cordovalibrary.com
SUMMARY:Stained Glass Class
DESCRIPTION:Learn to copper foil stained glass in the this four hour class.
URL:https://www.cordovalibrary.com/event/stained-glass-class/
LOCATION:Cordova Library\, 402 Main Ave\, Cordova\, IL\, 61242\, United States
CATEGORIES:Adults
ORGANIZER;CN="Cordova Library":MAILTO:cfornero-green@cordovalibrary.com
END:VEVENT
BEGIN:VEVENT
DTSTART;TZID=America/Chicago:20241203T160000
DTEND;TZID=America/Chicago:20241203T170000
DTSTAMP:20260421T070559
CREATED:20241104T192022Z
LAST-MODIFIED:20250903T203155Z
UID:10002531-1733241600-1733245200@www.cordovalibrary.com
SUMMARY:Crochet
DESCRIPTION:Meet friends to crochet or knit.
URL:https://www.cordovalibrary.com/event/crochet/2024-12-03/
LOCATION:Cordova Library\, 402 Main Ave\, Cordova\, IL\, 61242\, United States
CATEGORIES:Adults
ORGANIZER;CN="Cordova Library":MAILTO:cfornero-green@cordovalibrary.com
END:VEVENT
BEGIN:VEVENT
DTSTART;TZID=America/Chicago:20241204T090000
DTEND;TZID=America/Chicago:20241204T093000
DTSTAMP:20260421T070559
CREATED:20240808T233504Z
LAST-MODIFIED:20251120T223457Z
UID:10000114-1733302800-1733304600@www.cordovalibrary.com
SUMMARY:Chair Exercise
DESCRIPTION:Join friends for chair exercise. Exercise is led by a DVD instructor.
URL:https://www.cordovalibrary.com/event/chair-exercise/2024-12-04/
LOCATION:Cordova Library\, 402 Main Ave\, Cordova\, IL\, 61242\, United States
CATEGORIES:Adults
ORGANIZER;CN="Cordova Library":MAILTO:cfornero-green@cordovalibrary.com
END:VEVENT
BEGIN:VEVENT
DTSTART;TZID=America/Chicago:20241206T090000
DTEND;TZID=America/Chicago:20241206T093000
DTSTAMP:20260421T070559
CREATED:20240808T233504Z
LAST-MODIFIED:20251120T223457Z
UID:10000115-1733475600-1733477400@www.cordovalibrary.com
SUMMARY:Chair Exercise
DESCRIPTION:Join friends for chair exercise. Exercise is led by a DVD instructor.
URL:https://www.cordovalibrary.com/event/chair-exercise/2024-12-06/
LOCATION:Cordova Library\, 402 Main Ave\, Cordova\, IL\, 61242\, United States
CATEGORIES:Adults
ORGANIZER;CN="Cordova Library":MAILTO:cfornero-green@cordovalibrary.com
END:VEVENT
BEGIN:VEVENT
DTSTART;TZID=America/Chicago:20241207T080000
DTEND;TZID=America/Chicago:20241207T113000
DTSTAMP:20260421T070559
CREATED:20241104T195055Z
LAST-MODIFIED:20241104T195055Z
UID:10001947-1733558400-1733571000@www.cordovalibrary.com
SUMMARY:Blood Drive
DESCRIPTION:Impact Life will be at the Cordova Library for a Blood Drive. Sign up here…https://login.bloodcenter.org/donor/schedules/drive_schedule/129242
URL:https://www.cordovalibrary.com/event/blood-drive-3/
LOCATION:Cordova Library\, 402 Main Ave\, Cordova\, IL\, 61242\, United States
CATEGORIES:Adults
ORGANIZER;CN="Cordova Library":MAILTO:cfornero-green@cordovalibrary.com
END:VEVENT
BEGIN:VEVENT
DTSTART;TZID=America/Chicago:20241209T090000
DTEND;TZID=America/Chicago:20241209T093000
DTSTAMP:20260421T070559
CREATED:20240808T233504Z
LAST-MODIFIED:20251120T223457Z
UID:10000116-1733734800-1733736600@www.cordovalibrary.com
SUMMARY:Chair Exercise
DESCRIPTION:Join friends for chair exercise. Exercise is led by a DVD instructor.
URL:https://www.cordovalibrary.com/event/chair-exercise/2024-12-09/
LOCATION:Cordova Library\, 402 Main Ave\, Cordova\, IL\, 61242\, United States
CATEGORIES:Adults
ORGANIZER;CN="Cordova Library":MAILTO:cfornero-green@cordovalibrary.com
END:VEVENT
BEGIN:VEVENT
DTSTART;TZID=America/Chicago:20241210T160000
DTEND;TZID=America/Chicago:20241210T170000
DTSTAMP:20260421T070559
CREATED:20241104T192022Z
LAST-MODIFIED:20250903T203155Z
UID:10002532-1733846400-1733850000@www.cordovalibrary.com
SUMMARY:Crochet
DESCRIPTION:Meet friends to crochet or knit.
URL:https://www.cordovalibrary.com/event/crochet/2024-12-10/
LOCATION:Cordova Library\, 402 Main Ave\, Cordova\, IL\, 61242\, United States
CATEGORIES:Adults
ORGANIZER;CN="Cordova Library":MAILTO:cfornero-green@cordovalibrary.com
END:VEVENT
BEGIN:VEVENT
DTSTART;TZID=America/Chicago:20241211T090000
DTEND;TZID=America/Chicago:20241211T093000
DTSTAMP:20260421T070559
CREATED:20240808T233504Z
LAST-MODIFIED:20251120T223457Z
UID:10000117-1733907600-1733909400@www.cordovalibrary.com
SUMMARY:Chair Exercise
DESCRIPTION:Join friends for chair exercise. Exercise is led by a DVD instructor.
URL:https://www.cordovalibrary.com/event/chair-exercise/2024-12-11/
LOCATION:Cordova Library\, 402 Main Ave\, Cordova\, IL\, 61242\, United States
CATEGORIES:Adults
ORGANIZER;CN="Cordova Library":MAILTO:cfornero-green@cordovalibrary.com
END:VEVENT
BEGIN:VEVENT
DTSTART;TZID=America/Chicago:20241212T130000
DTEND;TZID=America/Chicago:20241212T170000
DTSTAMP:20260421T070559
CREATED:20241104T200323Z
LAST-MODIFIED:20241104T200323Z
UID:10001948-1734008400-1734022800@www.cordovalibrary.com
SUMMARY:Library Open House
DESCRIPTION:Annual open house to celebrate the holidays.
URL:https://www.cordovalibrary.com/event/library-open-house/
LOCATION:Cordova Library\, 402 Main Ave\, Cordova\, IL\, 61242\, United States
CATEGORIES:Adults,Children's,Teens
ORGANIZER;CN="Cordova Library":MAILTO:cfornero-green@cordovalibrary.com
END:VEVENT
BEGIN:VEVENT
DTSTART;TZID=America/Chicago:20241213T090000
DTEND;TZID=America/Chicago:20241213T093000
DTSTAMP:20260421T070559
CREATED:20240808T233504Z
LAST-MODIFIED:20251120T223457Z
UID:10000118-1734080400-1734082200@www.cordovalibrary.com
SUMMARY:Chair Exercise
DESCRIPTION:Join friends for chair exercise. Exercise is led by a DVD instructor.
URL:https://www.cordovalibrary.com/event/chair-exercise/2024-12-13/
LOCATION:Cordova Library\, 402 Main Ave\, Cordova\, IL\, 61242\, United States
CATEGORIES:Adults
ORGANIZER;CN="Cordova Library":MAILTO:cfornero-green@cordovalibrary.com
END:VEVENT
BEGIN:VEVENT
DTSTART;TZID=America/Chicago:20241216T090000
DTEND;TZID=America/Chicago:20241216T093000
DTSTAMP:20260421T070559
CREATED:20240808T233504Z
LAST-MODIFIED:20251120T223457Z
UID:10000119-1734339600-1734341400@www.cordovalibrary.com
SUMMARY:Chair Exercise
DESCRIPTION:Join friends for chair exercise. Exercise is led by a DVD instructor.
URL:https://www.cordovalibrary.com/event/chair-exercise/2024-12-16/
LOCATION:Cordova Library\, 402 Main Ave\, Cordova\, IL\, 61242\, United States
CATEGORIES:Adults
ORGANIZER;CN="Cordova Library":MAILTO:cfornero-green@cordovalibrary.com
END:VEVENT
BEGIN:VEVENT
DTSTART;TZID=America/Chicago:20241216T130000
DTEND;TZID=America/Chicago:20241216T140000
DTSTAMP:20260421T070559
CREATED:20241104T200444Z
LAST-MODIFIED:20241104T200444Z
UID:10001949-1734354000-1734357600@www.cordovalibrary.com
SUMMARY:Make it Monday-Flowers
DESCRIPTION:Make a fresh flower arrangement for the holidays.
URL:https://www.cordovalibrary.com/event/make-it-monday-flowers/
LOCATION:Cordova Library\, 402 Main Ave\, Cordova\, IL\, 61242\, United States
CATEGORIES:Adults
ORGANIZER;CN="Cordova Library":MAILTO:cfornero-green@cordovalibrary.com
END:VEVENT
BEGIN:VEVENT
DTSTART;TZID=America/Chicago:20241217T090000
DTEND;TZID=America/Chicago:20241217T110000
DTSTAMP:20260421T070559
CREATED:20241104T200533Z
LAST-MODIFIED:20241104T200533Z
UID:10001950-1734426000-1734433200@www.cordovalibrary.com
SUMMARY:Art with Cheryl
DESCRIPTION:This month\, Cheryl Lennox will be teaching painting on wood ornaments.
URL:https://www.cordovalibrary.com/event/art-with-cheryl-2/
LOCATION:Cordova Library\, 402 Main Ave\, Cordova\, IL\, 61242\, United States
CATEGORIES:Adults
ORGANIZER;CN="Cordova Library":MAILTO:cfornero-green@cordovalibrary.com
END:VEVENT
BEGIN:VEVENT
DTSTART;TZID=America/Chicago:20241217T160000
DTEND;TZID=America/Chicago:20241217T170000
DTSTAMP:20260421T070559
CREATED:20241104T192022Z
LAST-MODIFIED:20250903T203155Z
UID:10002533-1734451200-1734454800@www.cordovalibrary.com
SUMMARY:Crochet
DESCRIPTION:Meet friends to crochet or knit.
URL:https://www.cordovalibrary.com/event/crochet/2024-12-17/
LOCATION:Cordova Library\, 402 Main Ave\, Cordova\, IL\, 61242\, United States
CATEGORIES:Adults
ORGANIZER;CN="Cordova Library":MAILTO:cfornero-green@cordovalibrary.com
END:VEVENT
BEGIN:VEVENT
DTSTART;TZID=America/Chicago:20241218T090000
DTEND;TZID=America/Chicago:20241218T093000
DTSTAMP:20260421T070559
CREATED:20240808T233504Z
LAST-MODIFIED:20251120T223457Z
UID:10000120-1734512400-1734514200@www.cordovalibrary.com
SUMMARY:Chair Exercise
DESCRIPTION:Join friends for chair exercise. Exercise is led by a DVD instructor.
URL:https://www.cordovalibrary.com/event/chair-exercise/2024-12-18/
LOCATION:Cordova Library\, 402 Main Ave\, Cordova\, IL\, 61242\, United States
CATEGORIES:Adults
ORGANIZER;CN="Cordova Library":MAILTO:cfornero-green@cordovalibrary.com
END:VEVENT
BEGIN:VEVENT
DTSTART;TZID=America/Chicago:20241218T180000
DTEND;TZID=America/Chicago:20241218T190000
DTSTAMP:20260421T070559
CREATED:20240809T003445Z
LAST-MODIFIED:20240809T003556Z
UID:10001492-1734544800-1734548400@www.cordovalibrary.com
SUMMARY:American Legion Meeting
DESCRIPTION:Monthly meeting of the American Legion Post 1033.
URL:https://www.cordovalibrary.com/event/american-legion-meeting/2024-12-18/
LOCATION:Cordova Library\, 402 Main Ave\, Cordova\, IL\, 61242\, United States
CATEGORIES:Adults
ORGANIZER;CN="Cordova Library":MAILTO:cfornero-green@cordovalibrary.com
END:VEVENT
BEGIN:VEVENT
DTSTART;TZID=America/Chicago:20241220T090000
DTEND;TZID=America/Chicago:20241220T093000
DTSTAMP:20260421T070559
CREATED:20240808T233504Z
LAST-MODIFIED:20251120T223457Z
UID:10000121-1734685200-1734687000@www.cordovalibrary.com
SUMMARY:Chair Exercise
DESCRIPTION:Join friends for chair exercise. Exercise is led by a DVD instructor.
URL:https://www.cordovalibrary.com/event/chair-exercise/2024-12-20/
LOCATION:Cordova Library\, 402 Main Ave\, Cordova\, IL\, 61242\, United States
CATEGORIES:Adults
ORGANIZER;CN="Cordova Library":MAILTO:cfornero-green@cordovalibrary.com
END:VEVENT
BEGIN:VEVENT
DTSTART;TZID=America/Chicago:20241223T090000
DTEND;TZID=America/Chicago:20241223T093000
DTSTAMP:20260421T070559
CREATED:20240808T233504Z
LAST-MODIFIED:20251120T223457Z
UID:10000122-1734944400-1734946200@www.cordovalibrary.com
SUMMARY:Chair Exercise
DESCRIPTION:Join friends for chair exercise. Exercise is led by a DVD instructor.
URL:https://www.cordovalibrary.com/event/chair-exercise/2024-12-23/
LOCATION:Cordova Library\, 402 Main Ave\, Cordova\, IL\, 61242\, United States
CATEGORIES:Adults
ORGANIZER;CN="Cordova Library":MAILTO:cfornero-green@cordovalibrary.com
END:VEVENT
BEGIN:VEVENT
DTSTART;VALUE=DATE:20241224
DTEND;VALUE=DATE:20241225
DTSTAMP:20260421T070559
CREATED:20241104T200715Z
LAST-MODIFIED:20241104T200715Z
UID:10001952-1734998400-1735084799@www.cordovalibrary.com
SUMMARY:Library Closed
DESCRIPTION:Library is closed for Christmas Eve.
URL:https://www.cordovalibrary.com/event/library-closed-3/
LOCATION:Cordova Library\, 402 Main Ave\, Cordova\, IL\, 61242\, United States
CATEGORIES:Adults,Children's,Teens
ORGANIZER;CN="Cordova Library":MAILTO:cfornero-green@cordovalibrary.com
END:VEVENT
BEGIN:VEVENT
DTSTART;VALUE=DATE:20241225
DTEND;VALUE=DATE:20241226
DTSTAMP:20260421T070559
CREATED:20241104T200747Z
LAST-MODIFIED:20241104T200747Z
UID:10001953-1735084800-1735171199@www.cordovalibrary.com
SUMMARY:Library Closed
DESCRIPTION:Library is closed for Christmas.
URL:https://www.cordovalibrary.com/event/library-closed-4/
LOCATION:Cordova Library\, 402 Main Ave\, Cordova\, IL\, 61242\, United States
CATEGORIES:Adults,Children's,Teens
ORGANIZER;CN="Cordova Library":MAILTO:cfornero-green@cordovalibrary.com
END:VEVENT
BEGIN:VEVENT
DTSTART;TZID=America/Chicago:20241226T080000
DTEND;TZID=America/Chicago:20241226T170000
DTSTAMP:20260421T070559
CREATED:20240809T003153Z
LAST-MODIFIED:20251120T223600Z
UID:10001371-1735200000-1735232400@www.cordovalibrary.com
SUMMARY:Do Your Own Thing
DESCRIPTION:Work on a project with friends! Bring a dish to pass for lunch.
URL:https://www.cordovalibrary.com/event/do-your-own-thing-2/2024-12-26/
LOCATION:Cordova Library\, 402 Main Ave\, Cordova\, IL\, 61242\, United States
CATEGORIES:Adults
ORGANIZER;CN="Cordova Library":MAILTO:cfornero-green@cordovalibrary.com
END:VEVENT
BEGIN:VEVENT
DTSTART;TZID=America/Chicago:20241227T090000
DTEND;TZID=America/Chicago:20241227T093000
DTSTAMP:20260421T070559
CREATED:20240808T233504Z
LAST-MODIFIED:20251120T223457Z
UID:10000124-1735290000-1735291800@www.cordovalibrary.com
SUMMARY:Chair Exercise
DESCRIPTION:Join friends for chair exercise. Exercise is led by a DVD instructor.
URL:https://www.cordovalibrary.com/event/chair-exercise/2024-12-27/
LOCATION:Cordova Library\, 402 Main Ave\, Cordova\, IL\, 61242\, United States
CATEGORIES:Adults
ORGANIZER;CN="Cordova Library":MAILTO:cfornero-green@cordovalibrary.com
END:VEVENT
BEGIN:VEVENT
DTSTART;TZID=America/Chicago:20241230T090000
DTEND;TZID=America/Chicago:20241230T093000
DTSTAMP:20260421T070559
CREATED:20240808T233504Z
LAST-MODIFIED:20251120T223457Z
UID:10000125-1735549200-1735551000@www.cordovalibrary.com
SUMMARY:Chair Exercise
DESCRIPTION:Join friends for chair exercise. Exercise is led by a DVD instructor.
URL:https://www.cordovalibrary.com/event/chair-exercise/2024-12-30/
LOCATION:Cordova Library\, 402 Main Ave\, Cordova\, IL\, 61242\, United States
CATEGORIES:Adults
ORGANIZER;CN="Cordova Library":MAILTO:cfornero-green@cordovalibrary.com
END:VEVENT
BEGIN:VEVENT
DTSTART;VALUE=DATE:20241231
DTEND;VALUE=DATE:20250101
DTSTAMP:20260421T070559
CREATED:20241104T201144Z
LAST-MODIFIED:20241104T201144Z
UID:10001955-1735603200-1735689599@www.cordovalibrary.com
SUMMARY:Library Closed
DESCRIPTION:Library is closed for New Years Eve.
URL:https://www.cordovalibrary.com/event/library-closed-5/
LOCATION:IL
CATEGORIES:Adults,Children's,Teens
END:VEVENT
END:VCALENDAR